From mboxrd@z Thu Jan 1 00:00:00 1970 Return-Path: Received: from mails.dpdk.org (mails.dpdk.org [217.70.189.124]) by inbox.dpdk.org (Postfix) with ESMTP id CA5834675A for ; Fri, 16 May 2025 01:05:37 +0200 (CEST) Received: from mails.dpdk.org (localhost [127.0.0.1]) by mails.dpdk.org (Postfix) with ESMTP id BA1C040144; Fri, 16 May 2025 01:05:37 +0200 (CEST) Received: from mail-pg1-f226.google.com (mail-pg1-f226.google.com [209.85.215.226]) by mails.dpdk.org (Postfix) with ESMTP id A6F38400EF for ; Fri, 16 May 2025 01:05:35 +0200 (CEST) Received: by mail-pg1-f226.google.com with SMTP id 41be03b00d2f7-b20d46fcc86so1420005a12.3 for ; Thu, 15 May 2025 16:05:35 -0700 (PDT) DKIM-Signature: v=1; a=rsa-sha256; c=relaxed/relaxed; d=iol.unh.edu; s=unh-iol; t=1747350335; x=1747955135; darn=dpdk.org; h=references:in-reply-to:cc:to:from:subject:message-id:date:from:to :cc:subject:date:message-id:reply-to; bh=8b7rY+EpoOt0zCkmZqxp6fwmu9kQiLlTxGrpFhtJCAg=; b=caYX6iH6K5Hb+gaavgzqldmzaHjA/zQkcmmpWbKaDWz//wlHkaI8slDRW1C1KULCD3 PCKAC2tva3w5PdKtaoSHyTizmVlsrsQTSHsMqCNaCXlxIIN3kB8RTTWJSGdzYeKXwfit s1TDgB710CIvJjpxz36IcyDXxkrd4R0uEXPVQ= X-Google-DKIM-Signature: v=1; a=rsa-sha256; c=relaxed/relaxed; d=1e100.net; s=20230601; t=1747350335; x=1747955135; h=references:in-reply-to:cc:to:from:subject:message-id:date :x-gm-message-state:from:to:cc:subject:date:message-id:reply-to; bh=8b7rY+EpoOt0zCkmZqxp6fwmu9kQiLlTxGrpFhtJCAg=; b=ndl2Yx4ZbPanZMY1Cl1t4BZ6J30B1DN8U2htlEGy6Uu5fzaVBuJIHbkBSx630Zis1u agPzFdr6kZKYBswEc7n5exF56dIKPnAGN2s1cRfkmT/GnKspQ/cYakfxIlXdE+jU78BH LmCMXYGvGHAvXkNMRNe9jKfgV/VMiGWNmaeQOHm3snzWVXT1HcvtqXa5xEYQyXtdMig0 A7Hsx7fyLrNdUtxzUf2jT++YP9Oo4PE+LNEPFab0njAe5IqN9fQuxZHf4YPm2wryJ14f MK22dOOE/pB9e64vsf7rsB0zB6IWT85UTpozIJ7YPaYZv8pZ6gUbBhUv6o8f8LNxfa1+ 4FTw== X-Gm-Message-State: AOJu0Yw0JXfUzEQ8QN1yLg3xod/RQwVWTrhu1uUya+wIPpH/tdoKMrE0 YP20gdQ3ZPKUKQTvt9DA9mj2TzEekY7Sds7mkBNPRsZFdLKnP4rErJyi7ivUXQSRNFA5yIRr8rW 1pZH+vRyYc0E4PRzTeG2TBm1FZRsuV35a0lkyRf6fynlR X-Gm-Gg: ASbGncubPP5+7KzH9nph0xQsvJa4cGM2TRmIi2RoaXD+EhPHu6wx3xKw9YuLiqELy+t gp5jDIPt1/QpAsi+4lXkRU2LNzOzew8cMzciN1mUUK7V5YUR5DB7GmZXg7NL8TIxfMf5aOz0zUz RsIZfoPfRr4RKzCKy5PQQeWUG38dvqIoPFfYEBmaUqF6UYng2KsH66AuWhjm6za7gdh8o/syqD4 NX0T7187hv26CpN5rSCR9KPkFDYXvMEMqSVY9Fch1+bHKcLmWGlv8VW1ZtvRjs0ylampAwXWt2K tuTIcrqHL1xL3W3TJEtGZx8b7tpHE/bGHvYnt2sEd+MrvQaaiBqbSHUqRgk= X-Google-Smtp-Source: AGHT+IFFHVNZJim0ylGRZu93C/aFiL9xLsjrnfXAzWPdpwV7DiawqZbl9B0G0Gu2NxPoocCVEYKa2jey+WWJ X-Received: by 2002:a17:902:ea0d:b0:231:c9d1:962f with SMTP id d9443c01a7336-231d43c3e8amr15756805ad.29.1747350334808; Thu, 15 May 2025 16:05:34 -0700 (PDT) Received: from postal.iol.unh.edu (postal.iol.unh.edu. [132.177.123.84]) by smtp-relay.gmail.com with ESMTPS id d9443c01a7336-231d4aa746csm348165ad.15.2025.05.15.16.05.34 (version=TLS1_2 cipher=ECDHE-ECDSA-AES128-GCM-SHA256 bits=128/128); Thu, 15 May 2025 16:05:34 -0700 (PDT) X-Relaying-Domain: iol.unh.edu Date: Thu, 15 May 2025 16:05:34 -0700 (PDT) Message-ID: <6826733e.170a0220.4390c.1d57SMTPIN_ADDED_MISSING@mx.google.com> Received: from [172.21.0.5] (unknown [172.18.0.240]) by postal.iol.unh.edu (Postfix) with ESMTP id 44EEA6052471; Thu, 15 May 2025 19:05:34 -0400 (EDT) Subject: |SUCCESS| pw153458 [PATCH] [v2] net/ice: fix flow creation failure From: dpdklab@iol.unh.edu To: Test Report Cc: dpdk-test-reports@iol.unh.edu In-Reply-To: <20250515112348.7746-1-dhanya.r.pillai@intel.com> References: <20250515112348.7746-1-dhanya.r.pillai@intel.com> Content-Type: text/plain X-BeenThere: test-report@dpdk.org X-Mailman-Version: 2.1.29 Precedence: list List-Id: automatic DPDK test reports List-Unsubscribe: , List-Archive: List-Post: List-Help: List-Subscribe: , Errors-To: test-report-bounces@dpdk.org Test-Label: iol-unit-amd64-testing Test-Status: SUCCESS http://dpdk.org/patch/153458 _Testing PASS_ Submitter: Dhanya Pillai Date: Thursday, May 15 2025 11:23:44 DPDK git baseline: Repo:dpdk Branch: master CommitID:51e889518fc861f1af5acbbc133a75203225655c 153458 --> testing pass Upstream job id: Generic-VM-Unit-Test-DPDK#28548 Test environment and result as below: +---------------------+----------------+ | Environment | dpdk_unit_test | +=====================+================+ | Fedora 40 | PASS | +---------------------+----------------+ | CentOS Stream 10 | PASS | +---------------------+----------------+ | Debian 12 | PASS | +---------------------+----------------+ | Fedora 40 (Clang) | PASS | +---------------------+----------------+ | Fedora 41 | PASS | +---------------------+----------------+ | Fedora 41 (Clang) | PASS | +---------------------+----------------+ | CentOS Stream 9 | PASS | +---------------------+----------------+ | RHEL9 | PASS | +---------------------+----------------+ | RHEL8 | PASS | +---------------------+----------------+ | Ubuntu 20.04 | PASS | +---------------------+----------------+ | Ubuntu 24.04 | PASS | +---------------------+----------------+ | Ubuntu 22.04 | PASS | +---------------------+----------------+ | Windows Server 2022 | PASS | +---------------------+----------------+ Fedora 40 Kernel: Depends on container host Compiler: gcc 14.2.1 20240912 (Red Hat 14.2.1-3) CentOS Stream 10 Kernel: Depends on container host Compiler: gcc 14.2.1 20241104 (Red Hat 14.2.1-6) Debian 12 Kernel: Depends on container host Compiler: gcc (Debian 12.2.0-14) 12.2.0 Fedora 40 (Clang) Kernel: Depends on container host Compiler: clang 18.1.8 (Fedora 18.1.8-1.fc40) Fedora 41 Kernel: Depends on container host Compiler: gcc 14.2.1 20240912 (Red Hat 14.2.1-3) Fedora 41 (Clang) Kernel: Depends on container host Compiler: clang 19.1.5 (Fedora 19.1.5-1.fc41) CentOS Stream 9 Kernel: Depends on container host Compiler: gcc 11.5.0 20240719 (Red Hat 11.5.0-2) RHEL9 Kernel: Depends on container host Compiler: gcc 11.5.0 20240719 (Red Hat 11.5.0-2) RHEL8 Kernel: Depends on container host Compiler: gcc 8.5.0 20210514 (Red Hat 8.5.0-22) Ubuntu 20.04 Kernel: Depends on container host Compiler: gcc (Ubuntu 9.4.0-1ubuntu1~20.04.2) 9.4.0 Ubuntu 24.04 Kernel: Depends on container host Compiler: gcc (Ubuntu 13.3.0-6ubuntu2~24.04) 13.3.0 Ubuntu 22.04 Kernel: Depends on container host Compiler: gcc (Ubuntu 11.4.0-1ubuntu1~22.04) 11.4.0 Windows Server 2022 Kernel: 10.0.20348.2031 Compiler: clang 15.0.7, gcc 14.1.0 (MinGW), and MSVC VS 19.39.33521 To view detailed results, visit: https://lab.dpdk.org/results/dashboard/patchsets/33181/ UNH-IOL DPDK Community Lab To manage your email subscriptions, visit: https://lab.dpdk.org/results/dashboard/preferences/subscriptions/