From mboxrd@z Thu Jan 1 00:00:00 1970 Return-Path: Received: from mails.dpdk.org (mails.dpdk.org [217.70.189.124]) by inbox.dpdk.org (Postfix) with ESMTP id 383AB4675A for ; Fri, 16 May 2025 01:09:01 +0200 (CEST) Received: from mails.dpdk.org (localhost [127.0.0.1]) by mails.dpdk.org (Postfix) with ESMTP id 173D440144; Fri, 16 May 2025 01:09:01 +0200 (CEST) Received: from mail-yw1-f226.google.com (mail-yw1-f226.google.com [209.85.128.226]) by mails.dpdk.org (Postfix) with ESMTP id B7E96400EF for ; Fri, 16 May 2025 01:08:59 +0200 (CEST) Received: by mail-yw1-f226.google.com with SMTP id 00721157ae682-70811611315so13549387b3.1 for ; Thu, 15 May 2025 16:08:59 -0700 (PDT) DKIM-Signature: v=1; a=rsa-sha256; c=relaxed/relaxed; d=iol.unh.edu; s=unh-iol; t=1747350539; x=1747955339; darn=dpdk.org; h=references:in-reply-to:cc:to:from:subject:message-id:date:from:to :cc:subject:date:message-id:reply-to; bh=KVcwC7GDyBzjVlEujuYnnF/hzYajdOkyaLwLRfUwG4U=; b=JvKkXJhQVJVbI4xUWRdUtfrNY5ZFHgNSqHPNqI+aBeuaHJfOPCnwCi6OD2k+NEWpAJ pe380pfhAfc8y+6HPoLDxtuuSHHhcZQrlUTQbDMs+dp42ydTjQHOOOG1IvQdc04lTBCA uTUN9j9kw9c/jfuLwkIu9/2BqEnvEJLRYvnhw= X-Google-DKIM-Signature: v=1; a=rsa-sha256; c=relaxed/relaxed; d=1e100.net; s=20230601; t=1747350539; x=1747955339; h=references:in-reply-to:cc:to:from:subject:message-id:date :x-gm-message-state:from:to:cc:subject:date:message-id:reply-to; bh=KVcwC7GDyBzjVlEujuYnnF/hzYajdOkyaLwLRfUwG4U=; b=BjZKYafwv2HeDJoCfffJ6RdlrAdFwBjcmugi7LbM6mZT2rGCAChLWzj1WHSH322gL1 O+1spdLazk2hQjoyPdJ/geJyKpF2v5sLl/Zu4yg8+XmObqgijz2Pzk8nu3ZS0p8WgM4u 9hevGWUUNQ+yPelLhGyeJdRxhy88ycQuYmHpSC9NvVuGRMz7qHFagMmQ/POAPpeZ2puN +AFEdKd0BLBXeadQA0ttxGnmQ0t6JLyNLUGzl3JISi0vhHWX3oCr+NxtMeAP5nDTUtQH v0F7S7pkHyBJ4KK/thm+/mVuZ2t0zv7B+NG24l2hK5SKM7Eu5zH3XzLlns6fxXsaLo0t Gd8A== X-Gm-Message-State: AOJu0YylK9RzvkuucBr+tiFpiHrTrxc1MCmoocj5ilC7lbYKOiL/fEg8 ATr75tsPqx9K9Nwn01XlMvWxGU6FcJh3cGQRnZP8Wj5mM9JzsS1dffZqppeKuDoX3Ym8+IC51pD KwgI47FegfTNP+EVqUzAFQDBZINJujzAtO7g/wNondWZs X-Gm-Gg: ASbGncu3Ke3PR383nawf9W9swQBnKb83b4cFus4JZQ6XzVvBcOMr6/tdXIlPnkskr4e LcDFhGDaduS24DV5IvY1/CGsFAnkJtli3UENW6t7qzmAWLrXDVqvp1wjjRL0Y7IgREFIdrAl538 a0PEItam+lfM9ETxN1UtksX/AbB5HY0sqBWJPw+ndS1uZPIYtPS3q8XAugV57fwWAEyXct0zrHC 4G8OEfU7wZ8waArMocOg15yrxsvwlNVPYIlA9ndtLdrckWn16nlkfmfRnZAE9At+41o5s800pHP CbcHa9LwGOuOk80FtZkwx09aE0xbtEjKwRJOlaewR+/D8TVwlP4hOEhbAz8= X-Google-Smtp-Source: AGHT+IHfLKOOr8mLu9Mxm6/O2k1DRdgjd65NK22bfE9jhVwQVzk65YVSM5XxG1F7ctEUPRWxi+T2JmGQYcFR X-Received: by 2002:a05:690c:4c11:b0:709:176d:2d3 with SMTP id 00721157ae682-70caaf3a930mr7956777b3.5.1747350538806; Thu, 15 May 2025 16:08:58 -0700 (PDT) Received: from postal.iol.unh.edu (postal.iol.unh.edu. [132.177.123.84]) by smtp-relay.gmail.com with ESMTPS id 00721157ae682-70ca8324d1fsm213697b3.23.2025.05.15.16.08.58 (version=TLS1_2 cipher=ECDHE-ECDSA-AES128-GCM-SHA256 bits=128/128); Thu, 15 May 2025 16:08:58 -0700 (PDT) X-Relaying-Domain: iol.unh.edu Date: Thu, 15 May 2025 16:08:58 -0700 (PDT) Message-ID: <6826740a.050a0220.2a995e.1266SMTPIN_ADDED_MISSING@mx.google.com> Received: from [172.21.0.6] (unknown [172.18.0.240]) by postal.iol.unh.edu (Postfix) with ESMTP id 6C75A6052471; Thu, 15 May 2025 19:08:58 -0400 (EDT) Subject: |SUCCESS| pw153461-153462 [PATCH] [2/2] test/power_intel_uncore: ski From: dpdklab@iol.unh.edu To: Test Report Cc: dpdk-test-reports@iol.unh.edu In-Reply-To: <20250515165854.1087247-2-bruce.richardson@intel.com> References: <20250515165854.1087247-2-bruce.richardson@intel.com> Content-Type: text/plain X-BeenThere: test-report@dpdk.org X-Mailman-Version: 2.1.29 Precedence: list List-Id: automatic DPDK test reports List-Unsubscribe: , List-Archive: List-Post: List-Help: List-Subscribe: , Errors-To: test-report-bounces@dpdk.org Test-Label: iol-abi-testing Test-Status: SUCCESS http://dpdk.org/patch/153462 _Testing PASS_ Submitter: Bruce Richardson Date: Thursday, May 15 2025 16:58:54 DPDK git baseline: Repo:dpdk Branch: master CommitID:dcf9f9363aa9b4163d241caf8b26a84ca0c0006b 153461-153462 --> testing pass Upstream job id: Generic-DPDK-Compile-ABI#126540 Test environment and result as below: +-------------------+----------+ | Environment | abi_test | +===================+==========+ | CentOS Stream 9 | PASS | +-------------------+----------+ | Debian 12 | PASS | +-------------------+----------+ | CentOS Stream 10 | PASS | +-------------------+----------+ | Fedora 41 | PASS | +-------------------+----------+ | Fedora 40 (Clang) | PASS | +-------------------+----------+ | Fedora 40 | PASS | +-------------------+----------+ | Fedora 41 (Clang) | PASS | +-------------------+----------+ | Ubuntu 24.04 | PASS | +-------------------+----------+ | RHEL9 | PASS | +-------------------+----------+ | Ubuntu 22.04 | PASS | +-------------------+----------+ | RHEL8 | PASS | +-------------------+----------+ | openSUSE Leap 15 | PASS | +-------------------+----------+ CentOS Stream 9 Kernel: Depends on container host Compiler: gcc 11.5.0 20240719 (Red Hat 11.5.0-2) Debian 12 Kernel: Depends on container host Compiler: gcc (Debian 12.2.0-14) 12.2.0 CentOS Stream 10 Kernel: Depends on container host Compiler: gcc 14.2.1 20241104 (Red Hat 14.2.1-6) Fedora 41 Kernel: Depends on container host Compiler: gcc 14.2.1 20240912 (Red Hat 14.2.1-3) Fedora 40 (Clang) Kernel: Depends on container host Compiler: clang 18.1.8 (Fedora 18.1.8-1.fc40) Fedora 40 Kernel: Depends on container host Compiler: gcc 14.2.1 20240912 (Red Hat 14.2.1-3) Fedora 41 (Clang) Kernel: Depends on container host Compiler: clang 19.1.5 (Fedora 19.1.5-1.fc41) Ubuntu 24.04 Kernel: Depends on container host Compiler: gcc (Ubuntu 13.3.0-6ubuntu2~24.04) 13.3.0 RHEL9 Kernel: Depends on container host Compiler: gcc 11.5.0 20240719 (Red Hat 11.5.0-2) Ubuntu 22.04 Kernel: Depends on container host Compiler: gcc (Ubuntu 11.4.0-1ubuntu1~22.04) 11.4.0 RHEL8 Kernel: Depends on container host Compiler: gcc 8.5.0 20210514 (Red Hat 8.5.0-22) openSUSE Leap 15 Kernel: Depends on container host Compiler: gcc (SUSE Linux) 7.5.0 To view detailed results, visit: https://lab.dpdk.org/results/dashboard/patchsets/33184/ UNH-IOL DPDK Community Lab To manage your email subscriptions, visit: https://lab.dpdk.org/results/dashboard/preferences/subscriptions/