From mboxrd@z Thu Jan 1 00:00:00 1970 Return-Path: Received: from mails.dpdk.org (mails.dpdk.org [217.70.189.124]) by inbox.dpdk.org (Postfix) with ESMTP id 285984675A for ; Fri, 16 May 2025 01:17:45 +0200 (CEST) Received: from mails.dpdk.org (localhost [127.0.0.1]) by mails.dpdk.org (Postfix) with ESMTP id 114D440144; Fri, 16 May 2025 01:17:45 +0200 (CEST) Received: from mail-io1-f99.google.com (mail-io1-f99.google.com [209.85.166.99]) by mails.dpdk.org (Postfix) with ESMTP id B042B400EF for ; Fri, 16 May 2025 01:17:44 +0200 (CEST) Received: by mail-io1-f99.google.com with SMTP id ca18e2360f4ac-85b3f92c8dfso52587939f.2 for ; Thu, 15 May 2025 16:17:44 -0700 (PDT) DKIM-Signature: v=1; a=rsa-sha256; c=relaxed/relaxed; d=iol.unh.edu; s=unh-iol; t=1747351064; x=1747955864; darn=dpdk.org; h=references:in-reply-to:cc:to:from:subject:message-id:date:from:to :cc:subject:date:message-id:reply-to; bh=v2PVxTNziHlEemExOWB2srVd5jLgltDtCfm5z714WUk=; b=RGydNrNaAyIdTakgxTza1voaOfkCmQlcpZKqtMLW/KJ6K2hGIy5Dt0x8+3AZiGVIze GICaEiHQ6ymPabd/3X48r0EMTHH+Uobc9Q6JXcMZIN6iLEZB1Kw0LcjkUjvwTpMXx/g+ oFMqoOkRlhyVBu4RwWbbsf2B2yVPmxBviJ+aw= X-Google-DKIM-Signature: v=1; a=rsa-sha256; c=relaxed/relaxed; d=1e100.net; s=20230601; t=1747351064; x=1747955864; h=references:in-reply-to:cc:to:from:subject:message-id:date :x-gm-message-state:from:to:cc:subject:date:message-id:reply-to; bh=v2PVxTNziHlEemExOWB2srVd5jLgltDtCfm5z714WUk=; b=jV+kvx6xyCzw4woCpDW+JlZGIhLKotXrpLmG5Z9FMBs/rHpAzxkMdC49TwFTDulIyU Y1Ek54txRgg2pM0SUpVd/FcbevF9PO201kIpF3XRV5ZzHuUD+UFDXDSnMBAzET7PvVVS sHlixaMWtEDX0O06snbWu9grGuZSULaTyAsG3nJTSYiJ746YlasqKIuQWJcz2jlTQpRI 9sKY302kyf8y278z3F4bJcrg/zWcXTTEFktEHTc5m+vhCuu71Y+/MRiy0246xRN9Cv/6 Bbgzlx2CY3F+ahfmDfwfj4HTx1Icpo9hEH1fTJ9lfHZXwap26Mr3J28vIj9bKJPY3WnB Le9A== X-Gm-Message-State: AOJu0Ywx28iMzkvPeIOYGl/zufoeO4r7xV/mJpgWwktIFrVPoCkwpF4B c8gmbCCV2kKWzP2SEY6Sd/LwQrAivTUZ8RFKDpfAUfvgBXcXu2fmkzliVChLJfBXpnYlJOj/i2T ZajjRBA5U48LuwHB+/Om2eYVVs20tkYupxArP1yPYCKJVbcOJGD+dVSu9RMad X-Gm-Gg: ASbGnctnK/DO9zUPkuFF75HbWBM4LF1qDNpoOUkU5GVyogkLDjYNU3e5IM3aLYxzhHq OGM0C+xasZS6NYPS+xSJJdI15PH5s4m0sScWQCKtBGr7K6RqctSP2T5h520+oM6pkjim0b7QNBV f1ej4i2KSRnWqjgVG+qL5Ibvo1TjilGuEiOyvkVvY8VBEB9MIopginCYFyifqNIdbLWQ/QjnCzj ubrkkUu/8dmnGONWYEPWAggtHs4Yrm+kdkqv6Hsj2eDuWZ54CNEUJYR72p3eM++8wp4lr2Rek6N J7k4+Lc9ONpvt9p03miejlkqxwt5Er4K5IwM X-Google-Smtp-Source: AGHT+IEGoz704Vrc+bRjjFFOlpyMdx1632AoC5XYcevybdJ2PEYOvTjjZc6jtyO6+Pm2TkLFpwwpNlCWNYl0 X-Received: by 2002:a05:6602:370d:b0:85b:3fda:7dbf with SMTP id ca18e2360f4ac-86a2322a730mr254959439f.9.1747351063938; Thu, 15 May 2025 16:17:43 -0700 (PDT) Received: from postal.iol.unh.edu (postal.iol.unh.edu. [2606:4100:3880:1234::84]) by smtp-relay.gmail.com with ESMTPS id ca18e2360f4ac-86a23795871sm2814039f.29.2025.05.15.16.17.43 (version=TLS1_2 cipher=ECDHE-ECDSA-AES128-GCM-SHA256 bits=128/128); Thu, 15 May 2025 16:17:43 -0700 (PDT) X-Relaying-Domain: iol.unh.edu Date: Thu, 15 May 2025 16:17:43 -0700 (PDT) Message-ID: <68267617.050a0220.2c39a2.1776SMTPIN_ADDED_MISSING@mx.google.com> Received: from [172.21.0.5] (unknown [172.18.0.240]) by postal.iol.unh.edu (Postfix) with ESMTP id 4E86F6052471; Thu, 15 May 2025 19:17:43 -0400 (EDT) Subject: |SUCCESS| pw153461-153462 [PATCH] [2/2] test/power_intel_uncore: ski From: dpdklab@iol.unh.edu To: Test Report Cc: dpdk-test-reports@iol.unh.edu In-Reply-To: <20250515165854.1087247-2-bruce.richardson@intel.com> References: <20250515165854.1087247-2-bruce.richardson@intel.com> Content-Type: text/plain X-BeenThere: test-report@dpdk.org X-Mailman-Version: 2.1.29 Precedence: list List-Id: automatic DPDK test reports List-Unsubscribe: , List-Archive: List-Post: List-Help: List-Subscribe: , Errors-To: test-report-bounces@dpdk.org Test-Label: iol-unit-arm64-testing Test-Status: SUCCESS http://dpdk.org/patch/153462 _Testing PASS_ Submitter: Bruce Richardson Date: Thursday, May 15 2025 16:58:54 DPDK git baseline: Repo:dpdk Branch: master CommitID:dcf9f9363aa9b4163d241caf8b26a84ca0c0006b 153461-153462 --> testing pass Upstream job id: Generic-Unit-Test-DPDK#338174 Test environment and result as below: +-----------------------------+----------------+---------------------------+--------------+------------------------------+ | Environment | dpdk_unit_test | cryptodev_sw_zuc_autotest | lpm_autotest | cryptodev_sw_snow3g_autotest | +=============================+================+===========================+==============+==============================+ | CentOS Stream 9 (ARM) | PASS | SKIPPED | SKIPPED | SKIPPED | +-----------------------------+----------------+---------------------------+--------------+------------------------------+ | CentOS Stream 10 (ARM) | PASS | SKIPPED | SKIPPED | SKIPPED | +-----------------------------+----------------+---------------------------+--------------+------------------------------+ | Debian 12 (arm) | PASS | PASS | SKIPPED | PASS | +-----------------------------+----------------+---------------------------+--------------+------------------------------+ | Fedora 41 (ARM) | PASS | SKIPPED | SKIPPED | SKIPPED | +-----------------------------+----------------+---------------------------+--------------+------------------------------+ | Fedora 40 (ARM) | PASS | SKIPPED | SKIPPED | SKIPPED | +-----------------------------+----------------+---------------------------+--------------+------------------------------+ | RHEL9 (ARM) | PASS | SKIPPED | SKIPPED | SKIPPED | +-----------------------------+----------------+---------------------------+--------------+------------------------------+ | Fedora 40 (ARM Clang) | PASS | SKIPPED | SKIPPED | SKIPPED | +-----------------------------+----------------+---------------------------+--------------+------------------------------+ | Ubuntu 22.04 (ARM) | PASS | SKIPPED | SKIPPED | SKIPPED | +-----------------------------+----------------+---------------------------+--------------+------------------------------+ | Fedora 41 (ARM Clang) | PASS | SKIPPED | SKIPPED | SKIPPED | +-----------------------------+----------------+---------------------------+--------------+------------------------------+ | Ubuntu 24.04 (ARM) | PASS | SKIPPED | SKIPPED | SKIPPED | +-----------------------------+----------------+---------------------------+--------------+------------------------------+ | Ubuntu 20.04 (ARM) | PASS | SKIPPED | SKIPPED | SKIPPED | +-----------------------------+----------------+---------------------------+--------------+------------------------------+ | 32-bit Ubuntu 22.04.4 (ARM) | PASS | SKIPPED | SKIPPED | SKIPPED | +-----------------------------+----------------+---------------------------+--------------+------------------------------+ | Ubuntu 20.04 ARM SVE | SKIPPED | SKIPPED | PASS | SKIPPED | +-----------------------------+----------------+---------------------------+--------------+------------------------------+ CentOS Stream 9 (ARM) Kernel: Depends on container host Compiler: gcc 11.5.0 20240719 (Red Hat 11.5.0-2) CentOS Stream 10 (ARM) Kernel: Depends on container host Compiler: gcc 14.2.1 20241104 (Red Hat 14.2.1-6) Debian 12 (arm) Kernel: Depends on container host Compiler: gcc (Debian 12.2.0-14) 12.2.0 Fedora 41 (ARM) Kernel: Depends on container host Compiler: gcc 14.2.1 20240912 (Red Hat 14.2.1-3) Fedora 40 (ARM) Kernel: Depends on container host Compiler: gcc 14.2.1 20240912 (Red Hat 14.2.1-3) RHEL9 (ARM) Kernel: Depends on container host Compiler: gcc 11.5.0 20240719 (Red Hat 11.5.0-2) Fedora 40 (ARM Clang) Kernel: Depends on container host Compiler: clang 18.1.8 (Fedora 18.1.8-1.fc40) Ubuntu 22.04 (ARM) Kernel: Depends on container host Compiler: gcc (Ubuntu 11.4.0-1ubuntu1~22.04) 11.4.0 Fedora 41 (ARM Clang) Kernel: Depends on container host Compiler: clang 19.1.5 (Fedora 19.1.5-1.fc41) Ubuntu 24.04 (ARM) Kernel: Depends on container host Compiler: gcc (Ubuntu 13.3.0-6ubuntu2~24.04) 13.3.0 Ubuntu 20.04 (ARM) Kernel: Depends on container host Compiler: gcc (Ubuntu 9.4.0-1ubuntu1~20.04.2) 9.4.0 32-bit Ubuntu 22.04.4 (ARM) Kernel: 5.15.83+ aarch64 Compiler: gcc (Ubuntu 11.4.0-1ubuntu1~22.04) 11.4.0 Ubuntu 20.04 ARM SVE Kernel: Depends on container host Compiler: gcc (Ubuntu 10.5.0-1ubuntu1~20.04) 10.5.0 To view detailed results, visit: https://lab.dpdk.org/results/dashboard/patchsets/33184/ UNH-IOL DPDK Community Lab To manage your email subscriptions, visit: https://lab.dpdk.org/results/dashboard/preferences/subscriptions/