From mboxrd@z Thu Jan 1 00:00:00 1970 Return-Path: Received: from mails.dpdk.org (mails.dpdk.org [217.70.189.124]) by inbox.dpdk.org (Postfix) with ESMTP id E65204675A for ; Fri, 16 May 2025 01:26:21 +0200 (CEST) Received: from mails.dpdk.org (localhost [127.0.0.1]) by mails.dpdk.org (Postfix) with ESMTP id C1C64400EF; Fri, 16 May 2025 01:26:21 +0200 (CEST) Received: from mail-pj1-f97.google.com (mail-pj1-f97.google.com [209.85.216.97]) by mails.dpdk.org (Postfix) with ESMTP id 9DA7840041 for ; Fri, 16 May 2025 01:26:20 +0200 (CEST) Received: by mail-pj1-f97.google.com with SMTP id 98e67ed59e1d1-30c1c4a8224so1277147a91.0 for ; Thu, 15 May 2025 16:26:20 -0700 (PDT) DKIM-Signature: v=1; a=rsa-sha256; c=relaxed/relaxed; d=iol.unh.edu; s=unh-iol; t=1747351579; x=1747956379; darn=dpdk.org; h=references:in-reply-to:cc:to:from:subject:message-id:date:from:to :cc:subject:date:message-id:reply-to; bh=it/PwGUQ/hV/w6P4WC3VMmJMlqc6fgOKXXfRuUYjCMc=; b=AP1YQJT1Jp9ejmOQ4yd6pgs1Tar/vA+hicEigrQGrfAU/ObEEL6eaytr0TOXjSR8X0 FpL2GgrXPiJESEnA7p0EExJRk7/tc9U/gVViPP/To3SwEJ2gwevSWFgLQNfcpXi4BsCg 96Tonfnw0K/MTCGnRcfAh0OIBXFjJ4T4hbads= X-Google-DKIM-Signature: v=1; a=rsa-sha256; c=relaxed/relaxed; d=1e100.net; s=20230601; t=1747351579; x=1747956379; h=references:in-reply-to:cc:to:from:subject:message-id:date :x-gm-message-state:from:to:cc:subject:date:message-id:reply-to; bh=it/PwGUQ/hV/w6P4WC3VMmJMlqc6fgOKXXfRuUYjCMc=; b=tXhSsbcIJ2lvnga9FUmsM24FQumjAE5E2l4z341s8l5AuPbFB85vhCRInzti/h3AXW ZalQ4BhIO1/A5TGI0VR4ZXXQla0lD9zQ3UgLMqpF14lZsdqW4WzEQGfTflb4Eue3Fj8I arJJv6aI9lwSxwcc/t5lyZ/5+Y6PWRojkBC66YO7QtRj3801Ec042Z8uhnB/xQFYoQad 9dR6BVFcjtgd+UcZj3HY3T+VilSzbibUIYpoXKLI+NfMOmGba4969gg2TsIml0/lefPu G94vQRwVDsiBDXvP+CDiE3my74pk+8BpOkzMvU15lRE8CebQ6AmRBzrupY0lryKVggw+ yxAw== X-Gm-Message-State: AOJu0Yzmhp2KO4M1Xe5r2I6PbUmy6ci7xfDNHm+7CXA1PxQ3cCtnkgiR u2WCvrhc6v3I7TFSOojdsm2Ppb76FEg6KW36anL6G0Wb4erX8cyRznzhHrAQLJC8R76VJKEldRb 8PezzM+I2e8REu9cMEIPBDfAD8uhm1arcFbHwra3uxT9xAQeoJdGM8l4wHAzs X-Gm-Gg: ASbGnctW7dVFkagJ4B3+JYyeQSBvO70+PeYlqHyGk8Jd8YT87Lf2pDgnA1aW+qmnGzg Z1R90VD2HUOEnnWfYSyDS4uvwIg/F+BIjzOgW/ZoNt9gfM6riRKrDbrjjCNYa1ouxT7WChpSD38 QNuTf7ktZlXbhEkuHcfyyKCoOR5aDenACRhRoE0/DPHECIi6LVmN7CccQscHDw8IEz66cVjJ6Zc FzbhmAAyHAKwCm3ir0jddYhUqL2YWi374tr0YsQU5IK4HELIeWYfjMTbw/9mKJ13hcdcY7EP+1b ul6Su3XbQpNTDzSrr2NXXzPLyjdbReU6FgGQ X-Google-Smtp-Source: AGHT+IGPTWpdcaae1QiLs35rgfb4Wy4j8VmxXlD6Otb+ZPXXmOGpUeSWRPf/MC4uh1fqJkpuxtygmnVNvLAG X-Received: by 2002:a17:90b:3c45:b0:30a:4c29:4c9c with SMTP id 98e67ed59e1d1-30e7d4eeecdmr1447261a91.6.1747351579605; Thu, 15 May 2025 16:26:19 -0700 (PDT) Received: from postal.iol.unh.edu (postal.iol.unh.edu. [2606:4100:3880:1234::84]) by smtp-relay.gmail.com with ESMTPS id 98e67ed59e1d1-30e334b269asm346937a91.13.2025.05.15.16.26.19 (version=TLS1_2 cipher=ECDHE-ECDSA-AES128-GCM-SHA256 bits=128/128); Thu, 15 May 2025 16:26:19 -0700 (PDT) X-Relaying-Domain: iol.unh.edu Date: Thu, 15 May 2025 16:26:19 -0700 (PDT) Message-ID: <6826781b.170a0220.20e960.349fSMTPIN_ADDED_MISSING@mx.google.com> Received: from [172.21.0.5] (unknown [172.18.0.240]) by postal.iol.unh.edu (Postfix) with ESMTP id 254A56052471; Thu, 15 May 2025 19:26:18 -0400 (EDT) Subject: |SUCCESS| pw153458 [PATCH] [v2] net/ice: fix flow creation failure From: dpdklab@iol.unh.edu To: Test Report Cc: dpdk-test-reports@iol.unh.edu In-Reply-To: <20250515112348.7746-1-dhanya.r.pillai@intel.com> References: <20250515112348.7746-1-dhanya.r.pillai@intel.com> Content-Type: text/plain X-BeenThere: test-report@dpdk.org X-Mailman-Version: 2.1.29 Precedence: list List-Id: automatic DPDK test reports List-Unsubscribe: , List-Archive: List-Post: List-Help: List-Subscribe: , Errors-To: test-report-bounces@dpdk.org Test-Label: iol-compile-amd64-testing Test-Status: SUCCESS http://dpdk.org/patch/153458 _Testing PASS_ Submitter: Dhanya Pillai Date: Thursday, May 15 2025 11:23:44 DPDK git baseline: Repo:dpdk Branch: master CommitID:51e889518fc861f1af5acbbc133a75203225655c 153458 --> testing pass Upstream job id: Generic-DPDK-Compile-Meson#388320 Test environment and result as below: +-----------------------------------+--------------------+-------------------+------------------+-------------------+-------------------------+----------------------+ | Environment | dpdk_meson_compile | dpdk_compile_spdk | dpdk_compile_ovs | dpdk_msvc_compile | dpdk_llvm_clang_compile | dpdk_mingw64_compile | +===================================+====================+===================+==================+===================+=========================+======================+ | CentOS Stream 10 | PASS | SKIPPED | SKIPPED | SKIPPED | SKIPPED | SKIPPED | +-----------------------------------+--------------------+-------------------+------------------+-------------------+-------------------------+----------------------+ | CentOS Stream 9 | PASS | PASS | SKIPPED | SKIPPED | SKIPPED | SKIPPED | +-----------------------------------+--------------------+-------------------+------------------+-------------------+-------------------------+----------------------+ | Fedora 40 | PASS | PASS | SKIPPED | SKIPPED | SKIPPED | SKIPPED | +-----------------------------------+--------------------+-------------------+------------------+-------------------+-------------------------+----------------------+ | Debian 12 | PASS | PASS | SKIPPED | SKIPPED | SKIPPED | SKIPPED | +-----------------------------------+--------------------+-------------------+------------------+-------------------+-------------------------+----------------------+ | Fedora 40 (Clang) | PASS | PASS | SKIPPED | SKIPPED | SKIPPED | SKIPPED | +-----------------------------------+--------------------+-------------------+------------------+-------------------+-------------------------+----------------------+ | Fedora 41 (Clang) | PASS | PASS | PASS | SKIPPED | SKIPPED | SKIPPED | +-----------------------------------+--------------------+-------------------+------------------+-------------------+-------------------------+----------------------+ | Fedora 41 | PASS | PASS | PASS | SKIPPED | SKIPPED | SKIPPED | +-----------------------------------+--------------------+-------------------+------------------+-------------------+-------------------------+----------------------+ | RHEL9 | PASS | SKIPPED | SKIPPED | SKIPPED | SKIPPED | SKIPPED | +-----------------------------------+--------------------+-------------------+------------------+-------------------+-------------------------+----------------------+ | openSUSE Leap 15 | PASS | SKIPPED | SKIPPED | SKIPPED | SKIPPED | SKIPPED | +-----------------------------------+--------------------+-------------------+------------------+-------------------+-------------------------+----------------------+ | RHEL8 | PASS | SKIPPED | SKIPPED | SKIPPED | SKIPPED | SKIPPED | +-----------------------------------+--------------------+-------------------+------------------+-------------------+-------------------------+----------------------+ | Ubuntu 20.04 | PASS | SKIPPED | SKIPPED | SKIPPED | SKIPPED | SKIPPED | +-----------------------------------+--------------------+-------------------+------------------+-------------------+-------------------------+----------------------+ | Ubuntu 22.04 | PASS | PASS | SKIPPED | SKIPPED | SKIPPED | SKIPPED | +-----------------------------------+--------------------+-------------------+------------------+-------------------+-------------------------+----------------------+ | Ubuntu 24.04 | PASS | PASS | PASS | SKIPPED | SKIPPED | SKIPPED | +-----------------------------------+--------------------+-------------------+------------------+-------------------+-------------------------+----------------------+ | Alpine | PASS | SKIPPED | SKIPPED | SKIPPED | SKIPPED | SKIPPED | +-----------------------------------+--------------------+-------------------+------------------+-------------------+-------------------------+----------------------+ | Ubuntu 24.04 32 Bit Cross Compile | PASS | SKIPPED | SKIPPED | SKIPPED | SKIPPED | SKIPPED | +-----------------------------------+--------------------+-------------------+------------------+-------------------+-------------------------+----------------------+ | FreeBSD 13.5 | PASS | SKIPPED | SKIPPED | SKIPPED | SKIPPED | SKIPPED | +-----------------------------------+--------------------+-------------------+------------------+-------------------+-------------------------+----------------------+ | FreeBSD 14.2 | PASS | SKIPPED | SKIPPED | SKIPPED | SKIPPED | SKIPPED | +-----------------------------------+--------------------+-------------------+------------------+-------------------+-------------------------+----------------------+ | Windows Server 2022 | SKIPPED | SKIPPED | SKIPPED | PASS | PASS | PASS | +-----------------------------------+--------------------+-------------------+------------------+-------------------+-------------------------+----------------------+ CentOS Stream 10 Kernel: Depends on container host Compiler: gcc 14.2.1 20241104 (Red Hat 14.2.1-6) CentOS Stream 9 Kernel: Depends on container host Compiler: gcc 11.5.0 20240719 (Red Hat 11.5.0-2) Fedora 40 Kernel: Depends on container host Compiler: gcc 14.2.1 20240912 (Red Hat 14.2.1-3) Debian 12 Kernel: Depends on container host Compiler: gcc (Debian 12.2.0-14) 12.2.0 Fedora 40 (Clang) Kernel: Depends on container host Compiler: clang 18.1.8 (Fedora 18.1.8-1.fc40) Fedora 41 (Clang) Kernel: Depends on container host Compiler: clang 19.1.5 (Fedora 19.1.5-1.fc41) Fedora 41 Kernel: Depends on container host Compiler: gcc 14.2.1 20240912 (Red Hat 14.2.1-3) RHEL9 Kernel: Depends on container host Compiler: gcc 11.5.0 20240719 (Red Hat 11.5.0-2) openSUSE Leap 15 Kernel: Depends on container host Compiler: gcc (SUSE Linux) 7.5.0 RHEL8 Kernel: Depends on container host Compiler: gcc 8.5.0 20210514 (Red Hat 8.5.0-22) Ubuntu 20.04 Kernel: Depends on container host Compiler: gcc (Ubuntu 9.4.0-1ubuntu1~20.04.2) 9.4.0 Ubuntu 22.04 Kernel: Depends on container host Compiler: gcc (Ubuntu 11.4.0-1ubuntu1~22.04) 11.4.0 Ubuntu 24.04 Kernel: Depends on container host Compiler: gcc (Ubuntu 13.3.0-6ubuntu2~24.04) 13.3.0 Alpine Kernel: Depends on container host Compiler: gcc (Alpine 14.2.0) 14.2.0 Ubuntu 24.04 32 Bit Cross Compile Kernel: Depends on container host Compiler: gcc (Ubuntu 13.3.0-6ubuntu2~24.04) 13.3.0 FreeBSD 13.5 Kernel: 13.5-RELEASE Compiler: clang 19.1.7 FreeBSD 14.2 Kernel: 14.2-RELEASE Compiler: clang 18.1.6 Windows Server 2022 Kernel: 10.0.20348.2031 Compiler: clang 15.0.7, gcc 14.1.0 (MinGW), and MSVC VS 19.39.33521 To view detailed results, visit: https://lab.dpdk.org/results/dashboard/patchsets/33181/ UNH-IOL DPDK Community Lab To manage your email subscriptions, visit: https://lab.dpdk.org/results/dashboard/preferences/subscriptions/