From mboxrd@z Thu Jan 1 00:00:00 1970 Return-Path: Received: from mails.dpdk.org (mails.dpdk.org [217.70.189.124]) by inbox.dpdk.org (Postfix) with ESMTP id ECC3A4675A for ; Fri, 16 May 2025 01:37:08 +0200 (CEST) Received: from mails.dpdk.org (localhost [127.0.0.1]) by mails.dpdk.org (Postfix) with ESMTP id C1DA4400EF; Fri, 16 May 2025 01:37:08 +0200 (CEST) Received: from mail-yb1-f228.google.com (mail-yb1-f228.google.com [209.85.219.228]) by mails.dpdk.org (Postfix) with ESMTP id D6CE740041 for ; Fri, 16 May 2025 01:37:07 +0200 (CEST) Received: by mail-yb1-f228.google.com with SMTP id 3f1490d57ef6-e755cd8c333so1381243276.0 for ; Thu, 15 May 2025 16:37:07 -0700 (PDT) DKIM-Signature: v=1; a=rsa-sha256; c=relaxed/relaxed; d=iol.unh.edu; s=unh-iol; t=1747352227; x=1747957027; darn=dpdk.org; h=references:in-reply-to:cc:to:from:subject:message-id:date:from:to :cc:subject:date:message-id:reply-to; bh=x8EOgK6e+t2RlUeVP10sZE3sX6FABFhcMHujm2ghO3Q=; b=g0ERSjiqfFySWKcaVhEvCizILnJPxVCurQXm7JbmUk6S8OBhvckbxasqPwJ3cg7VJB IhAwluRowyKigyWcp8hUXtR0J/lY05XtBxbYFC06DbV5MQN2Y7wdOzQN7qWqKRyg65HC xKZSvt7454keSZlZGpqd/Tug7AcpHmj1y+eog= X-Google-DKIM-Signature: v=1; a=rsa-sha256; c=relaxed/relaxed; d=1e100.net; s=20230601; t=1747352227; x=1747957027; h=references:in-reply-to:cc:to:from:subject:message-id:date :x-gm-message-state:from:to:cc:subject:date:message-id:reply-to; bh=x8EOgK6e+t2RlUeVP10sZE3sX6FABFhcMHujm2ghO3Q=; b=VqE1c8cBbjQhVSNJtagh5ylyjZLd+oQ2XjpCalKb5OGVeHBFTS6ITu5rvcB+iQgDRV m6+03yp8SxIKqHZ+WUtU/EBCsIYlshVv7GSx0S53OCYMLiHTgvhkTSHOsekArM+tuFwK 5ee9tbn8GsVWw9lbzemP+T4wNaRPExBPsbY6FIL9opOHeUruOKZotYcMiJx9JzpmE8RJ y+I5fiti81aOZNml7czHOd9E1FpsDu9GVsUrthmsgWbZGBpqHO6wHWuoLEos7F4NYKv8 9EuN/5+BY/k3FLqlHvYdV9w6F5h0Zji6LtfPhvfcAHum7VcLhhDASeYbITahS6lLP3wI 1x2Q== X-Gm-Message-State: AOJu0YyhJbhVeYamNzJOWC+5SFogtjMnqT8WSAI6lZ27+qVsrw/zG4vF SNxqskMFzeTJ5DYmzhPB558cFXZJzxrMGr49ZzjZYKx2v6hA91gGS4q4PqTgzwvRotxJqjRm8Jn opWjOdtuS5d//Uh39mcqoAmAcNzTyT/ftMpF4DNyeSuaYPA+Aa8Sdr33tc6OD X-Gm-Gg: ASbGncsVumYPJSHyE5yJ1mvBhAE/4BjMNr4m2/xRUv1bz5g8uC506oF5K1/5ukd9aVi RYTte1kq06O82d9Buu0JHtj32/ZrlO/iTD/iV52FvL9mFtmsKBlWgLcbsVeP2uJ+hsbF6+OKOnE /mLAkhJn22uOOpHWRXHUw3DfXIsSYGvBuYCXLMIUS5lAOZPCsOkfsRaQ43MvTIW999iU09edjAK 3irJJdWIZfSiViVT+O8HoRa+OSKuXo0yHotSi2Tt9P8bfMKJS4BMO0awnrz94+2DJXT3ysUkb9T TTAT+BEWsjnWtnbc8BRbetw3f3X3zyX56vHM X-Google-Smtp-Source: AGHT+IGJlHz94OZzPqCzQ8HVricQbq/4oztVKASxwkFthrdXL9GhAcqkTrbxJUldKguxD1f6xBPq5T+XlIAT X-Received: by 2002:a05:6902:2b86:b0:e72:bb4d:80d9 with SMTP id 3f1490d57ef6-e7b6d32d2abmr1081603276.3.1747352227140; Thu, 15 May 2025 16:37:07 -0700 (PDT) Received: from postal.iol.unh.edu (postal.iol.unh.edu. [2606:4100:3880:1234::84]) by smtp-relay.gmail.com with ESMTPS id 3f1490d57ef6-e7b6ae097b6sm35951276.23.2025.05.15.16.37.07 (version=TLS1_2 cipher=ECDHE-ECDSA-AES128-GCM-SHA256 bits=128/128); Thu, 15 May 2025 16:37:07 -0700 (PDT) X-Relaying-Domain: iol.unh.edu Date: Thu, 15 May 2025 16:37:07 -0700 (PDT) Message-ID: <68267aa3.250a0220.f4ee7.1ea7SMTPIN_ADDED_MISSING@mx.google.com> Received: from [172.21.0.5] (unknown [172.18.0.240]) by postal.iol.unh.edu (Postfix) with ESMTP id B96446052471; Thu, 15 May 2025 19:37:06 -0400 (EDT) Subject: |SUCCESS| pw153461-153462 [PATCH] [2/2] test/power_intel_uncore: ski From: dpdklab@iol.unh.edu To: Test Report Cc: dpdk-test-reports@iol.unh.edu In-Reply-To: <20250515165854.1087247-2-bruce.richardson@intel.com> References: <20250515165854.1087247-2-bruce.richardson@intel.com> Content-Type: text/plain X-BeenThere: test-report@dpdk.org X-Mailman-Version: 2.1.29 Precedence: list List-Id: automatic DPDK test reports List-Unsubscribe: , List-Archive: List-Post: List-Help: List-Subscribe: , Errors-To: test-report-bounces@dpdk.org Test-Label: iol-unit-amd64-testing Test-Status: SUCCESS http://dpdk.org/patch/153462 _Testing PASS_ Submitter: Bruce Richardson Date: Thursday, May 15 2025 16:58:54 DPDK git baseline: Repo:dpdk Branch: master CommitID:dcf9f9363aa9b4163d241caf8b26a84ca0c0006b 153461-153462 --> testing pass Upstream job id: Generic-Unit-Test-DPDK#338183 Test environment and result as below: +---------------------+----------------+ | Environment | dpdk_unit_test | +=====================+================+ | CentOS Stream 9 | PASS | +---------------------+----------------+ | CentOS Stream 10 | PASS | +---------------------+----------------+ | Fedora 41 | PASS | +---------------------+----------------+ | Fedora 40 | PASS | +---------------------+----------------+ | Debian 12 | PASS | +---------------------+----------------+ | RHEL8 | PASS | +---------------------+----------------+ | Fedora 40 (Clang) | PASS | +---------------------+----------------+ | Fedora 41 (Clang) | PASS | +---------------------+----------------+ | Ubuntu 24.04 | PASS | +---------------------+----------------+ | Ubuntu 20.04 | PASS | +---------------------+----------------+ | RHEL9 | PASS | +---------------------+----------------+ | Ubuntu 22.04 | PASS | +---------------------+----------------+ | Windows Server 2022 | PASS | +---------------------+----------------+ CentOS Stream 9 Kernel: Depends on container host Compiler: gcc 11.5.0 20240719 (Red Hat 11.5.0-2) CentOS Stream 10 Kernel: Depends on container host Compiler: gcc 14.2.1 20241104 (Red Hat 14.2.1-6) Fedora 41 Kernel: Depends on container host Compiler: gcc 14.2.1 20240912 (Red Hat 14.2.1-3) Fedora 40 Kernel: Depends on container host Compiler: gcc 14.2.1 20240912 (Red Hat 14.2.1-3) Debian 12 Kernel: Depends on container host Compiler: gcc (Debian 12.2.0-14) 12.2.0 RHEL8 Kernel: Depends on container host Compiler: gcc 8.5.0 20210514 (Red Hat 8.5.0-22) Fedora 40 (Clang) Kernel: Depends on container host Compiler: clang 18.1.8 (Fedora 18.1.8-1.fc40) Fedora 41 (Clang) Kernel: Depends on container host Compiler: clang 19.1.5 (Fedora 19.1.5-1.fc41) Ubuntu 24.04 Kernel: Depends on container host Compiler: gcc (Ubuntu 13.3.0-6ubuntu2~24.04) 13.3.0 Ubuntu 20.04 Kernel: Depends on container host Compiler: gcc (Ubuntu 9.4.0-1ubuntu1~20.04.2) 9.4.0 RHEL9 Kernel: Depends on container host Compiler: gcc 11.5.0 20240719 (Red Hat 11.5.0-2) Ubuntu 22.04 Kernel: Depends on container host Compiler: gcc (Ubuntu 11.4.0-1ubuntu1~22.04) 11.4.0 Windows Server 2022 Kernel: 10.0.20348.2031 Compiler: clang 15.0.7, gcc 14.1.0 (MinGW), and MSVC VS 19.39.33521 To view detailed results, visit: https://lab.dpdk.org/results/dashboard/patchsets/33184/ UNH-IOL DPDK Community Lab To manage your email subscriptions, visit: https://lab.dpdk.org/results/dashboard/preferences/subscriptions/