automatic DPDK test reports
 help / color / mirror / Atom feed
From: dpdklab@iol.unh.edu
To: Test Report <test-report@dpdk.org>
Cc: dpdk-test-reports@iol.unh.edu
Subject: |PENDING| pw153460 [PATCH] [RFC] dts: add rte flow test suite
Date: Thu, 15 May 2025 16:42:44 -0700 (PDT)	[thread overview]
Message-ID: <68267bf4.170a0220.ba170.239cSMTPIN_ADDED_MISSING@mx.google.com> (raw)
In-Reply-To: <20250515163809.184720-2-dmarx@iol.unh.edu>

Test-Label: iol-unit-amd64-testing
Test-Status: PENDING
http://dpdk.org/patch/153460

_Testing pending_

Submitter: Dean Marx <dmarx@iol.unh.edu>
Date: Thursday, May 15 2025 16:38:09 
DPDK git baseline: Repo:dpdk
  Branch: master
  CommitID:1aef42bc97a31906486c9d66b792208948af06f3

153460 --> testing pending

Upstream job id: Generic-Unit-Test-DPDK#338198

Test environment and result as below:

+---------------------+----------------+
|     Environment     | dpdk_unit_test |
+=====================+================+
| Debian 12           | PASS           |
+---------------------+----------------+
| CentOS Stream 10    | PEND           |
+---------------------+----------------+
| Fedora 40           | PEND           |
+---------------------+----------------+
| CentOS Stream 9     | PEND           |
+---------------------+----------------+
| Fedora 41           | PEND           |
+---------------------+----------------+
| Fedora 40 (Clang)   | PEND           |
+---------------------+----------------+
| Fedora 41 (Clang)   | PEND           |
+---------------------+----------------+
| Ubuntu 20.04        | PEND           |
+---------------------+----------------+
| RHEL8               | PEND           |
+---------------------+----------------+
| RHEL9               | PEND           |
+---------------------+----------------+
| Ubuntu 22.04        | PEND           |
+---------------------+----------------+
| Ubuntu 24.04        | PEND           |
+---------------------+----------------+
| Windows Server 2022 | PEND           |
+---------------------+----------------+


Debian 12
	Kernel: Depends on container host
	Compiler: gcc (Debian 12.2.0-14) 12.2.0

CentOS Stream 10
	Kernel: Depends on container host
	Compiler: gcc 14.2.1 20241104 (Red Hat 14.2.1-6)

Fedora 40
	Kernel: Depends on container host
	Compiler: gcc 14.2.1 20240912 (Red Hat 14.2.1-3)

CentOS Stream 9
	Kernel: Depends on container host
	Compiler: gcc 11.5.0 20240719 (Red Hat 11.5.0-2)

Fedora 41
	Kernel: Depends on container host
	Compiler: gcc 14.2.1 20240912 (Red Hat 14.2.1-3)

Fedora 40 (Clang)
	Kernel: Depends on container host
	Compiler: clang 18.1.8 (Fedora 18.1.8-1.fc40)

Fedora 41 (Clang)
	Kernel: Depends on container host
	Compiler: clang 19.1.5 (Fedora 19.1.5-1.fc41)

Ubuntu 20.04
	Kernel: Depends on container host
	Compiler: gcc (Ubuntu 9.4.0-1ubuntu1~20.04.2) 9.4.0

RHEL8
	Kernel: Depends on container host
	Compiler: gcc 8.5.0 20210514 (Red Hat 8.5.0-22)

RHEL9
	Kernel: Depends on container host
	Compiler: gcc 11.5.0 20240719 (Red Hat 11.5.0-2)

Ubuntu 22.04
	Kernel: Depends on container host
	Compiler: gcc (Ubuntu 11.4.0-1ubuntu1~22.04) 11.4.0

Ubuntu 24.04
	Kernel: Depends on container host
	Compiler: gcc (Ubuntu 13.3.0-6ubuntu2~24.04) 13.3.0

Windows Server 2022
	Kernel: 10.0.20348.2031
	Compiler: clang 15.0.7, gcc 14.1.0 (MinGW), and MSVC VS 19.39.33521

To view detailed results, visit:
https://lab.dpdk.org/results/dashboard/patchsets/33183/

UNH-IOL DPDK Community Lab

To manage your email subscriptions, visit: 
https://lab.dpdk.org/results/dashboard/preferences/subscriptions/

  parent reply	other threads:[~2025-05-15 23:42 UTC|newest]

Thread overview: 25+ messages / expand[flat|nested]  mbox.gz  Atom feed  top
     [not found] <20250515163809.184720-2-dmarx@iol.unh.edu>
2025-05-15 16:05 ` |SUCCESS| pw153460 [RFC PATCH] " qemudev
2025-05-15 16:09 ` qemudev
2025-05-15 16:40 ` |WARNING| " checkpatch
2025-05-15 17:43 ` |SUCCESS| " 0-day Robot
2025-05-15 19:17 ` |SUCCESS| pw153460 [PATCH] [RFC] " dpdklab
2025-05-15 19:30 ` dpdklab
2025-05-15 19:31 ` dpdklab
2025-05-15 19:38 ` dpdklab
2025-05-15 19:45 ` dpdklab
2025-05-15 19:45 ` dpdklab
2025-05-15 19:51 ` dpdklab
2025-05-15 20:14 ` dpdklab
2025-05-15 20:18 ` dpdklab
2025-05-15 20:42 ` |PENDING| " dpdklab
2025-05-15 20:58 ` |SUCCESS| " dpdklab
2025-05-15 21:52 ` dpdklab
2025-05-15 22:11 ` dpdklab
2025-05-15 23:11 ` |PENDING| " dpdklab
2025-05-15 23:37 ` dpdklab
2025-05-15 23:42 ` dpdklab [this message]
2025-05-16  0:17 ` |SUCCESS| " dpdklab
2025-05-16  0:31 ` dpdklab
2025-05-16  0:36 ` dpdklab
2025-05-16  0:36 ` dpdklab
2025-05-16  9:22 ` |WARNING| " dpdklab

Reply instructions:

You may reply publicly to this message via plain-text email
using any one of the following methods:

* Save the following mbox file, import it into your mail client,
  and reply-to-all from there: mbox

  Avoid top-posting and favor interleaved quoting:
  https://en.wikipedia.org/wiki/Posting_style#Interleaved_style

* Reply using the --to, --cc, and --in-reply-to
  switches of git-send-email(1):

  git send-email \
    --in-reply-to=68267bf4.170a0220.ba170.239cSMTPIN_ADDED_MISSING@mx.google.com \
    --to=dpdklab@iol.unh.edu \
    --cc=dpdk-test-reports@iol.unh.edu \
    --cc=test-report@dpdk.org \
    /path/to/YOUR_REPLY

  https://kernel.org/pub/software/scm/git/docs/git-send-email.html

* If your mail client supports setting the In-Reply-To header
  via mailto: links, try the mailto: link
Be sure your reply has a Subject: header at the top and a blank line before the message body.
This is a public inbox, see mirroring instructions
for how to clone and mirror all data and code used for this inbox;
as well as URLs for NNTP newsgroup(s).