From mboxrd@z Thu Jan  1 00:00:00 1970
Return-Path: <test-report-bounces@dpdk.org>
Received: from mails.dpdk.org (mails.dpdk.org [217.70.189.124])
	by inbox.dpdk.org (Postfix) with ESMTP id B93CC4675B
	for <public@inbox.dpdk.org>; Fri, 16 May 2025 02:17:43 +0200 (CEST)
Received: from mails.dpdk.org (localhost [127.0.0.1])
	by mails.dpdk.org (Postfix) with ESMTP id 9FB6F400EF;
	Fri, 16 May 2025 02:17:43 +0200 (CEST)
Received: from mail-il1-f225.google.com (mail-il1-f225.google.com
 [209.85.166.225])
 by mails.dpdk.org (Postfix) with ESMTP id 1A9B240041
 for <test-report@dpdk.org>; Fri, 16 May 2025 02:17:42 +0200 (CEST)
Received: by mail-il1-f225.google.com with SMTP id
 e9e14a558f8ab-3da7642b5deso8668205ab.2
 for <test-report@dpdk.org>; Thu, 15 May 2025 17:17:42 -0700 (PDT)
DKIM-Signature: v=1; a=rsa-sha256; c=relaxed/relaxed;
 d=iol.unh.edu; s=unh-iol; t=1747354661; x=1747959461; darn=dpdk.org;
 h=references:in-reply-to:cc:to:from:subject:message-id:date:from:to
 :cc:subject:date:message-id:reply-to;
 bh=6YEBBaZrWQgpw1x8gwioi6efuiimXy8uE0A0Q+9GXcs=;
 b=GRwMzTBIz0aNG6GYbHFVlb5lSIoGsqZ5eKY9lXaDLIS1JacBJfIEdMV61KFoOFg2bK
 BTHiWGpvCnMRVgHUf5VMRG1MXZ+TMzBa8tai/k6haFlF2ut4SIxm7VWif6YQzRGGv8+B
 taJ+ucWzmmMAf+y9/jI4eygUHO14ehbnT+m78=
X-Google-DKIM-Signature: v=1; a=rsa-sha256; c=relaxed/relaxed;
 d=1e100.net; s=20230601; t=1747354661; x=1747959461;
 h=references:in-reply-to:cc:to:from:subject:message-id:date
 :x-gm-message-state:from:to:cc:subject:date:message-id:reply-to;
 bh=6YEBBaZrWQgpw1x8gwioi6efuiimXy8uE0A0Q+9GXcs=;
 b=NhWHCSOI8EmI5Ke+3iVQ/32Pp631Ynzl/N5wV3b90cm9vqOKKXSDUAEl+kcqI2WHRI
 WLFrkf2YBnlSciu1MdYiuhnEnoOyYe+LkfiYE0MLiUmHnC2UBCiD2pjCz0bZ8keZJy4Y
 xmU5WrixjpXJQECOcoz14cxNZHbOa+weLR4XUn50kAtqKSPHUkQvTVoXQ/kLQmV1/fMM
 DWarE+/M0AdyHQX3x7TVWMVTUSdS+7KJdYMJ+4YF7iaB8KyE59DG72yv1bMdGW8jdz88
 +VbpZssAnm9YMuRm3imsoF2JuaUkSrKjinmz/Vmd5uUJvnJYOI80HsU5hWEgThYzh61F
 dgyQ==
X-Gm-Message-State: AOJu0YwMCO2v+ei6k+Z1yMAJZLQbuqEKs04beiGE+ue24f4XSca6t7+0
 ggJNiparMKAUl/alMvG4hhSQZU2z0lM+XWcbpgQGAU6rMMmmjM8SE1gOCzGauSVxbg7fK4f2f9X
 bzfi60dSqNeCEdGpt4kQX1reHQZf0PMa+qUowNL3JQaA0eziANGZN2FHjrOtX
X-Gm-Gg: ASbGncsUBK27Vm7xtKVUBUkiHGb3azfHYMLaTZVDr5wNGa5AN+sx078xP4upadqnQte
 2tacvNCc3czbW6Kk/PGRrBI5ENkcf2HitvkXYmb0W9U7dpg9QgTqsu43Ff03UDOvi5yTou5bKJz
 jT03PwJfupA+EAFkQVyLWuWxVfb/ZZMSB8GyKVscpwZY9O+kwbVbXQJluXR6Fxl36yBVSfFe8VJ
 RiJ3vvQTMBQe/Midrs1HiE9ucHAcXiT/m4lAX9k4uLwtTCIl9aiODy6dD9LhFalu+B8/+EHYWn3
 oJ8SYNDLnFItm1i5hG4g0fXIJqT8t9E+LIdz
X-Google-Smtp-Source: AGHT+IGRpaKc9+TYKSU6Xx7/43Cp9YcQLLT+olu36AZ/PkQd6/VBle67YXo34JmlTXcQTKYUTp3dstUp5uCn
X-Received: by 2002:a05:6e02:5e89:b0:3db:85f0:ca4c with SMTP id
 e9e14a558f8ab-3db85f0d3bamr1897615ab.1.1747354661351; 
 Thu, 15 May 2025 17:17:41 -0700 (PDT)
Received: from postal.iol.unh.edu (postal.iol.unh.edu.
 [2606:4100:3880:1234::84]) by smtp-relay.gmail.com with ESMTPS id
 8926c6da1cb9f-4fbcc4a0658sm31364173.70.2025.05.15.17.17.41
 (version=TLS1_2 cipher=ECDHE-ECDSA-AES128-GCM-SHA256 bits=128/128);
 Thu, 15 May 2025 17:17:41 -0700 (PDT)
X-Relaying-Domain: iol.unh.edu
Date: Thu, 15 May 2025 17:17:41 -0700 (PDT)
Message-ID: <68268425.050a0220.3466f9.1a66SMTPIN_ADDED_MISSING@mx.google.com>
Received: from [172.21.0.6] (unknown [172.18.0.240])
 by postal.iol.unh.edu (Postfix) with ESMTP id D36CB6052471;
 Thu, 15 May 2025 20:17:40 -0400 (EDT)
Subject: |SUCCESS| pw153460 [PATCH] [RFC] dts: add rte flow test suite
From: dpdklab@iol.unh.edu
To: Test Report <test-report@dpdk.org>
Cc: dpdk-test-reports@iol.unh.edu
In-Reply-To: <20250515163809.184720-2-dmarx@iol.unh.edu>
References: <20250515163809.184720-2-dmarx@iol.unh.edu>
Content-Type: text/plain
X-BeenThere: test-report@dpdk.org
X-Mailman-Version: 2.1.29
Precedence: list
List-Id: automatic DPDK test reports <test-report.dpdk.org>
List-Unsubscribe: <https://mails.dpdk.org/options/test-report>,
 <mailto:test-report-request@dpdk.org?subject=unsubscribe>
List-Archive: <http://mails.dpdk.org/archives/test-report/>
List-Post: <mailto:test-report@dpdk.org>
List-Help: <mailto:test-report-request@dpdk.org?subject=help>
List-Subscribe: <https://mails.dpdk.org/listinfo/test-report>,
 <mailto:test-report-request@dpdk.org?subject=subscribe>
Errors-To: test-report-bounces@dpdk.org

Test-Label: iol-abi-testing
Test-Status: SUCCESS
http://dpdk.org/patch/153460

_Testing PASS_

Submitter: Dean Marx <dmarx@iol.unh.edu>
Date: Thursday, May 15 2025 16:38:09 
DPDK git baseline: Repo:dpdk
  Branch: master
  CommitID:1aef42bc97a31906486c9d66b792208948af06f3

153460 --> testing pass

Upstream job id: Generic-DPDK-Compile-ABI#126545

Test environment and result as below:

+-------------------+----------+
|    Environment    | abi_test |
+===================+==========+
| CentOS Stream 9   | PASS     |
+-------------------+----------+
| CentOS Stream 10  | PASS     |
+-------------------+----------+
| Fedora 40 (Clang) | PASS     |
+-------------------+----------+
| Debian 12         | PASS     |
+-------------------+----------+
| Fedora 40         | PASS     |
+-------------------+----------+
| Ubuntu 24.04      | PASS     |
+-------------------+----------+
| Fedora 41 (Clang) | PASS     |
+-------------------+----------+
| RHEL9             | PASS     |
+-------------------+----------+
| Ubuntu 22.04      | PASS     |
+-------------------+----------+
| Fedora 41         | PASS     |
+-------------------+----------+
| openSUSE Leap 15  | PASS     |
+-------------------+----------+
| RHEL8             | PASS     |
+-------------------+----------+


CentOS Stream 9
	Kernel: Depends on container host
	Compiler: gcc 11.5.0 20240719 (Red Hat 11.5.0-2)

CentOS Stream 10
	Kernel: Depends on container host
	Compiler: gcc 14.2.1 20241104 (Red Hat 14.2.1-6)

Fedora 40 (Clang)
	Kernel: Depends on container host
	Compiler: clang 18.1.8 (Fedora 18.1.8-1.fc40)

Debian 12
	Kernel: Depends on container host
	Compiler: gcc (Debian 12.2.0-14) 12.2.0

Fedora 40
	Kernel: Depends on container host
	Compiler: gcc 14.2.1 20240912 (Red Hat 14.2.1-3)

Ubuntu 24.04
	Kernel: Depends on container host
	Compiler: gcc (Ubuntu 13.3.0-6ubuntu2~24.04) 13.3.0

Fedora 41 (Clang)
	Kernel: Depends on container host
	Compiler: clang 19.1.5 (Fedora 19.1.5-1.fc41)

RHEL9
	Kernel: Depends on container host
	Compiler: gcc 11.5.0 20240719 (Red Hat 11.5.0-2)

Ubuntu 22.04
	Kernel: Depends on container host
	Compiler: gcc (Ubuntu 11.4.0-1ubuntu1~22.04) 11.4.0

Fedora 41
	Kernel: Depends on container host
	Compiler: gcc 14.2.1 20240912 (Red Hat 14.2.1-3)

openSUSE Leap 15
	Kernel: Depends on container host
	Compiler: gcc (SUSE Linux) 7.5.0

RHEL8
	Kernel: Depends on container host
	Compiler: gcc 8.5.0 20210514 (Red Hat 8.5.0-22)

To view detailed results, visit:
https://lab.dpdk.org/results/dashboard/patchsets/33183/

UNH-IOL DPDK Community Lab

To manage your email subscriptions, visit: 
https://lab.dpdk.org/results/dashboard/preferences/subscriptions/