From mboxrd@z Thu Jan 1 00:00:00 1970 Return-Path: Received: from mails.dpdk.org (mails.dpdk.org [217.70.189.124]) by inbox.dpdk.org (Postfix) with ESMTP id D1B144675B for ; Fri, 16 May 2025 02:31:03 +0200 (CEST) Received: from mails.dpdk.org (localhost [127.0.0.1]) by mails.dpdk.org (Postfix) with ESMTP id CCCD4400EF; Fri, 16 May 2025 02:31:03 +0200 (CEST) Received: from mail-pf1-f228.google.com (mail-pf1-f228.google.com [209.85.210.228]) by mails.dpdk.org (Postfix) with ESMTP id 0E82C40041 for ; Fri, 16 May 2025 02:31:02 +0200 (CEST) Received: by mail-pf1-f228.google.com with SMTP id d2e1a72fcca58-74068f95d9fso1403105b3a.0 for ; Thu, 15 May 2025 17:31:01 -0700 (PDT) DKIM-Signature: v=1; a=rsa-sha256; c=relaxed/relaxed; d=iol.unh.edu; s=unh-iol; t=1747355461; x=1747960261; darn=dpdk.org; h=references:in-reply-to:cc:to:from:subject:message-id:date:from:to :cc:subject:date:message-id:reply-to; bh=NYkL416QM+DgMeyqXroG1PWp35/8z/D9ndr+ZQLjHbs=; b=Z4Ry9vveVBTTFQIz7o2iGzP/NkV/JMeqO+KavESgn3QH9hpKHuGNzQdCtCTD2f04Ji cm6+cvAQGWT+QLkElzL41iguGULruYS5F+cdZku78YqmeqUX6AJzYlWsOEWaetUTvrtC Td/omKO0aW7tX7cw1xfVT+gdZ7vCeuzg/5tWQ= X-Google-DKIM-Signature: v=1; a=rsa-sha256; c=relaxed/relaxed; d=1e100.net; s=20230601; t=1747355461; x=1747960261; h=references:in-reply-to:cc:to:from:subject:message-id:date :x-gm-message-state:from:to:cc:subject:date:message-id:reply-to; bh=NYkL416QM+DgMeyqXroG1PWp35/8z/D9ndr+ZQLjHbs=; b=oqZ0CI35EVz75obTKE0I0Wi5jcb/xfXxyPjWuVmHLlbo/5lu8rbuDbQGAMm8v8Yx2D a7qzrjky/cDkj+YMUPZWMfunNzG96oud+dF0tWN/mV7XBXTTmTL4aO3Kp4UyVRwp+wJg tjSzvmGjbru40pJTOqIJu0pdBsiyaUXFNGr6jkPcpWjKVpqO5WO9KT7uXfdHTvfLVsHR vMNQVxfPbYNzSbl/u5hQKON1mWgawQE3DB8FgVdi8rVXm62xkkd3zzMGADdQ5yMiW2Sp I0ChrcW51pwZ1XBGIjg/gjOExvuLqvIy0mSKJ5OEwOfkCUwECXO1It7g20aFWqQiUG3H Hy2A== X-Gm-Message-State: AOJu0YzK1c+1+qw70Y0Y9jUeLLC1EkYzQPzkQsquZ1Om8Oq2EFyTMAFx g7GeqRu5bMqz73mpfivxEzGLTPIULiBdY93xQuajvD1mCXxVXbKV4mneL7s9TKH9ter+DxxWa5N nbxTNkJaB5d7i183/Hz380aZQy4lTkKJZ9oBLvWZ9mARhsqPcyHMXP7uP+Mlm X-Gm-Gg: ASbGncvNXj9F0s70NVK0fE6T41G840sxda7U9HyCupBLRc7PKW1gB45rc/RqC2rwHoY 8kUwb4Q6E+CJfPLj+JES1VcZk6LU9AWPhmlhTEaIevT+kSNK6d8DMXlskIUpiFSbrlOUuypmBOb jWyJWUaGY6Mmt0TwnaRFIx+vkqWURv5xj53d3hAUQnYChbJYeAMRxII6l712QOn6It7eAgAwUXI Utw7qnG8nwkv8TwEIMQ+ncoPSJPf7xbcPUDWvlFT5VzkpPK8JDL0ZXWFF4otnkAOYqWWUflA6CN JBAo0xyCiVpvlvQ0t6SsIJb8LzmX2HgMyKqW X-Google-Smtp-Source: AGHT+IFkY/GUCfVhsBHj7+EJK8+x+GPnzfJoAipmKgH9wend5f8b9jCtXMbZWMr69OhASENV2kEagI0PR7iN X-Received: by 2002:a05:6a20:2455:b0:215:f040:c52d with SMTP id adf61e73a8af0-2170cc65e5emr844276637.11.1747355460785; Thu, 15 May 2025 17:31:00 -0700 (PDT) Received: from postal.iol.unh.edu (postal.iol.unh.edu. [2606:4100:3880:1234::84]) by smtp-relay.gmail.com with ESMTPS id 41be03b00d2f7-b26eaf676ffsm28384a12.4.2025.05.15.17.31.00 (version=TLS1_2 cipher=ECDHE-ECDSA-AES128-GCM-SHA256 bits=128/128); Thu, 15 May 2025 17:31:00 -0700 (PDT) X-Relaying-Domain: iol.unh.edu Date: Thu, 15 May 2025 17:31:00 -0700 (PDT) Message-ID: <68268744.050a0220.9ddf7.172cSMTPIN_ADDED_MISSING@mx.google.com> Received: from [172.21.0.6] (unknown [172.18.0.240]) by postal.iol.unh.edu (Postfix) with ESMTP id F2F706052471; Thu, 15 May 2025 20:30:59 -0400 (EDT) Subject: |SUCCESS| pw153460 [PATCH] [RFC] dts: add rte flow test suite From: dpdklab@iol.unh.edu To: Test Report Cc: dpdk-test-reports@iol.unh.edu In-Reply-To: <20250515163809.184720-2-dmarx@iol.unh.edu> References: <20250515163809.184720-2-dmarx@iol.unh.edu> Content-Type: text/plain X-BeenThere: test-report@dpdk.org X-Mailman-Version: 2.1.29 Precedence: list List-Id: automatic DPDK test reports List-Unsubscribe: , List-Archive: List-Post: List-Help: List-Subscribe: , Errors-To: test-report-bounces@dpdk.org Test-Label: iol-unit-arm64-testing Test-Status: SUCCESS http://dpdk.org/patch/153460 _Testing PASS_ Submitter: Dean Marx Date: Thursday, May 15 2025 16:38:09 DPDK git baseline: Repo:dpdk Branch: master CommitID:1aef42bc97a31906486c9d66b792208948af06f3 153460 --> testing pass Upstream job id: Generic-Unit-Test-DPDK#338216 Test environment and result as below: +-----------------------------+----------------+--------------+---------------------------+------------------------------+ | Environment | dpdk_unit_test | lpm_autotest | cryptodev_sw_zuc_autotest | cryptodev_sw_snow3g_autotest | +=============================+================+==============+===========================+==============================+ | Debian 12 (arm) | PASS | SKIPPED | PASS | PASS | +-----------------------------+----------------+--------------+---------------------------+------------------------------+ | Fedora 40 (ARM) | PASS | SKIPPED | SKIPPED | SKIPPED | +-----------------------------+----------------+--------------+---------------------------+------------------------------+ | CentOS Stream 10 (ARM) | PASS | SKIPPED | SKIPPED | SKIPPED | +-----------------------------+----------------+--------------+---------------------------+------------------------------+ | CentOS Stream 9 (ARM) | PASS | SKIPPED | SKIPPED | SKIPPED | +-----------------------------+----------------+--------------+---------------------------+------------------------------+ | RHEL9 (ARM) | PASS | SKIPPED | SKIPPED | SKIPPED | +-----------------------------+----------------+--------------+---------------------------+------------------------------+ | Fedora 41 (ARM) | PASS | SKIPPED | SKIPPED | SKIPPED | +-----------------------------+----------------+--------------+---------------------------+------------------------------+ | Ubuntu 20.04 (ARM) | PASS | SKIPPED | SKIPPED | SKIPPED | +-----------------------------+----------------+--------------+---------------------------+------------------------------+ | Fedora 41 (ARM Clang) | PASS | SKIPPED | SKIPPED | SKIPPED | +-----------------------------+----------------+--------------+---------------------------+------------------------------+ | Fedora 40 (ARM Clang) | PASS | SKIPPED | SKIPPED | SKIPPED | +-----------------------------+----------------+--------------+---------------------------+------------------------------+ | Ubuntu 22.04 (ARM) | PASS | SKIPPED | SKIPPED | SKIPPED | +-----------------------------+----------------+--------------+---------------------------+------------------------------+ | Ubuntu 24.04 (ARM) | PASS | SKIPPED | SKIPPED | SKIPPED | +-----------------------------+----------------+--------------+---------------------------+------------------------------+ | 32-bit Ubuntu 22.04.4 (ARM) | PASS | SKIPPED | SKIPPED | SKIPPED | +-----------------------------+----------------+--------------+---------------------------+------------------------------+ | Ubuntu 20.04 ARM SVE | SKIPPED | PASS | SKIPPED | SKIPPED | +-----------------------------+----------------+--------------+---------------------------+------------------------------+ Debian 12 (arm) Kernel: Depends on container host Compiler: gcc (Debian 12.2.0-14) 12.2.0 Fedora 40 (ARM) Kernel: Depends on container host Compiler: gcc 14.2.1 20240912 (Red Hat 14.2.1-3) CentOS Stream 10 (ARM) Kernel: Depends on container host Compiler: gcc 14.2.1 20241104 (Red Hat 14.2.1-6) CentOS Stream 9 (ARM) Kernel: Depends on container host Compiler: gcc 11.5.0 20240719 (Red Hat 11.5.0-2) RHEL9 (ARM) Kernel: Depends on container host Compiler: gcc 11.5.0 20240719 (Red Hat 11.5.0-2) Fedora 41 (ARM) Kernel: Depends on container host Compiler: gcc 14.2.1 20240912 (Red Hat 14.2.1-3) Ubuntu 20.04 (ARM) Kernel: Depends on container host Compiler: gcc (Ubuntu 9.4.0-1ubuntu1~20.04.2) 9.4.0 Fedora 41 (ARM Clang) Kernel: Depends on container host Compiler: clang 19.1.5 (Fedora 19.1.5-1.fc41) Fedora 40 (ARM Clang) Kernel: Depends on container host Compiler: clang 18.1.8 (Fedora 18.1.8-1.fc40) Ubuntu 22.04 (ARM) Kernel: Depends on container host Compiler: gcc (Ubuntu 11.4.0-1ubuntu1~22.04) 11.4.0 Ubuntu 24.04 (ARM) Kernel: Depends on container host Compiler: gcc (Ubuntu 13.3.0-6ubuntu2~24.04) 13.3.0 32-bit Ubuntu 22.04.4 (ARM) Kernel: 5.15.83+ aarch64 Compiler: gcc (Ubuntu 11.4.0-1ubuntu1~22.04) 11.4.0 Ubuntu 20.04 ARM SVE Kernel: Depends on container host Compiler: gcc (Ubuntu 10.5.0-1ubuntu1~20.04) 10.5.0 To view detailed results, visit: https://lab.dpdk.org/results/dashboard/patchsets/33183/ UNH-IOL DPDK Community Lab To manage your email subscriptions, visit: https://lab.dpdk.org/results/dashboard/preferences/subscriptions/