From mboxrd@z Thu Jan 1 00:00:00 1970 Return-Path: Received: from mails.dpdk.org (mails.dpdk.org [217.70.189.124]) by inbox.dpdk.org (Postfix) with ESMTP id 93B3F4675B for ; Fri, 16 May 2025 02:36:19 +0200 (CEST) Received: from mails.dpdk.org (localhost [127.0.0.1]) by mails.dpdk.org (Postfix) with ESMTP id 78361400EF; Fri, 16 May 2025 02:36:19 +0200 (CEST) Received: from mail-pg1-f228.google.com (mail-pg1-f228.google.com [209.85.215.228]) by mails.dpdk.org (Postfix) with ESMTP id 35DA140041 for ; Fri, 16 May 2025 02:36:18 +0200 (CEST) Received: by mail-pg1-f228.google.com with SMTP id 41be03b00d2f7-af523f4511fso1149174a12.0 for ; Thu, 15 May 2025 17:36:18 -0700 (PDT) DKIM-Signature: v=1; a=rsa-sha256; c=relaxed/relaxed; d=iol.unh.edu; s=unh-iol; t=1747355777; x=1747960577; darn=dpdk.org; h=references:in-reply-to:cc:to:from:subject:message-id:date:from:to :cc:subject:date:message-id:reply-to; bh=029pa6yvRBL1tkmrt5Cl/DXyi2Q1F6UoTMNtXhZ4XEU=; b=jWcA+OjDToy01MO7G/Xv8t1T9AG2FtiJsedFytc1PvijWUaKT3EGr7FcAAT1Nq5hAs Jho7ldjfmJ4KfJNmU1NVrmZz23o+AezyGK8A+AhVrBtME/nr9tsplJirPcl4a3BNGuFT ef3NrjxmE3q47wxQnBi28KK5UF1M25IK47K5o= X-Google-DKIM-Signature: v=1; a=rsa-sha256; c=relaxed/relaxed; d=1e100.net; s=20230601; t=1747355777; x=1747960577; h=references:in-reply-to:cc:to:from:subject:message-id:date :x-gm-message-state:from:to:cc:subject:date:message-id:reply-to; bh=029pa6yvRBL1tkmrt5Cl/DXyi2Q1F6UoTMNtXhZ4XEU=; b=iU82Yj1voLr2LJR0QcWQJU/T+2UnGpKz4cg8rCfzwPnFAR2f0y1e7SwV7Jw7qBM7uH BVzkhxKq7kW1PF5rhu8LsCsYPcSQbwzYoN0ea6lMxn8fi4EC7uNbhR/oUprsTFbkfIFw 0iJ1nehDiWbwAmdtkgqQn8M+DfQBp6jOjiGLsFe+4W5+yJIz1l0eotgxPoQ8Cl0FaynL Ql/2VLnapR0jKIbufKvFx0HGpiGCNiazDUlq7HiXtMU7h4bPuPdDX0zaWv3csNQszGkY Z6Hd7Kl49BM4fBxZ9JxSPbtX8IPdpwDgsgU8E5oCcfDQASEqe/q5ny4Dlt+wKhOyPmRo dRCw== X-Gm-Message-State: AOJu0YxHmUAcGoCij5r0Cg1AGfYZynOshBvYxTwWr/uygvhib1pjEMB4 Q1oOJr2t3pP/2zLOyu7TYoZYjpBuKIldsRwDmsLuqtAHCiF7mYEhswuM+ePRZdCzmCPrUUO/1XK dwZ55clSWrFDDISWueJtDMI/6LHH+rWh9YekbRaCPBAqGnu8dsyoTa8BfbQAf X-Gm-Gg: ASbGnctqHAhLx/T1GOUGn2xqwuK9D06SWvlJf/Q9haVIvG9OGFmTKS2LBvjM5n10QjH tYDNNCxslwiNxphNpx5VJYLPWOHOLDesENhUzHs6NSzqGge97ZM9TFguPjyhGgPxvZSSiHUMv9x DHTC3aIya+XpUcUq+gS82YxAOaaW10bRres/27UR7PIF++r+IcQdqsttN3AGmD1jRylAuCGXNvV jQ3Uz32F20j6+8jgckzNsOBwWTvNzPCJsNAJjecVjwYv2xp7FauNGg9QIy4WDLsg7SbrU2DLoPY hFuUFuVbkXU6jUEKMcwSsfkgY3rpwql7nFCI X-Google-Smtp-Source: AGHT+IF+n6rFeA5/aVsiX/iRQ3ALmRg/FLRyZeY7rmCeNn0+zC7sxPWzHQeWEOyI3sHca8BcNCw6kbP/JxUy X-Received: by 2002:a17:903:2f47:b0:224:376:7a21 with SMTP id d9443c01a7336-231d452d0bamr16923235ad.42.1747355777230; Thu, 15 May 2025 17:36:17 -0700 (PDT) Received: from postal.iol.unh.edu (postal.iol.unh.edu. [2606:4100:3880:1234::84]) by smtp-relay.gmail.com with ESMTPS id d9443c01a7336-231d4aca1a2sm415015ad.41.2025.05.15.17.36.17 (version=TLS1_2 cipher=ECDHE-ECDSA-AES128-GCM-SHA256 bits=128/128); Thu, 15 May 2025 17:36:17 -0700 (PDT) X-Relaying-Domain: iol.unh.edu Date: Thu, 15 May 2025 17:36:17 -0700 (PDT) Message-ID: <68268881.170a0220.1abcc1.25dbSMTPIN_ADDED_MISSING@mx.google.com> Received: from [172.21.0.7] (unknown [172.18.0.240]) by postal.iol.unh.edu (Postfix) with ESMTP id 32E1D6052471; Thu, 15 May 2025 20:36:16 -0400 (EDT) Subject: |SUCCESS| pw153460 [PATCH] [RFC] dts: add rte flow test suite From: dpdklab@iol.unh.edu To: Test Report Cc: dpdk-test-reports@iol.unh.edu In-Reply-To: <20250515163809.184720-2-dmarx@iol.unh.edu> References: <20250515163809.184720-2-dmarx@iol.unh.edu> Content-Type: text/plain X-BeenThere: test-report@dpdk.org X-Mailman-Version: 2.1.29 Precedence: list List-Id: automatic DPDK test reports List-Unsubscribe: , List-Archive: List-Post: List-Help: List-Subscribe: , Errors-To: test-report-bounces@dpdk.org Test-Label: iol-unit-amd64-testing Test-Status: SUCCESS http://dpdk.org/patch/153460 _Testing PASS_ Submitter: Dean Marx Date: Thursday, May 15 2025 16:38:09 DPDK git baseline: Repo:dpdk Branch: master CommitID:1aef42bc97a31906486c9d66b792208948af06f3 153460 --> testing pass Upstream job id: Generic-Unit-Test-DPDK#338213 Test environment and result as below: +---------------------+----------------+ | Environment | dpdk_unit_test | +=====================+================+ | Debian 12 | PASS | +---------------------+----------------+ | CentOS Stream 10 | PASS | +---------------------+----------------+ | Fedora 40 | PASS | +---------------------+----------------+ | CentOS Stream 9 | PASS | +---------------------+----------------+ | Fedora 41 | PASS | +---------------------+----------------+ | Fedora 40 (Clang) | PASS | +---------------------+----------------+ | Fedora 41 (Clang) | PASS | +---------------------+----------------+ | Ubuntu 20.04 | PASS | +---------------------+----------------+ | RHEL8 | PASS | +---------------------+----------------+ | RHEL9 | PASS | +---------------------+----------------+ | Ubuntu 22.04 | PASS | +---------------------+----------------+ | Ubuntu 24.04 | PASS | +---------------------+----------------+ | Windows Server 2022 | PASS | +---------------------+----------------+ Debian 12 Kernel: Depends on container host Compiler: gcc (Debian 12.2.0-14) 12.2.0 CentOS Stream 10 Kernel: Depends on container host Compiler: gcc 14.2.1 20241104 (Red Hat 14.2.1-6) Fedora 40 Kernel: Depends on container host Compiler: gcc 14.2.1 20240912 (Red Hat 14.2.1-3) CentOS Stream 9 Kernel: Depends on container host Compiler: gcc 11.5.0 20240719 (Red Hat 11.5.0-2) Fedora 41 Kernel: Depends on container host Compiler: gcc 14.2.1 20240912 (Red Hat 14.2.1-3) Fedora 40 (Clang) Kernel: Depends on container host Compiler: clang 18.1.8 (Fedora 18.1.8-1.fc40) Fedora 41 (Clang) Kernel: Depends on container host Compiler: clang 19.1.5 (Fedora 19.1.5-1.fc41) Ubuntu 20.04 Kernel: Depends on container host Compiler: gcc (Ubuntu 9.4.0-1ubuntu1~20.04.2) 9.4.0 RHEL8 Kernel: Depends on container host Compiler: gcc 8.5.0 20210514 (Red Hat 8.5.0-22) RHEL9 Kernel: Depends on container host Compiler: gcc 11.5.0 20240719 (Red Hat 11.5.0-2) Ubuntu 22.04 Kernel: Depends on container host Compiler: gcc (Ubuntu 11.4.0-1ubuntu1~22.04) 11.4.0 Ubuntu 24.04 Kernel: Depends on container host Compiler: gcc (Ubuntu 13.3.0-6ubuntu2~24.04) 13.3.0 Windows Server 2022 Kernel: 10.0.20348.2031 Compiler: clang 15.0.7, gcc 14.1.0 (MinGW), and MSVC VS 19.39.33521 To view detailed results, visit: https://lab.dpdk.org/results/dashboard/patchsets/33183/ UNH-IOL DPDK Community Lab To manage your email subscriptions, visit: https://lab.dpdk.org/results/dashboard/preferences/subscriptions/