From mboxrd@z Thu Jan 1 00:00:00 1970 Return-Path: Received: from mails.dpdk.org (mails.dpdk.org [217.70.189.124]) by inbox.dpdk.org (Postfix) with ESMTP id 98CFE4675B for ; Fri, 16 May 2025 02:36:45 +0200 (CEST) Received: from mails.dpdk.org (localhost [127.0.0.1]) by mails.dpdk.org (Postfix) with ESMTP id 9365E400EF; Fri, 16 May 2025 02:36:45 +0200 (CEST) Received: from mail-il1-f227.google.com (mail-il1-f227.google.com [209.85.166.227]) by mails.dpdk.org (Postfix) with ESMTP id A0DF940041 for ; Fri, 16 May 2025 02:36:44 +0200 (CEST) Received: by mail-il1-f227.google.com with SMTP id e9e14a558f8ab-3d9189e9a06so6714835ab.2 for ; Thu, 15 May 2025 17:36:44 -0700 (PDT) DKIM-Signature: v=1; a=rsa-sha256; c=relaxed/relaxed; d=iol.unh.edu; s=unh-iol; t=1747355804; x=1747960604; darn=dpdk.org; h=references:in-reply-to:cc:to:from:subject:message-id:date:from:to :cc:subject:date:message-id:reply-to; bh=2ELM5eqO59I0V8d9zDH7QX4x6CiDyRW4AvarTeHPMdE=; b=EroFy4g5ufJYsK59Fyn7XoKCuHeSnO7aWAoL3qERPlkIuPI7DNgwRzEmstrlHY7jeh F/vAnnnJWijoMp0B4q4LPgroHUG2YS3v85IsQrnghMzmytsFa/ZNBCZ2LWUmtlZ/nQ+N aFU8jBBfsFE+ZhjlBdgqYGcpMeOVU6k8i0dbk= X-Google-DKIM-Signature: v=1; a=rsa-sha256; c=relaxed/relaxed; d=1e100.net; s=20230601; t=1747355804; x=1747960604; h=references:in-reply-to:cc:to:from:subject:message-id:date :x-gm-message-state:from:to:cc:subject:date:message-id:reply-to; bh=2ELM5eqO59I0V8d9zDH7QX4x6CiDyRW4AvarTeHPMdE=; b=aalpQnJy6MtOFieX97oKwiNX7JFshScbTIAFyvDWpPWg0MmfsRl7vjGhlybIimQtu4 M6eL/KrqoQDIsN8hYZN+W8Fse3M+8QerIBiT+FAgvPPnBsfJdVtxn7IqDU29FLt8fHXk U6uX8Rjn2agK3s+/vwSSOsfb4WiUB/QxcARkbkL+pfWxp7hWIIAW3MXGac8x+Euynp2Y nLedhRCBqH5ArPGHzIIoSOUEOEsu9WA6GNzzj0fJZvLBnxdwlOSiXFl+b6rtgWP1iWdG zckbP/jIbyloxY5Sw1KJ0om0PpbPDLfVR9RlMttJ0i7zlCKza2KtN+N48UVA+ZcLKhLB YyeQ== X-Gm-Message-State: AOJu0YwKT2Min5PuSxcS+CXIluogV5eEo1Pw00p1DCcKQ4xYc5z3b9Nf B43gPe57CnJDMcxAcLwzRdy253jmUmVqK+Ae+LdSsiMbJ2W5E6NloWXm5PqPDLTTCS6hdaOLeeH sHjg/61/iFzf6ItdxWrcUN+qehfpTZ1bGIuJqq2fFggbNpNFzfsgtKvmbCfI+ X-Gm-Gg: ASbGncsYw8gngjUwv1Fln0x9t/o2kl7krzBrHtyjzjfwMWm7rsU28FBP/8rKZsqFja9 xGyHRa3YQq/NX+czBMH0TlBv2Xgg60k0brZnTESJw0h7ZnKTyK+hq9uD4yKk4hHzTKaIZRVIiGF GE6R1QvPBKIM8dVQ24SoKuDSDc+anVS4XdwD43kozmJHNZJmw9k8YW9Hs7h96BM/SV1VC8wwxph ykFSNUQTUjuTnKM7lp79FV6UQHsb0VAzHMh6+mfJVounZEXfr9EqvRWDGpwmNBArmbvBLHkcZY4 TGc468zea4wvzcm9GoKJDMjfU9z8nLVMeZ6A X-Google-Smtp-Source: AGHT+IE0v4/8M+hlu8rR6Whg6FBXlzBzV4JnFur+7O/xvZQvmBUGsmpFP+otueBbxBfmpv8QHK4Fzzt5BG4s X-Received: by 2002:a05:6e02:2704:b0:3d4:3fbf:967d with SMTP id e9e14a558f8ab-3db857395e2mr7386435ab.7.1747355803817; Thu, 15 May 2025 17:36:43 -0700 (PDT) Received: from postal.iol.unh.edu (postal.iol.unh.edu. [2606:4100:3880:1234::84]) by smtp-relay.gmail.com with ESMTPS id 8926c6da1cb9f-4fbcc48b03dsm37440173.56.2025.05.15.17.36.43 (version=TLS1_2 cipher=ECDHE-ECDSA-AES128-GCM-SHA256 bits=128/128); Thu, 15 May 2025 17:36:43 -0700 (PDT) X-Relaying-Domain: iol.unh.edu Date: Thu, 15 May 2025 17:36:43 -0700 (PDT) Message-ID: <6826889b.050a0220.a76ba.1e5aSMTPIN_ADDED_MISSING@mx.google.com> Received: from [172.21.0.5] (unknown [172.18.0.240]) by postal.iol.unh.edu (Postfix) with ESMTP id 5A7E96052471; Thu, 15 May 2025 20:36:43 -0400 (EDT) Subject: |SUCCESS| pw153460 [PATCH] [RFC] dts: add rte flow test suite From: dpdklab@iol.unh.edu To: Test Report Cc: dpdk-test-reports@iol.unh.edu In-Reply-To: <20250515163809.184720-2-dmarx@iol.unh.edu> References: <20250515163809.184720-2-dmarx@iol.unh.edu> Content-Type: text/plain X-BeenThere: test-report@dpdk.org X-Mailman-Version: 2.1.29 Precedence: list List-Id: automatic DPDK test reports List-Unsubscribe: , List-Archive: List-Post: List-Help: List-Subscribe: , Errors-To: test-report-bounces@dpdk.org Test-Label: iol-unit-amd64-testing Test-Status: SUCCESS http://dpdk.org/patch/153460 _Testing PASS_ Submitter: Dean Marx Date: Thursday, May 15 2025 16:38:09 DPDK git baseline: Repo:dpdk Branch: master CommitID:1aef42bc97a31906486c9d66b792208948af06f3 153460 --> testing pass Upstream job id: Generic-Unit-Test-DPDK#338209 Test environment and result as below: +---------------------+----------------+ | Environment | dpdk_unit_test | +=====================+================+ | Debian 12 | PASS | +---------------------+----------------+ | CentOS Stream 10 | PASS | +---------------------+----------------+ | Fedora 40 | PASS | +---------------------+----------------+ | CentOS Stream 9 | PASS | +---------------------+----------------+ | Fedora 41 | PASS | +---------------------+----------------+ | Fedora 40 (Clang) | PASS | +---------------------+----------------+ | Fedora 41 (Clang) | PASS | +---------------------+----------------+ | Ubuntu 20.04 | PASS | +---------------------+----------------+ | RHEL8 | PASS | +---------------------+----------------+ | RHEL9 | PASS | +---------------------+----------------+ | Ubuntu 22.04 | PASS | +---------------------+----------------+ | Ubuntu 24.04 | PASS | +---------------------+----------------+ | Windows Server 2022 | PASS | +---------------------+----------------+ Debian 12 Kernel: Depends on container host Compiler: gcc (Debian 12.2.0-14) 12.2.0 CentOS Stream 10 Kernel: Depends on container host Compiler: gcc 14.2.1 20241104 (Red Hat 14.2.1-6) Fedora 40 Kernel: Depends on container host Compiler: gcc 14.2.1 20240912 (Red Hat 14.2.1-3) CentOS Stream 9 Kernel: Depends on container host Compiler: gcc 11.5.0 20240719 (Red Hat 11.5.0-2) Fedora 41 Kernel: Depends on container host Compiler: gcc 14.2.1 20240912 (Red Hat 14.2.1-3) Fedora 40 (Clang) Kernel: Depends on container host Compiler: clang 18.1.8 (Fedora 18.1.8-1.fc40) Fedora 41 (Clang) Kernel: Depends on container host Compiler: clang 19.1.5 (Fedora 19.1.5-1.fc41) Ubuntu 20.04 Kernel: Depends on container host Compiler: gcc (Ubuntu 9.4.0-1ubuntu1~20.04.2) 9.4.0 RHEL8 Kernel: Depends on container host Compiler: gcc 8.5.0 20210514 (Red Hat 8.5.0-22) RHEL9 Kernel: Depends on container host Compiler: gcc 11.5.0 20240719 (Red Hat 11.5.0-2) Ubuntu 22.04 Kernel: Depends on container host Compiler: gcc (Ubuntu 11.4.0-1ubuntu1~22.04) 11.4.0 Ubuntu 24.04 Kernel: Depends on container host Compiler: gcc (Ubuntu 13.3.0-6ubuntu2~24.04) 13.3.0 Windows Server 2022 Kernel: 10.0.20348.2031 Compiler: clang 15.0.7, gcc 14.1.0 (MinGW), and MSVC VS 19.39.33521 To view detailed results, visit: https://lab.dpdk.org/results/dashboard/patchsets/33183/ UNH-IOL DPDK Community Lab To manage your email subscriptions, visit: https://lab.dpdk.org/results/dashboard/preferences/subscriptions/