From mboxrd@z Thu Jan 1 00:00:00 1970 Return-Path: Received: from mails.dpdk.org (mails.dpdk.org [217.70.189.124]) by inbox.dpdk.org (Postfix) with ESMTP id 2502E4675B for ; Fri, 16 May 2025 02:51:19 +0200 (CEST) Received: from mails.dpdk.org (localhost [127.0.0.1]) by mails.dpdk.org (Postfix) with ESMTP id 1BBDF400EF; Fri, 16 May 2025 02:51:19 +0200 (CEST) Received: from mail-il1-f226.google.com (mail-il1-f226.google.com [209.85.166.226]) by mails.dpdk.org (Postfix) with ESMTP id 71EDE40041 for ; Fri, 16 May 2025 02:51:17 +0200 (CEST) Received: by mail-il1-f226.google.com with SMTP id e9e14a558f8ab-3d965c64d53so5451335ab.1 for ; Thu, 15 May 2025 17:51:17 -0700 (PDT) DKIM-Signature: v=1; a=rsa-sha256; c=relaxed/relaxed; d=iol.unh.edu; s=unh-iol; t=1747356676; x=1747961476; darn=dpdk.org; h=references:in-reply-to:cc:to:from:subject:message-id:date:from:to :cc:subject:date:message-id:reply-to; bh=ZUtM3VWC2q4ogTsUUYv9PqYOGs3NkBtLdO4BsqzogAA=; b=FQQkZ8RcWTE1qss1wXQgCXPcsX2WHwtc1GB5KGSCfDHuvRQsCwtmib45Z5n4xBgyl7 kJibElcV9x4Di7vVyy4bfnvW5QNixww67B8XI7rOkEjfHsRjJIYAoT9Z6uxG+i1DKiNI Y3845Vo6Ere/96gTISu+AoeHYNqCAoiWybK0g= X-Google-DKIM-Signature: v=1; a=rsa-sha256; c=relaxed/relaxed; d=1e100.net; s=20230601; t=1747356676; x=1747961476; h=references:in-reply-to:cc:to:from:subject:message-id:date :x-gm-message-state:from:to:cc:subject:date:message-id:reply-to; bh=ZUtM3VWC2q4ogTsUUYv9PqYOGs3NkBtLdO4BsqzogAA=; b=GdCwUjxuHTUT+4YW1bQOibIFrQXTlbxMei5LOs/WzMUhUzK5OjuSKp1WKEYVBvWj14 PkQID71u1MiOcwRR3lpVW+U6vpmwjcs2aa+QxBuJXgMcWj4K0wDVrEMbP+tBb6cDix7b cASHDA9+4c0EwhXbwe7NNXyo2NHNh6gg618QBbvkwsf4nSADkMfPcJG/+MRO+PNqsEv/ zFoXg7RqZtZolYfGrioT1750OzsakaYZHfuUIxnoQE2FTLjAdIGzlv4zj5x/KHhfwmWk 3q0lUi2tem/8zolC8AkXR+OZst9PpMHIsVR4CBdQAnM+H1WuZtf563XpABD1t4DP9lSJ sVQQ== X-Gm-Message-State: AOJu0YwP3kJGTyAZKmlEb21iB5ggQEDiQXM+NX5qydRJn8WOPIC9LJRe EMO4lEWEAMpjTWRBWMOJrbiBKUPzqGbtHE23J/JqHZPtkFvXppyt/CvAqlW4gl0qb5SW1R2YmD0 QHjQHDtu56gx/hkutnD5+9iLl6+xt76EaIzQS4KR0oKAK X-Gm-Gg: ASbGncvG2Wz5/mdVOUK0YckvB1wwNSy+piDCNMFL0UH/Bj/6S6z8V7qmZ7Tg5WFLMUp +Qz9oqH0bHuIkyPulO23dHmvj0bWuyZLIz1NXDkb2BXixBvYPcIaTfCzRCuj2ScIiNKuhlp14LQ JI3IzClRKxz1Xae29yf/rT7HTulW/620oxAv7gcQgtxtqhspMLL5V9BSb+VjQMs1hrov6sK4S/X 15nONMEyN6cFp7ZAfyg/GUgIi8lfGeovK76CQfRMFq7JIE7TsX4Owu7zjg7E++1rw1YoLzc84A9 ZKpZlt2g17Geno8xbMRBh4KBSA3o7ZgsYUW/1xyrIfu/1fh0WwwZb5zEPKE= X-Google-Smtp-Source: AGHT+IH617RJgBaeJ1ueVqTDE9/QuidkO7CVBDvqSz23xNDeSPxwgeghUuRvNraC26o5ZEqyZUf69QdD7QYd X-Received: by 2002:a05:6e02:1a23:b0:3d5:8937:f419 with SMTP id e9e14a558f8ab-3db8430b17bmr22552105ab.13.1747356676615; Thu, 15 May 2025 17:51:16 -0700 (PDT) Received: from postal.iol.unh.edu (postal.iol.unh.edu. [132.177.123.84]) by smtp-relay.gmail.com with ESMTPS id 8926c6da1cb9f-4fbcc48b052sm39602173.48.2025.05.15.17.51.16 (version=TLS1_2 cipher=ECDHE-ECDSA-AES128-GCM-SHA256 bits=128/128); Thu, 15 May 2025 17:51:16 -0700 (PDT) X-Relaying-Domain: iol.unh.edu Date: Thu, 15 May 2025 17:51:16 -0700 (PDT) Message-ID: <68268c04.050a0220.a7707.2171SMTPIN_ADDED_MISSING@mx.google.com> Received: from [172.21.0.5] (unknown [172.18.0.240]) by postal.iol.unh.edu (Postfix) with ESMTP id 3D5876052471; Thu, 15 May 2025 20:51:16 -0400 (EDT) Subject: |SUCCESS| pw153458 [PATCH] [v2] net/ice: fix flow creation failure From: dpdklab@iol.unh.edu To: Test Report Cc: dpdk-test-reports@iol.unh.edu In-Reply-To: <20250515112348.7746-1-dhanya.r.pillai@intel.com> References: <20250515112348.7746-1-dhanya.r.pillai@intel.com> Content-Type: text/plain X-BeenThere: test-report@dpdk.org X-Mailman-Version: 2.1.29 Precedence: list List-Id: automatic DPDK test reports List-Unsubscribe: , List-Archive: List-Post: List-Help: List-Subscribe: , Errors-To: test-report-bounces@dpdk.org Test-Label: iol-compile-arm64-testing Test-Status: SUCCESS http://dpdk.org/patch/153458 _Testing PASS_ Submitter: Dhanya Pillai Date: Thursday, May 15 2025 11:23:44 DPDK git baseline: Repo:dpdk Branch: master CommitID:51e889518fc861f1af5acbbc133a75203225655c 153458 --> testing pass Upstream job id: Generic-DPDK-Compile-Meson#388299 Test environment and result as below: +----------------------------------------+--------------------+ | Environment | dpdk_meson_compile | +========================================+====================+ | RHEL9 (ARM) | PASS | +----------------------------------------+--------------------+ | Ubuntu 20.04 ARM GCC Cross Compile | PASS | +----------------------------------------+--------------------+ | Ubuntu 20.04 ARM SVE | PASS | +----------------------------------------+--------------------+ | Debian 12 with MUSDK | PASS | +----------------------------------------+--------------------+ | Fedora 40 (ARM) | PASS | +----------------------------------------+--------------------+ | Fedora 40 (ARM Clang) | PASS | +----------------------------------------+--------------------+ | Fedora 41 (ARM) | PASS | +----------------------------------------+--------------------+ | Fedora 41 (ARM Clang) | PASS | +----------------------------------------+--------------------+ | Ubuntu 20.04 (ARM) | PASS | +----------------------------------------+--------------------+ | Ubuntu 22.04 (ARM) | PASS | +----------------------------------------+--------------------+ | Ubuntu 24.04 (ARM) | PASS | +----------------------------------------+--------------------+ | CentOS Stream 9 (ARM) | PASS | +----------------------------------------+--------------------+ | CentOS Stream 10 (ARM) | PASS | +----------------------------------------+--------------------+ | Debian 12 (arm) | PASS | +----------------------------------------+--------------------+ | Ubuntu 20.04 ARM Clang Cross Compile | PASS | +----------------------------------------+--------------------+ | Ubuntu 20.04 aarch32 GCC Cross Compile | PASS | +----------------------------------------+--------------------+ RHEL9 (ARM) Kernel: Depends on container host Compiler: gcc 11.5.0 20240719 (Red Hat 11.5.0-2) Ubuntu 20.04 ARM GCC Cross Compile Kernel: Depends on container host Compiler: aarch64-linux-gnu-gcc (Ubuntu 9.4.0-1ubuntu1~20.04.2) 9.4.0 Ubuntu 20.04 ARM SVE Kernel: Depends on container host Compiler: gcc (Ubuntu 10.5.0-1ubuntu1~20.04) 10.5.0 Debian 12 with MUSDK Kernel: Depends on container host Compiler: gcc (Debian 12.2.0-14) 12.2.0 Fedora 40 (ARM) Kernel: Depends on container host Compiler: gcc 14.2.1 20240912 (Red Hat 14.2.1-3) Fedora 40 (ARM Clang) Kernel: Depends on container host Compiler: clang 18.1.8 (Fedora 18.1.8-1.fc40) Fedora 41 (ARM) Kernel: Depends on container host Compiler: gcc 14.2.1 20240912 (Red Hat 14.2.1-3) Fedora 41 (ARM Clang) Kernel: Depends on container host Compiler: clang 19.1.5 (Fedora 19.1.5-1.fc41) Ubuntu 20.04 (ARM) Kernel: Depends on container host Compiler: gcc (Ubuntu 9.4.0-1ubuntu1~20.04.2) 9.4.0 Ubuntu 22.04 (ARM) Kernel: Depends on container host Compiler: gcc (Ubuntu 11.4.0-1ubuntu1~22.04) 11.4.0 Ubuntu 24.04 (ARM) Kernel: Depends on container host Compiler: gcc (Ubuntu 13.3.0-6ubuntu2~24.04) 13.3.0 CentOS Stream 9 (ARM) Kernel: Depends on container host Compiler: gcc 11.5.0 20240719 (Red Hat 11.5.0-2) CentOS Stream 10 (ARM) Kernel: Depends on container host Compiler: gcc 14.2.1 20241104 (Red Hat 14.2.1-6) Debian 12 (arm) Kernel: Depends on container host Compiler: gcc (Debian 12.2.0-14) 12.2.0 Ubuntu 20.04 ARM Clang Cross Compile Kernel: Depends on container host Compiler: clang 10.0.0-4ubuntu1 Ubuntu 20.04 aarch32 GCC Cross Compile Kernel: Depends on container host Compiler: gcc 9.4.0 To view detailed results, visit: https://lab.dpdk.org/results/dashboard/patchsets/33181/ UNH-IOL DPDK Community Lab To manage your email subscriptions, visit: https://lab.dpdk.org/results/dashboard/preferences/subscriptions/