From mboxrd@z Thu Jan 1 00:00:00 1970 Return-Path: Received: from mails.dpdk.org (mails.dpdk.org [217.70.189.124]) by inbox.dpdk.org (Postfix) with ESMTP id 7A73C4675B for ; Fri, 16 May 2025 03:11:09 +0200 (CEST) Received: from mails.dpdk.org (localhost [127.0.0.1]) by mails.dpdk.org (Postfix) with ESMTP id 45CA3400EF; Fri, 16 May 2025 03:11:09 +0200 (CEST) Received: from mail-yb1-f226.google.com (mail-yb1-f226.google.com [209.85.219.226]) by mails.dpdk.org (Postfix) with ESMTP id 5DA2940041 for ; Fri, 16 May 2025 03:11:07 +0200 (CEST) Received: by mail-yb1-f226.google.com with SMTP id 3f1490d57ef6-e7b391ba6a1so1627384276.2 for ; Thu, 15 May 2025 18:11:07 -0700 (PDT) DKIM-Signature: v=1; a=rsa-sha256; c=relaxed/relaxed; d=iol.unh.edu; s=unh-iol; t=1747357866; x=1747962666; darn=dpdk.org; h=cc:to:from:subject:message-id:date:from:to:cc:subject:date :message-id:reply-to; bh=Y0f88/kEJxdLhqt3G0hkA9cyJbDsc0A8215nl0xjdL4=; b=bAf0uIgspRpUSsL55Pn09dw13vLxldVlSIuEpA29MDUfKKYhog5hw8qyh/dyOgofMk ZNs4/4UMv2d782VdnRSOWLmE9rv3ENfLiRrFB+e8K1D0hpkzhop7iTxJ2G9Pny7LI6hT FxC/+upLfnXiUBNeoaDtZ5AuUfnrdXpkStdNw= X-Google-DKIM-Signature: v=1; a=rsa-sha256; c=relaxed/relaxed; d=1e100.net; s=20230601; t=1747357866; x=1747962666; h=cc:to:from:subject:message-id:date:x-gm-message-state:from:to:cc :subject:date:message-id:reply-to; bh=Y0f88/kEJxdLhqt3G0hkA9cyJbDsc0A8215nl0xjdL4=; b=DWdZB52PXLH2HSHVLXOqsxInkJJyDKML8/R34J+QLGUJ4VQ+SN2q0lkMQB6Cw6PAJ5 9czpPrDms/CcaJjn4hPCYzML7imrv57HQRd0e9Q9HZsUJ2scUuCGGUkYQGDWFVPmoDWD Jc0CGwPbLRaSPJamHcjrW3kfBGaxtZmwwGM90SRGTNGWEPshnCJmVZ2NnRlLOoZKnX/O PDL/eWCoEnsdCsjruA/tYGDtstGq7nir2FJqmK42sVW0zMsKBspvwnlIXyWf4H0A5Pji hyQX1DPIll1YFfRfrg8K6egTfBfxN6HlSXeGclGKjbLhv+sQFXciAmjZG3ZjVr0TAsCZ CiVA== X-Gm-Message-State: AOJu0Yy5a2Z3TxpJL8MH/7Hxt6lpBsqlcgVqhhLYDkw2f+y66PwwE28B zhVa7r0mKLIH9A5afNnhd8ZhZtlElpErro+DxCKk1Re52mzrc0pVLZq+Pdpk/KFAlEykugM8iPX OrsRbMDNmCMnVzc4lyvlNBc7a47IjpnS6K+TeP27LZeuz X-Gm-Gg: ASbGncudI7qjx6BVqJNjQEaz0Kmgp3owTctnt30o0DA9ps/cD4l2dlq9Ce8RQNTDMif XeZFPxvlceubApURLIB83KxRcRHO5WuSvZfKzwcQHUs5UuGgjfUBQdrQ6TVtfM+WD/zdRGho3et hQERa4p7+nLOPXzB8PWR6GnhCd9PGub97ce62eWMj7annKqiDwn56kSY//iBzrJg0/0cRBJNPi6 nycLX/la12KeFIqO1ItJBIISL3RxPBNT94oi7iAx5Prg5qQ8FKWJz/mFveOQOrCU+AtFEly3AvQ WnOvcQc0rTJ5Is1Op1qfhCKRVBLulVyV6KE2ZwG704zka/AEDYSXkwveTuk= X-Google-Smtp-Source: AGHT+IFzJNyo4+TKNS7dbFp3q3ZGISK4EjV9cTyARhO6UaTenKmqnTCMqk2MPEVlSL0rRRzA6oTMR7ZGD3ql X-Received: by 2002:a05:690c:6089:b0:6f9:7921:480e with SMTP id 00721157ae682-70ca7975c0cmr28663597b3.5.1747357866414; Thu, 15 May 2025 18:11:06 -0700 (PDT) Received: from postal.iol.unh.edu (postal.iol.unh.edu. [132.177.123.84]) by smtp-relay.gmail.com with ESMTPS id 00721157ae682-70ca84f0cb1sm238117b3.57.2025.05.15.18.11.06 (version=TLS1_2 cipher=ECDHE-ECDSA-AES128-GCM-SHA256 bits=128/128); Thu, 15 May 2025 18:11:06 -0700 (PDT) X-Relaying-Domain: iol.unh.edu Date: Thu, 15 May 2025 18:11:06 -0700 (PDT) Message-ID: <682690aa.050a0220.aa14f.1425SMTPIN_ADDED_MISSING@mx.google.com> Received: from [172.21.0.6] (unknown [172.18.0.240]) by postal.iol.unh.edu (Postfix) with ESMTP id C05A26052471; Thu, 15 May 2025 21:11:05 -0400 (EDT) Subject: |SUCCESS| [GIT MASTER] dcf9f9363aa9b4163d241caf8b26a84ca0c0006b From: dpdklab@iol.unh.edu To: Test Report Cc: dpdk-test-reports@iol.unh.edu, Akhil Goyal Content-Type: text/plain X-BeenThere: test-report@dpdk.org X-Mailman-Version: 2.1.29 Precedence: list List-Id: automatic DPDK test reports List-Unsubscribe: , List-Archive: List-Post: List-Help: List-Subscribe: , Errors-To: test-report-bounces@dpdk.org _Testing PASS_ Branch: dpdk-next-crypto dcf9f9363aa9b4163d241caf8b26a84ca0c0006b --> testing pass Upstream job id: Generic-Unit-Test-DPDK#338244 Test environment and result as below: +---------------------+----------------+ | Environment | dpdk_unit_test | +=====================+================+ | CentOS Stream 9 | PASS | +---------------------+----------------+ | CentOS Stream 10 | PASS | +---------------------+----------------+ | Debian 12 | PASS | +---------------------+----------------+ | Fedora 40 | PASS | +---------------------+----------------+ | Fedora 41 | PASS | +---------------------+----------------+ | RHEL8 | PASS | +---------------------+----------------+ | Fedora 41 (Clang) | PASS | +---------------------+----------------+ | RHEL9 | PASS | +---------------------+----------------+ | Fedora 40 (Clang) | PASS | +---------------------+----------------+ | Ubuntu 20.04 | PASS | +---------------------+----------------+ | Ubuntu 22.04 | PASS | +---------------------+----------------+ | Ubuntu 24.04 | PASS | +---------------------+----------------+ | Windows Server 2022 | PASS | +---------------------+----------------+ CentOS Stream 9 Kernel: Depends on container host Compiler: gcc 11.5.0 20240719 (Red Hat 11.5.0-2) CentOS Stream 10 Kernel: Depends on container host Compiler: gcc 14.2.1 20241104 (Red Hat 14.2.1-6) Debian 12 Kernel: Depends on container host Compiler: gcc (Debian 12.2.0-14) 12.2.0 Fedora 40 Kernel: Depends on container host Compiler: gcc 14.2.1 20240912 (Red Hat 14.2.1-3) Fedora 41 Kernel: Depends on container host Compiler: gcc 14.2.1 20240912 (Red Hat 14.2.1-3) RHEL8 Kernel: Depends on container host Compiler: gcc 8.5.0 20210514 (Red Hat 8.5.0-22) Fedora 41 (Clang) Kernel: Depends on container host Compiler: clang 19.1.5 (Fedora 19.1.5-1.fc41) RHEL9 Kernel: Depends on container host Compiler: gcc 11.5.0 20240719 (Red Hat 11.5.0-2) Fedora 40 (Clang) Kernel: Depends on container host Compiler: clang 18.1.8 (Fedora 18.1.8-1.fc40) Ubuntu 20.04 Kernel: Depends on container host Compiler: gcc (Ubuntu 9.4.0-1ubuntu1~20.04.2) 9.4.0 Ubuntu 22.04 Kernel: Depends on container host Compiler: gcc (Ubuntu 11.4.0-1ubuntu1~22.04) 11.4.0 Ubuntu 24.04 Kernel: Depends on container host Compiler: gcc (Ubuntu 13.3.0-6ubuntu2~24.04) 13.3.0 Windows Server 2022 Kernel: 10.0.20348.2031 Compiler: clang 15.0.7, gcc 14.1.0 (MinGW), and MSVC VS 19.39.33521 To view detailed results, visit: https://lab.dpdk.org/results/dashboard/tarballs/33546/ UNH-IOL DPDK Community Lab To manage your email subscriptions, visit: https://lab.dpdk.org/results/dashboard/preferences/subscriptions/