From mboxrd@z Thu Jan 1 00:00:00 1970 Return-Path: Received: from mails.dpdk.org (mails.dpdk.org [217.70.189.124]) by inbox.dpdk.org (Postfix) with ESMTP id 1C1984675B for ; Fri, 16 May 2025 03:29:12 +0200 (CEST) Received: from mails.dpdk.org (localhost [127.0.0.1]) by mails.dpdk.org (Postfix) with ESMTP id EFB6E400EF; Fri, 16 May 2025 03:29:11 +0200 (CEST) Received: from mail-yb1-f227.google.com (mail-yb1-f227.google.com [209.85.219.227]) by mails.dpdk.org (Postfix) with ESMTP id E819D40041 for ; Fri, 16 May 2025 03:29:10 +0200 (CEST) Received: by mail-yb1-f227.google.com with SMTP id 3f1490d57ef6-e7311e66a8eso1508840276.2 for ; Thu, 15 May 2025 18:29:10 -0700 (PDT) DKIM-Signature: v=1; a=rsa-sha256; c=relaxed/relaxed; d=iol.unh.edu; s=unh-iol; t=1747358950; x=1747963750; darn=dpdk.org; h=references:in-reply-to:cc:to:from:subject:message-id:date:from:to :cc:subject:date:message-id:reply-to; bh=i0o4W/T/oqqEpApDDDhq2Fq4G8GIuLx1vjm3VMxIQv0=; b=KxxGmF9hcplr/gODPBuYepGrhN3PisnyglzOEufcAd/P3MKvUufKE2epg+7Cda/0g2 Ksxwye1UzczGXYr6DxpbhTxRRmYxU0KgzzQb+hxojfcLQwcmMl09XjWQEw53qqE7pAcv EkCfzEnUhxNiXIQ/sM4yQ6bcCysZkDZc7vBRs= X-Google-DKIM-Signature: v=1; a=rsa-sha256; c=relaxed/relaxed; d=1e100.net; s=20230601; t=1747358950; x=1747963750; h=references:in-reply-to:cc:to:from:subject:message-id:date :x-gm-message-state:from:to:cc:subject:date:message-id:reply-to; bh=i0o4W/T/oqqEpApDDDhq2Fq4G8GIuLx1vjm3VMxIQv0=; b=RdjugeVJyIiKDPO2kE/nJSP9XSLpb7ccPKELU3uZFhzub2NMULAmRCQVhtOfwqy+p1 SAmfyHSytREUGK4doxw/hlEzwLAuSWzGT3o4LHPzp0/fbjuFF+iPQDu0JehvCXefr4AN WTPS9VYjVgm5qVfyBNCT6QR9F+EOgDpQAkK+Yc1vi/yRlmgYQfn04PTEj7UGdVwBzjI9 dq1D1w/djef8w+ojWWyw4Yuuysx68npX368kIA+gfpnyeVvXMC4KLcAnB8cQxdC5hyKG xSUWobSAYd/GP1u0xuhAlsRmdgF+qcTTYOchdkpXxKegYdsuSLz1xKUjXfii9nMlmaub lK7w== X-Gm-Message-State: AOJu0YzEGyjagIG+7wXmdZssd3TkprXpNBt4vBGJuiDcuGlRWUTZ+s6P DwEd1n+hvH5E3IBa+31Q7LW1KxufTVDIGEx/kWCQLb3xgRmqCZl6zEgwPwLYUXjqJ2lNCyXUwBk jKME3fmZNEJgUffxj0+Wy025vzCPktw8f45UhF3R2cjUQ X-Gm-Gg: ASbGncvCBX8gdXgtIkcHlGhZuFlIiHCX23sRVGY+/Du2L46iJKipSvGeAfIs0BLqMBk LgwwQCTuO29uhgRnAthEp3C/5roZzF4xCB/vaMcwgGBqoJnutFafM8BexATjX1wzG36OBliKYew gmoRwbITEXKlbodnuqD6/+fiQK1VnVRMCZnTsRfZLLJmJWZ/PZw/p+H/1OFq/Uw8tLN45I9X2JV p3RN8AItL0zowDfsWzCaAlzkVjGBw/Ve6Tdhsd+Y7zJ25WhSNqRSRvktIar7PdpT0hWlRON6XIU F7AxLpTQoX0cU8HsUvNV0e3TJMh8+50SKQPyeARXYldcbIBn+kufAMptvBY= X-Google-Smtp-Source: AGHT+IFle6LIFswBVsJ/AHVq5NutKRnMA0Goyimt4UyO8VcsGtdks1FJL6rLYAmY8PVS04buQcK+63+tcbWJ X-Received: by 2002:a05:6902:c08:b0:e72:ba52:87fb with SMTP id 3f1490d57ef6-e7b69e8637emr2832867276.11.1747358950156; Thu, 15 May 2025 18:29:10 -0700 (PDT) Received: from postal.iol.unh.edu (postal.iol.unh.edu. [132.177.123.84]) by smtp-relay.gmail.com with ESMTPS id 3f1490d57ef6-e7b6acafa53sm45015276.6.2025.05.15.18.29.10 (version=TLS1_2 cipher=ECDHE-ECDSA-AES128-GCM-SHA256 bits=128/128); Thu, 15 May 2025 18:29:10 -0700 (PDT) X-Relaying-Domain: iol.unh.edu Date: Thu, 15 May 2025 18:29:10 -0700 (PDT) Message-ID: <682694e6.250a0220.305ca0.2718SMTPIN_ADDED_MISSING@mx.google.com> Received: from [172.21.0.14] (unknown [172.18.0.240]) by postal.iol.unh.edu (Postfix) with ESMTP id 8F2956052471; Thu, 15 May 2025 21:29:09 -0400 (EDT) Subject: |SUCCESS| pw153444 [PATCH] crypto/virtio: check for invalid IOVA add From: dpdklab@iol.unh.edu To: Test Report Cc: dpdk-test-reports@iol.unh.edu In-Reply-To: <20250515080313.1612-1-gmuthukrishn@marvell.com> References: <20250515080313.1612-1-gmuthukrishn@marvell.com> Content-Type: text/plain X-BeenThere: test-report@dpdk.org X-Mailman-Version: 2.1.29 Precedence: list List-Id: automatic DPDK test reports List-Unsubscribe: , List-Archive: List-Post: List-Help: List-Subscribe: , Errors-To: test-report-bounces@dpdk.org Test-Label: iol-sample-apps-testing Test-Status: SUCCESS http://dpdk.org/patch/153444 _Testing PASS_ Submitter: Gowrishankar Muthukrishnan Date: Thursday, May 15 2025 08:03:10 DPDK git baseline: Repo:dpdk Branch: master CommitID:dcf9f9363aa9b4163d241caf8b26a84ca0c0006b 153444 --> testing pass Upstream job id: ACVP-FIPS-testing#9820 Test environment and result as below: +--------------------+----------------------+----------------------+ | Environment | compressdev_zlib_pmd | dpdk_fips_validation | +====================+======================+======================+ | Ubuntu 22.04 (ARM) | PASS | SKIPPED | +--------------------+----------------------+----------------------+ | Ubuntu 22.04 | PASS | SKIPPED | +--------------------+----------------------+----------------------+ | Ubuntu 20.04 | SKIPPED | PASS | +--------------------+----------------------+----------------------+ Ubuntu 22.04 (ARM) Kernel: 5.15.0-97-generic Compiler: gcc gcc (Ubuntu 11.4.0-1ubuntu1~22.04) 11.4.0 Ubuntu 22.04 Kernel: 5.15.0-100-generic Compiler: gcc gcc (Ubuntu 11.4.0-1ubuntu1~22.04) 11.4.0 Ubuntu 20.04 Kernel: Depends on container host Compiler: gcc (Ubuntu 9.4.0-1ubuntu1~20.04.2) 9.4.0 To view detailed results, visit: https://lab.dpdk.org/results/dashboard/patchsets/33175/ UNH-IOL DPDK Community Lab To manage your email subscriptions, visit: https://lab.dpdk.org/results/dashboard/preferences/subscriptions/