From mboxrd@z Thu Jan 1 00:00:00 1970 Return-Path: Received: from mails.dpdk.org (mails.dpdk.org [217.70.189.124]) by inbox.dpdk.org (Postfix) with ESMTP id 683F94675B for ; Fri, 16 May 2025 03:31:26 +0200 (CEST) Received: from mails.dpdk.org (localhost [127.0.0.1]) by mails.dpdk.org (Postfix) with ESMTP id 40CE1400EF; Fri, 16 May 2025 03:31:26 +0200 (CEST) Received: from mail-pg1-f228.google.com (mail-pg1-f228.google.com [209.85.215.228]) by mails.dpdk.org (Postfix) with ESMTP id 17B9240041 for ; Fri, 16 May 2025 03:31:25 +0200 (CEST) Received: by mail-pg1-f228.google.com with SMTP id 41be03b00d2f7-7fd35b301bdso1627730a12.2 for ; Thu, 15 May 2025 18:31:24 -0700 (PDT) DKIM-Signature: v=1; a=rsa-sha256; c=relaxed/relaxed; d=iol.unh.edu; s=unh-iol; t=1747359084; x=1747963884; darn=dpdk.org; h=references:in-reply-to:cc:to:from:subject:message-id:date:from:to :cc:subject:date:message-id:reply-to; bh=nRTDpoxpEhZ4DmiN2FjJSfJwacJuYRQOiBuqtrE4v30=; b=a2damTKcnDNi14DcLD72W4DpzPakFNeQGUoxmxTzjd/vuNsGothZMNrzx/iOHqHw0u W3WE78D1H5hr6eRNtKS+l4Al/h/ns2yY2im+URVOGt2lmifBfW40+IuzQNT8gU1LtuHD nagoR4tACKAR/dwt4KhbRTQ8Fv2SQ67Ga/A+c= X-Google-DKIM-Signature: v=1; a=rsa-sha256; c=relaxed/relaxed; d=1e100.net; s=20230601; t=1747359084; x=1747963884; h=references:in-reply-to:cc:to:from:subject:message-id:date :x-gm-message-state:from:to:cc:subject:date:message-id:reply-to; bh=nRTDpoxpEhZ4DmiN2FjJSfJwacJuYRQOiBuqtrE4v30=; b=dj4k+6/g7wAG11CW6O2c2Ejro2awp5PYNdXV7npIXUlH4C5yThEI9fBa3W2Bh6lBhG rFkB6SG4fQZhbtj2pY5OcdfBeo9VXhcz+Z4r19FgW40tNrC8BqhgYiq6lSKSp4ghudKU J3/VY6Or4C0LqHAPxBxNVO2WGMZdqVfD1T0flM+5MT91om2EYQA7WZrNbHE+d9JX8RaE mwW2bB2Cwrv7DrMhTtzm4YiJt2FMWWIZMiQnJo1PgPKgBdQm1NjwJ3T38bQ6mMIHYXUt gCLxiZMWN8/F4OrywBy6MiyLWABBxAofEVd9rAhBOMtD9+wEKivwrH3L2/w79dlLFHIz yYfQ== X-Gm-Message-State: AOJu0YxismEwBuuzNLcsq62Nr1/xh2YkImnh2PvnfETaEWZsL1wDb1XL ATZI72xnJFl2SuXH8Key1MhiDZLrdQ8D1XjpOQG9QFR5jzj2sMOL4hcLQBH/bBSiqZbCdBiBOU9 rGCRcfmFIMi2LFW/Eviai32vjbL9yEDewGD5FrNzZWf0xfBxxTWZDp9M2HQbz X-Gm-Gg: ASbGncsjUzKHy9FSSb2mNdfeQw7ihY7m1HWleUPDS6M7jVy/mnSTKL70u50NhL30Dd2 PcWgFxqxfSOPJZ+9dvcUh+7zNxlhBJg2YQzUe73g3mqZpGIhKiBUNFtpP2OHyC4ixtF9jnPurwO vRIb+mc31MGLQQgf8tkpUs/mpbQwwLi/HuW/5/jEcwGCRqU2yqYZnB2kXRkt/SaTvDit28ALAfx ZdG+nXTGu444xm35eDIRMs4Ymebc4FymFARCLH9G3zOE6id6a2pr200qVTHV5942XODcyCr1icZ CLfynXqV91gRsiG635UkTKjOfEFkLfeHamvh X-Google-Smtp-Source: AGHT+IGE2DRrx7aVjtfHbx+v7nAXJ0nd8294X3yUfNCDmlD2hkkBuPEBK4e4f7g8B4U7P0QgR+zMU0JMJTIq X-Received: by 2002:a17:903:46d0:b0:21f:f3d:d533 with SMTP id d9443c01a7336-231de351537mr7528165ad.2.1747359084059; Thu, 15 May 2025 18:31:24 -0700 (PDT) Received: from postal.iol.unh.edu (postal.iol.unh.edu. [2606:4100:3880:1234::84]) by smtp-relay.gmail.com with ESMTPS id d9443c01a7336-231d4ebb860sm455445ad.117.2025.05.15.18.31.23 (version=TLS1_2 cipher=ECDHE-ECDSA-AES128-GCM-SHA256 bits=128/128); Thu, 15 May 2025 18:31:24 -0700 (PDT) X-Relaying-Domain: iol.unh.edu Date: Thu, 15 May 2025 18:31:24 -0700 (PDT) Message-ID: <6826956c.170a0220.2e7596.2641SMTPIN_ADDED_MISSING@mx.google.com> Received: from [172.21.0.6] (unknown [172.18.0.240]) by postal.iol.unh.edu (Postfix) with ESMTP id 347376052471; Thu, 15 May 2025 21:31:23 -0400 (EDT) Subject: |SUCCESS| pw153458 [PATCH] [v2] net/ice: fix flow creation failure From: dpdklab@iol.unh.edu To: Test Report Cc: dpdk-test-reports@iol.unh.edu In-Reply-To: <20250515112348.7746-1-dhanya.r.pillai@intel.com> References: <20250515112348.7746-1-dhanya.r.pillai@intel.com> Content-Type: text/plain X-BeenThere: test-report@dpdk.org X-Mailman-Version: 2.1.29 Precedence: list List-Id: automatic DPDK test reports List-Unsubscribe: , List-Archive: List-Post: List-Help: List-Subscribe: , Errors-To: test-report-bounces@dpdk.org Test-Label: iol-compile-arm64-testing Test-Status: SUCCESS http://dpdk.org/patch/153458 _Testing PASS_ Submitter: Dhanya Pillai Date: Thursday, May 15 2025 11:23:44 DPDK git baseline: Repo:dpdk Branch: master CommitID:51e889518fc861f1af5acbbc133a75203225655c 153458 --> testing pass Upstream job id: Generic-DPDK-Compile-Meson#388330 Test environment and result as below: +----------------------------------------+--------------------+ | Environment | dpdk_meson_compile | +========================================+====================+ | RHEL9 (ARM) | PASS | +----------------------------------------+--------------------+ | Ubuntu 20.04 ARM GCC Cross Compile | PASS | +----------------------------------------+--------------------+ | Ubuntu 20.04 ARM SVE | PASS | +----------------------------------------+--------------------+ | Debian 12 with MUSDK | PASS | +----------------------------------------+--------------------+ | Fedora 40 (ARM) | PASS | +----------------------------------------+--------------------+ | Fedora 40 (ARM Clang) | PASS | +----------------------------------------+--------------------+ | Fedora 41 (ARM) | PASS | +----------------------------------------+--------------------+ | Fedora 41 (ARM Clang) | PASS | +----------------------------------------+--------------------+ | Ubuntu 20.04 (ARM) | PASS | +----------------------------------------+--------------------+ | Ubuntu 22.04 (ARM) | PASS | +----------------------------------------+--------------------+ | Ubuntu 24.04 (ARM) | PASS | +----------------------------------------+--------------------+ | CentOS Stream 9 (ARM) | PASS | +----------------------------------------+--------------------+ | CentOS Stream 10 (ARM) | PASS | +----------------------------------------+--------------------+ | Debian 12 (arm) | PASS | +----------------------------------------+--------------------+ | Ubuntu 20.04 ARM Clang Cross Compile | PASS | +----------------------------------------+--------------------+ | Ubuntu 20.04 aarch32 GCC Cross Compile | PASS | +----------------------------------------+--------------------+ RHEL9 (ARM) Kernel: Depends on container host Compiler: gcc 11.5.0 20240719 (Red Hat 11.5.0-2) Ubuntu 20.04 ARM GCC Cross Compile Kernel: Depends on container host Compiler: aarch64-linux-gnu-gcc (Ubuntu 9.4.0-1ubuntu1~20.04.2) 9.4.0 Ubuntu 20.04 ARM SVE Kernel: Depends on container host Compiler: gcc (Ubuntu 10.5.0-1ubuntu1~20.04) 10.5.0 Debian 12 with MUSDK Kernel: Depends on container host Compiler: gcc (Debian 12.2.0-14) 12.2.0 Fedora 40 (ARM) Kernel: Depends on container host Compiler: gcc 14.2.1 20240912 (Red Hat 14.2.1-3) Fedora 40 (ARM Clang) Kernel: Depends on container host Compiler: clang 18.1.8 (Fedora 18.1.8-1.fc40) Fedora 41 (ARM) Kernel: Depends on container host Compiler: gcc 14.2.1 20240912 (Red Hat 14.2.1-3) Fedora 41 (ARM Clang) Kernel: Depends on container host Compiler: clang 19.1.5 (Fedora 19.1.5-1.fc41) Ubuntu 20.04 (ARM) Kernel: Depends on container host Compiler: gcc (Ubuntu 9.4.0-1ubuntu1~20.04.2) 9.4.0 Ubuntu 22.04 (ARM) Kernel: Depends on container host Compiler: gcc (Ubuntu 11.4.0-1ubuntu1~22.04) 11.4.0 Ubuntu 24.04 (ARM) Kernel: Depends on container host Compiler: gcc (Ubuntu 13.3.0-6ubuntu2~24.04) 13.3.0 CentOS Stream 9 (ARM) Kernel: Depends on container host Compiler: gcc 11.5.0 20240719 (Red Hat 11.5.0-2) CentOS Stream 10 (ARM) Kernel: Depends on container host Compiler: gcc 14.2.1 20241104 (Red Hat 14.2.1-6) Debian 12 (arm) Kernel: Depends on container host Compiler: gcc (Debian 12.2.0-14) 12.2.0 Ubuntu 20.04 ARM Clang Cross Compile Kernel: Depends on container host Compiler: clang 10.0.0-4ubuntu1 Ubuntu 20.04 aarch32 GCC Cross Compile Kernel: Depends on container host Compiler: gcc 9.4.0 To view detailed results, visit: https://lab.dpdk.org/results/dashboard/patchsets/33181/ UNH-IOL DPDK Community Lab To manage your email subscriptions, visit: https://lab.dpdk.org/results/dashboard/preferences/subscriptions/