From mboxrd@z Thu Jan 1 00:00:00 1970 Return-Path: Received: from mails.dpdk.org (mails.dpdk.org [217.70.189.124]) by inbox.dpdk.org (Postfix) with ESMTP id CD0764675B for ; Fri, 16 May 2025 03:48:24 +0200 (CEST) Received: from mails.dpdk.org (localhost [127.0.0.1]) by mails.dpdk.org (Postfix) with ESMTP id A3937400EF; Fri, 16 May 2025 03:48:24 +0200 (CEST) Received: from mail-io1-f99.google.com (mail-io1-f99.google.com [209.85.166.99]) by mails.dpdk.org (Postfix) with ESMTP id 00CFC40041 for ; Fri, 16 May 2025 03:48:23 +0200 (CEST) Received: by mail-io1-f99.google.com with SMTP id ca18e2360f4ac-85e73562577so144347939f.0 for ; Thu, 15 May 2025 18:48:23 -0700 (PDT) DKIM-Signature: v=1; a=rsa-sha256; c=relaxed/relaxed; d=iol.unh.edu; s=unh-iol; t=1747360103; x=1747964903; darn=dpdk.org; h=cc:to:from:subject:message-id:date:from:to:cc:subject:date :message-id:reply-to; bh=ng8SIZSimqiYIyQ+EDdW3JkzmPKHbJ8Cx6tzYDNd87c=; b=arje5AMgRP8RFWhxw19+udvx4E5BvrUjKswirXNTLNQOdRfi/mJ++/EoMHMRc7F/C7 F80Eo+GxWyLHoryCy/ilZGudsHCMD6WqvJBrvauoZyupohpfq13vJQOF785kB4wk5FGd Hnhm2u00/nW9U+yTLsv/lucHVjqNid/79hx1g= X-Google-DKIM-Signature: v=1; a=rsa-sha256; c=relaxed/relaxed; d=1e100.net; s=20230601; t=1747360103; x=1747964903; h=cc:to:from:subject:message-id:date:x-gm-message-state:from:to:cc :subject:date:message-id:reply-to; bh=ng8SIZSimqiYIyQ+EDdW3JkzmPKHbJ8Cx6tzYDNd87c=; b=Ac3wwu4qPIzEJ2C+fmwSi40bg5wy9kZ9jiO2QBImKZLVKnsyW/27/YXaNa8GQ6x38X KoLGGY9y61VrAXrSWUw/O0wOmC0RBWHxAhrVQmdpdF3dREz+aHyXAsIfwfZyKJ/3voq0 19Xg2MI964ohV3L2lktXRYOWZ8As0KJMMZje8yOCvT6jtDnZEw3n6DZ1Sr7d/qEQxKWg /qoMfj2UiDCHe3VUtrhRzZ2CqH6xmOdn+eC2JslliJrIxIx8FlUrJjCqYCR1WhAeurj3 12qHub1gUTnbWei4Kotgm4e6Dg2ery0fLjBb775ukxzHIwInclVHhdLgdBkyn5mvQ8Mp gudw== X-Gm-Message-State: AOJu0YwFDnrzokkRhppDfItJm/ODST5rMX67l9CfRD8idsPa85Y1NtuV 8R+qDcMGg+tbqjRP10I7LSlSUtwEBrUdRYc09jFUMCwBwl5OKDnw6cSOQ8/JFXK8qMMLOBX+uAW 00Umptu0hgVE+zSYTy7FBe3MwR2Qfgq6PGYOtE6lf7fWwbPg0ebZOtaUL/ByV X-Gm-Gg: ASbGncv9e5Y63ND0QGeX/j7W8CuSnn4+Q1lXUBNB6pms+q3zsOtsg6IZC5MoncnWyLi N+wCWGZzlpsvDorn2iUcBsT3/afBLq9ad2rPjdvZSHbk6HHQXiyYokKG9OuCXrEU7Y4Hbt6WmMa 50UCpZmNxyMe1FQJfyZkQwTnaUpOLQb4rNc/J5CWL239WAjR4xs1ZXx5S/EuPFH6ijWm69bxdZv PzOfNeCIAeEAwgav9axxybHD9mxQCrMyh4OtCQ/gPJgaPCKDKsDHWC25k7Mx3iRMzHyxXfDSQaY WCtXvO8Jr3bjLemez3qPrD4kAaxifB5EzzLq X-Google-Smtp-Source: AGHT+IGZIyjlGSpb1ULZJlAVK2gxkKCTQtgMlrcaQBLzRgMCKSr0WiOWoVXogFbwPMv8HIC5l68/djyssxfE X-Received: by 2002:a92:cda6:0:b0:3d5:8103:1a77 with SMTP id e9e14a558f8ab-3db84296cc4mr27517815ab.1.1747360103175; Thu, 15 May 2025 18:48:23 -0700 (PDT) Received: from postal.iol.unh.edu (postal.iol.unh.edu. [2606:4100:3880:1234::84]) by smtp-relay.gmail.com with ESMTPS id 8926c6da1cb9f-4fbcc386b5esm43490173.14.2025.05.15.18.48.23 (version=TLS1_2 cipher=ECDHE-ECDSA-AES128-GCM-SHA256 bits=128/128); Thu, 15 May 2025 18:48:23 -0700 (PDT) X-Relaying-Domain: iol.unh.edu Date: Thu, 15 May 2025 18:48:23 -0700 (PDT) Message-ID: <68269967.050a0220.106e94.23e9SMTPIN_ADDED_MISSING@mx.google.com> Received: from [172.21.0.8] (unknown [172.18.0.240]) by postal.iol.unh.edu (Postfix) with ESMTP id 962746052471; Thu, 15 May 2025 21:48:22 -0400 (EDT) Subject: |SUCCESS| [GIT MASTER] dcf9f9363aa9b4163d241caf8b26a84ca0c0006b From: dpdklab@iol.unh.edu To: Test Report Cc: dpdk-test-reports@iol.unh.edu, Akhil Goyal Content-Type: text/plain X-BeenThere: test-report@dpdk.org X-Mailman-Version: 2.1.29 Precedence: list List-Id: automatic DPDK test reports List-Unsubscribe: , List-Archive: List-Post: List-Help: List-Subscribe: , Errors-To: test-report-bounces@dpdk.org _Testing PASS_ Branch: dpdk-next-crypto dcf9f9363aa9b4163d241caf8b26a84ca0c0006b --> testing pass Upstream job id: Generic-Unit-Test-DPDK#338236 Test environment and result as below: +-----------------------------+--------------+------------------------------+---------------------------+----------------+ | Environment | lpm_autotest | cryptodev_sw_snow3g_autotest | cryptodev_sw_zuc_autotest | dpdk_unit_test | +=============================+==============+==============================+===========================+================+ | Ubuntu 20.04 ARM SVE | PASS | SKIPPED | SKIPPED | SKIPPED | +-----------------------------+--------------+------------------------------+---------------------------+----------------+ | Debian 12 (arm) | SKIPPED | PASS | PASS | PASS | +-----------------------------+--------------+------------------------------+---------------------------+----------------+ | CentOS Stream 10 (ARM) | SKIPPED | SKIPPED | SKIPPED | PASS | +-----------------------------+--------------+------------------------------+---------------------------+----------------+ | CentOS Stream 9 (ARM) | SKIPPED | SKIPPED | SKIPPED | PASS | +-----------------------------+--------------+------------------------------+---------------------------+----------------+ | Fedora 40 (ARM) | SKIPPED | SKIPPED | SKIPPED | PASS | +-----------------------------+--------------+------------------------------+---------------------------+----------------+ | RHEL9 (ARM) | SKIPPED | SKIPPED | SKIPPED | PASS | +-----------------------------+--------------+------------------------------+---------------------------+----------------+ | Fedora 41 (ARM) | SKIPPED | SKIPPED | SKIPPED | PASS | +-----------------------------+--------------+------------------------------+---------------------------+----------------+ | Fedora 40 (ARM Clang) | SKIPPED | SKIPPED | SKIPPED | PASS | +-----------------------------+--------------+------------------------------+---------------------------+----------------+ | Ubuntu 20.04 (ARM) | SKIPPED | SKIPPED | SKIPPED | PASS | +-----------------------------+--------------+------------------------------+---------------------------+----------------+ | Ubuntu 22.04 (ARM) | SKIPPED | SKIPPED | SKIPPED | PASS | +-----------------------------+--------------+------------------------------+---------------------------+----------------+ | Fedora 41 (ARM Clang) | SKIPPED | SKIPPED | SKIPPED | PASS | +-----------------------------+--------------+------------------------------+---------------------------+----------------+ | Ubuntu 24.04 (ARM) | SKIPPED | SKIPPED | SKIPPED | PASS | +-----------------------------+--------------+------------------------------+---------------------------+----------------+ | 32-bit Ubuntu 22.04.4 (ARM) | SKIPPED | SKIPPED | SKIPPED | PASS | +-----------------------------+--------------+------------------------------+---------------------------+----------------+ Ubuntu 20.04 ARM SVE Kernel: Depends on container host Compiler: gcc (Ubuntu 10.5.0-1ubuntu1~20.04) 10.5.0 Debian 12 (arm) Kernel: Depends on container host Compiler: gcc (Debian 12.2.0-14) 12.2.0 CentOS Stream 10 (ARM) Kernel: Depends on container host Compiler: gcc 14.2.1 20241104 (Red Hat 14.2.1-6) CentOS Stream 9 (ARM) Kernel: Depends on container host Compiler: gcc 11.5.0 20240719 (Red Hat 11.5.0-2) Fedora 40 (ARM) Kernel: Depends on container host Compiler: gcc 14.2.1 20240912 (Red Hat 14.2.1-3) RHEL9 (ARM) Kernel: Depends on container host Compiler: gcc 11.5.0 20240719 (Red Hat 11.5.0-2) Fedora 41 (ARM) Kernel: Depends on container host Compiler: gcc 14.2.1 20240912 (Red Hat 14.2.1-3) Fedora 40 (ARM Clang) Kernel: Depends on container host Compiler: clang 18.1.8 (Fedora 18.1.8-1.fc40) Ubuntu 20.04 (ARM) Kernel: Depends on container host Compiler: gcc (Ubuntu 9.4.0-1ubuntu1~20.04.2) 9.4.0 Ubuntu 22.04 (ARM) Kernel: Depends on container host Compiler: gcc (Ubuntu 11.4.0-1ubuntu1~22.04) 11.4.0 Fedora 41 (ARM Clang) Kernel: Depends on container host Compiler: clang 19.1.5 (Fedora 19.1.5-1.fc41) Ubuntu 24.04 (ARM) Kernel: Depends on container host Compiler: gcc (Ubuntu 13.3.0-6ubuntu2~24.04) 13.3.0 32-bit Ubuntu 22.04.4 (ARM) Kernel: 5.15.83+ aarch64 Compiler: gcc (Ubuntu 11.4.0-1ubuntu1~22.04) 11.4.0 To view detailed results, visit: https://lab.dpdk.org/results/dashboard/tarballs/33546/ UNH-IOL DPDK Community Lab To manage your email subscriptions, visit: https://lab.dpdk.org/results/dashboard/preferences/subscriptions/