From mboxrd@z Thu Jan 1 00:00:00 1970 Return-Path: Received: from mails.dpdk.org (mails.dpdk.org [217.70.189.124]) by inbox.dpdk.org (Postfix) with ESMTP id 4FB5D4675C for ; Fri, 16 May 2025 04:18:31 +0200 (CEST) Received: from mails.dpdk.org (localhost [127.0.0.1]) by mails.dpdk.org (Postfix) with ESMTP id 13957400EF; Fri, 16 May 2025 04:18:31 +0200 (CEST) Received: from mail-pl1-f225.google.com (mail-pl1-f225.google.com [209.85.214.225]) by mails.dpdk.org (Postfix) with ESMTP id BA0B840041 for ; Fri, 16 May 2025 04:18:29 +0200 (CEST) Received: by mail-pl1-f225.google.com with SMTP id d9443c01a7336-22fa47d6578so14988645ad.2 for ; Thu, 15 May 2025 19:18:29 -0700 (PDT) DKIM-Signature: v=1; a=rsa-sha256; c=relaxed/relaxed; d=iol.unh.edu; s=unh-iol; t=1747361908; x=1747966708; darn=dpdk.org; h=cc:to:from:subject:message-id:date:from:to:cc:subject:date :message-id:reply-to; bh=39PY9XXCfqTctexDtHQS1JhHkSuotqzSZ2mgIbU8SxI=; b=GyqoIi5IEjP9vBYKd+A15DiY6m+gxn4Zq1uxMlBwdQlluYmok4drD/WSIWlF8ULjkd iI8dEhGPIDi2XhY50ffJnm08ni5KOapQYnR94pRNcuf2kzbzlGtNaNcaVB6dpNyLTPOS ZqAsmhbYodkGTmbYmpB9uPzEiTNCqUVpR6We0= X-Google-DKIM-Signature: v=1; a=rsa-sha256; c=relaxed/relaxed; d=1e100.net; s=20230601; t=1747361908; x=1747966708; h=cc:to:from:subject:message-id:date:x-gm-message-state:from:to:cc :subject:date:message-id:reply-to; bh=39PY9XXCfqTctexDtHQS1JhHkSuotqzSZ2mgIbU8SxI=; b=fDhd0bBfVVVdgoPit/Yd8HxBVT3+jr0pWYptYQxet9bsSOC5ye/pp5iZ/uED9vuDhT 8PgfaKt3ujnmcwIhk3qVONfTyyVWCNuA6yrTEWw9N7C8NPIPXdydfrvsh/nPAgtpARiF 3s77CN0HQj9tM2cZ3D8tKpd+qzC3t7xw1cHyjM2G63vShms1QA4v3DVNeecbxG6Ke7Rd 5/OdGtDLavMg9fk5nduSsOc7IZMYjZ7moebKrq/fnhjE3/fY1TFH64WAJnjgPxI2ueDO udsw1E/mVM+cCEM+es/crIckZWyeMTc4UwV4qeQJ6w/WsziP9Enaz+tG0mgg6vp/ddwK hNtw== X-Gm-Message-State: AOJu0YxkfudeV7l7e2tSMXbIfhbvxe/ZwEKA0W6mlcNqUk+8zHPzsGzF WM89n7GqlKf5gX+6Bzy6DuqAlGGorqmUmZ/GNX+zWrlXEZI3buDrgwJv4YL4crJqG/A2k7nIN3t kchW0bkeZbzUbKYiekwg/rgWjhbPGvahYJr6+XzxsfFFhrvgvPlyeLEeS4icT X-Gm-Gg: ASbGncvvcY1A4rYgkYk2/gHQ1jhbFwPDsIDt2NQhVwHmoA6UYlvnJCXZ/gLM8FcdtBC 7Oj6DJ6RCqLrSO1rlG5COEwlCrkyJK+4gP2UVcz/XnUYWaJ/L//QkkL1On2rlleB74+eYbeh21x 3yfGlSfkl8Kg84A8l10ipwYK+f8zbIcTa4NUYnsyGu1H65ZnZQerVxEgMMXN4ZKjVJcajYYRVg8 3p6GGflHRBSGgZy/yGwdhgcnPO5fdUTD89iCgQCJ/Db76kPfEw45d0tjTDAr+eorfjoU+WpuuAG 9SxbitqFf7USHjEXCLKKnqJ7oIVlePMc3hYH X-Google-Smtp-Source: AGHT+IE0Xc5BtSYJLohGef5Payh25bJS01hKVHAYSeiFoLdHcOQgLE06ePoDWRDc3YVc7iLSaUimGenTZEIV X-Received: by 2002:a17:903:41d0:b0:22e:62da:2e66 with SMTP id d9443c01a7336-231d43bdf6cmr21963465ad.24.1747361908593; Thu, 15 May 2025 19:18:28 -0700 (PDT) Received: from postal.iol.unh.edu (postal.iol.unh.edu. [2606:4100:3880:1234::84]) by smtp-relay.gmail.com with ESMTPS id d9443c01a7336-231d4ebb86csm490665ad.115.2025.05.15.19.18.28 (version=TLS1_2 cipher=ECDHE-ECDSA-AES128-GCM-SHA256 bits=128/128); Thu, 15 May 2025 19:18:28 -0700 (PDT) X-Relaying-Domain: iol.unh.edu Date: Thu, 15 May 2025 19:18:28 -0700 (PDT) Message-ID: <6826a074.170a0220.143a37.2903SMTPIN_ADDED_MISSING@mx.google.com> Received: from [172.17.0.5] (unknown [172.18.0.74]) by postal.iol.unh.edu (Postfix) with ESMTP id B567B6052471; Thu, 15 May 2025 22:18:27 -0400 (EDT) Subject: |SUCCESS| [GIT MASTER] dcf9f9363aa9b4163d241caf8b26a84ca0c0006b From: dpdklab@iol.unh.edu To: Test Report Cc: dpdk-test-reports@iol.unh.edu Content-Type: text/plain X-BeenThere: test-report@dpdk.org X-Mailman-Version: 2.1.29 Precedence: list List-Id: automatic DPDK test reports List-Unsubscribe: , List-Archive: List-Post: List-Help: List-Subscribe: , Errors-To: test-report-bounces@dpdk.org _Testing PASS_ Branch: dpdk dcf9f9363aa9b4163d241caf8b26a84ca0c0006b --> testing pass Upstream job id: Generic-Unit-Test-DPDK#338271 Test environment and result as below: +---------------------+----------------+ | Environment | dpdk_unit_test | +=====================+================+ | Fedora 40 (Clang) | PASS | +---------------------+----------------+ | CentOS Stream 9 | PASS | +---------------------+----------------+ | CentOS Stream 10 | PASS | +---------------------+----------------+ | Arch Linux | PASS | +---------------------+----------------+ | Fedora 40 | PASS | +---------------------+----------------+ | Fedora 41 | PASS | +---------------------+----------------+ | Debian 12 | PASS | +---------------------+----------------+ | Fedora 41 (Clang) | PASS | +---------------------+----------------+ | RHEL9 | PASS | +---------------------+----------------+ | RHEL8 | PASS | +---------------------+----------------+ | Ubuntu 20.04 | PASS | +---------------------+----------------+ | Ubuntu 22.04 | PASS | +---------------------+----------------+ | Ubuntu 24.04 | PASS | +---------------------+----------------+ | Windows Server 2022 | PASS | +---------------------+----------------+ Fedora 40 (Clang) Kernel: Depends on container host Compiler: clang 18.1.8 (Fedora 18.1.8-1.fc40) CentOS Stream 9 Kernel: Depends on container host Compiler: gcc 11.5.0 20240719 (Red Hat 11.5.0-2) CentOS Stream 10 Kernel: Depends on container host Compiler: gcc 14.2.1 20241104 (Red Hat 14.2.1-6) Arch Linux Kernel: Depends on container host Compiler: gcc 14.2.1 20240910 Fedora 40 Kernel: Depends on container host Compiler: gcc 14.2.1 20240912 (Red Hat 14.2.1-3) Fedora 41 Kernel: Depends on container host Compiler: gcc 14.2.1 20240912 (Red Hat 14.2.1-3) Debian 12 Kernel: Depends on container host Compiler: gcc (Debian 12.2.0-14) 12.2.0 Fedora 41 (Clang) Kernel: Depends on container host Compiler: clang 19.1.5 (Fedora 19.1.5-1.fc41) RHEL9 Kernel: Depends on container host Compiler: gcc 11.5.0 20240719 (Red Hat 11.5.0-2) RHEL8 Kernel: Depends on container host Compiler: gcc 8.5.0 20210514 (Red Hat 8.5.0-22) Ubuntu 20.04 Kernel: Depends on container host Compiler: gcc (Ubuntu 9.4.0-1ubuntu1~20.04.2) 9.4.0 Ubuntu 22.04 Kernel: Depends on container host Compiler: gcc (Ubuntu 11.4.0-1ubuntu1~22.04) 11.4.0 Ubuntu 24.04 Kernel: Depends on container host Compiler: gcc (Ubuntu 13.3.0-6ubuntu2~24.04) 13.3.0 Windows Server 2022 Kernel: 10.0.20348.2031 Compiler: clang 15.0.7, gcc 14.1.0 (MinGW), and MSVC VS 19.39.33521 To view detailed results, visit: https://lab.dpdk.org/results/dashboard/tarballs/33547/ UNH-IOL DPDK Community Lab To manage your email subscriptions, visit: https://lab.dpdk.org/results/dashboard/preferences/subscriptions/