From mboxrd@z Thu Jan 1 00:00:00 1970 Return-Path: Received: from mails.dpdk.org (mails.dpdk.org [217.70.189.124]) by inbox.dpdk.org (Postfix) with ESMTP id 4B5A54675C for ; Fri, 16 May 2025 04:19:29 +0200 (CEST) Received: from mails.dpdk.org (localhost [127.0.0.1]) by mails.dpdk.org (Postfix) with ESMTP id 42A3E400EF; Fri, 16 May 2025 04:19:29 +0200 (CEST) Received: from mail-il1-f225.google.com (mail-il1-f225.google.com [209.85.166.225]) by mails.dpdk.org (Postfix) with ESMTP id 54F1940041 for ; Fri, 16 May 2025 04:19:28 +0200 (CEST) Received: by mail-il1-f225.google.com with SMTP id e9e14a558f8ab-3d940c7ea71so7031285ab.0 for ; Thu, 15 May 2025 19:19:28 -0700 (PDT) DKIM-Signature: v=1; a=rsa-sha256; c=relaxed/relaxed; d=iol.unh.edu; s=unh-iol; t=1747361967; x=1747966767; darn=dpdk.org; h=cc:to:from:subject:message-id:date:from:to:cc:subject:date :message-id:reply-to; bh=PPPaosxSZ4hXi4cnbwmiDKHzZcir39nha/MwCnXLThk=; b=LwBlqQi+81GhVdCQX3gt7URwcdWAXWAVii7LqDlggn/G1+NSgeE511AFLU3tWsTShK 5t2paPsmn2Mhild5RcLAfQRF5QlZ8xopQR2k6A6ujUC56hAo3BvbBuVJ1OM7AehonTrn 41rna6BFGv1JBJJt2B+y303oi2u9hKcSUW9pA= X-Google-DKIM-Signature: v=1; a=rsa-sha256; c=relaxed/relaxed; d=1e100.net; s=20230601; t=1747361967; x=1747966767; h=cc:to:from:subject:message-id:date:x-gm-message-state:from:to:cc :subject:date:message-id:reply-to; bh=PPPaosxSZ4hXi4cnbwmiDKHzZcir39nha/MwCnXLThk=; b=QPxNZLm60v4J4BwiJKcRMeLySVCy+CREOfkGDgfbSw1Fd6PgA31qEJX10NqOlxa6Hu wQJa6cpzoynhKPNtfdUrrKNl+zmRx9PtoIQV4X5RxOhLMGPOFRqx79ltdqsFwxQkxyJz 252wm0zA/5JFx1O8vyjlwLrHCpYZDROOniZXgG9BHV5rddE0Gi16ryuZPhR/1lXdcyMj D8nSFLQ7lKHv5onQNPBaI0hqkgMnQ4NwRB2EXGGHnan1s+1EsfaW8yrmi2SyERt3zNTb /SR2+ac6hdhd1M7MVSlgG/D0l6ld56OlIxHOTBAqs1QHZfD2hb0O9vyapx2COSPVeDSC DZBg== X-Gm-Message-State: AOJu0YwIYznyvkoME3bccINPAM/D9IhZpUsBODeWnIos8e/JPW1JZJDZ 223nBTwKme7UcuCyzwB+jty/fe/mmd6Kxpjq/mAZc/0NHtXRLQo29xwy++n6Vh9dRlPgjCjPYv+ umwpO7vnoJHk5jwE6u4drURTnYLaAUM26IbNwlU9Bi0K41jXh3jcxz2m2CE6Q X-Gm-Gg: ASbGncvtbv+CIWw7dhXyS06TqXhZRC2YFP8TdQKH5WQrltgcWGxcnwtpZM2NMH90lhr XvLKUV7HAXTDW8EKr/E0w74pa9Ooh3ufZFgcj+2gFwc60XHmsKjuV6gKPogCV1O+fYJ/nwN3tzb a3juivdF0sFrHUlCovo1ifIEDOQL4Fbah9sXU2EwdLE1OnnV6MbWL4A71I67Lq03orB9BZNMKL+ VJXCJ0GIUGcn/iaLwNT7VltB4K/NdN2Tf8GOa1p+an94nXVct9+2Aa54YOm1TZkyxKhaghwx/CW 4RcVOhq/Tsf1LZdQ0gfZ+mrg12fbKJk5hlQk X-Google-Smtp-Source: AGHT+IFgIzKZSZ5wwzQCIYnbnPV5pmS3ccdGtcXEuAGSDlkq9/LwtyjVKaNl/ZKinEbLNB4cBQtABrA1W8U8 X-Received: by 2002:a05:6e02:194a:b0:3db:6c5a:f4a3 with SMTP id e9e14a558f8ab-3db85723a64mr8544345ab.4.1747361967613; Thu, 15 May 2025 19:19:27 -0700 (PDT) Received: from postal.iol.unh.edu (postal.iol.unh.edu. [2606:4100:3880:1234::84]) by smtp-relay.gmail.com with ESMTPS id e9e14a558f8ab-3db8449c042sm403585ab.52.2025.05.15.19.19.27 (version=TLS1_2 cipher=ECDHE-ECDSA-AES128-GCM-SHA256 bits=128/128); Thu, 15 May 2025 19:19:27 -0700 (PDT) X-Relaying-Domain: iol.unh.edu Date: Thu, 15 May 2025 19:19:27 -0700 (PDT) Message-ID: <6826a0af.920a0220.1337a2.20e5SMTPIN_ADDED_MISSING@mx.google.com> Received: from [172.17.0.4] (unknown [172.18.0.74]) by postal.iol.unh.edu (Postfix) with ESMTP id 1EFD46052471; Thu, 15 May 2025 22:19:27 -0400 (EDT) Subject: |SUCCESS| [GIT MASTER] dcf9f9363aa9b4163d241caf8b26a84ca0c0006b From: dpdklab@iol.unh.edu To: Test Report Cc: dpdk-test-reports@iol.unh.edu Content-Type: text/plain X-BeenThere: test-report@dpdk.org X-Mailman-Version: 2.1.29 Precedence: list List-Id: automatic DPDK test reports List-Unsubscribe: , List-Archive: List-Post: List-Help: List-Subscribe: , Errors-To: test-report-bounces@dpdk.org _Testing PASS_ Branch: dpdk dcf9f9363aa9b4163d241caf8b26a84ca0c0006b --> testing pass Upstream job id: Generic-Unit-Test-DPDK#338272 Test environment and result as below: +-----------------------------+--------------+----------------+---------------------------+------------------------------+ | Environment | lpm_autotest | dpdk_unit_test | cryptodev_sw_zuc_autotest | cryptodev_sw_snow3g_autotest | +=============================+==============+================+===========================+==============================+ | Ubuntu 20.04 ARM SVE | PASS | SKIPPED | SKIPPED | SKIPPED | +-----------------------------+--------------+----------------+---------------------------+------------------------------+ | CentOS Stream 10 (ARM) | SKIPPED | PASS | SKIPPED | SKIPPED | +-----------------------------+--------------+----------------+---------------------------+------------------------------+ | Fedora 41 (ARM) | SKIPPED | PASS | SKIPPED | SKIPPED | +-----------------------------+--------------+----------------+---------------------------+------------------------------+ | Fedora 40 (ARM) | SKIPPED | PASS | SKIPPED | SKIPPED | +-----------------------------+--------------+----------------+---------------------------+------------------------------+ | Debian 12 (arm) | SKIPPED | PASS | PASS | PASS | +-----------------------------+--------------+----------------+---------------------------+------------------------------+ | CentOS Stream 9 (ARM) | SKIPPED | PASS | SKIPPED | SKIPPED | +-----------------------------+--------------+----------------+---------------------------+------------------------------+ | Fedora 40 (ARM Clang) | SKIPPED | PASS | SKIPPED | SKIPPED | +-----------------------------+--------------+----------------+---------------------------+------------------------------+ | Fedora 41 (ARM Clang) | SKIPPED | PASS | SKIPPED | SKIPPED | +-----------------------------+--------------+----------------+---------------------------+------------------------------+ | RHEL9 (ARM) | SKIPPED | PASS | SKIPPED | SKIPPED | +-----------------------------+--------------+----------------+---------------------------+------------------------------+ | Ubuntu 22.04 (ARM) | SKIPPED | PASS | SKIPPED | SKIPPED | +-----------------------------+--------------+----------------+---------------------------+------------------------------+ | Ubuntu 20.04 (ARM) | SKIPPED | PASS | SKIPPED | SKIPPED | +-----------------------------+--------------+----------------+---------------------------+------------------------------+ | Ubuntu 24.04 (ARM) | SKIPPED | PASS | SKIPPED | SKIPPED | +-----------------------------+--------------+----------------+---------------------------+------------------------------+ | 32-bit Ubuntu 22.04.4 (ARM) | SKIPPED | PASS | SKIPPED | SKIPPED | +-----------------------------+--------------+----------------+---------------------------+------------------------------+ Ubuntu 20.04 ARM SVE Kernel: Depends on container host Compiler: gcc (Ubuntu 10.5.0-1ubuntu1~20.04) 10.5.0 CentOS Stream 10 (ARM) Kernel: Depends on container host Compiler: gcc 14.2.1 20241104 (Red Hat 14.2.1-6) Fedora 41 (ARM) Kernel: Depends on container host Compiler: gcc 14.2.1 20240912 (Red Hat 14.2.1-3) Fedora 40 (ARM) Kernel: Depends on container host Compiler: gcc 14.2.1 20240912 (Red Hat 14.2.1-3) Debian 12 (arm) Kernel: Depends on container host Compiler: gcc (Debian 12.2.0-14) 12.2.0 CentOS Stream 9 (ARM) Kernel: Depends on container host Compiler: gcc 11.5.0 20240719 (Red Hat 11.5.0-2) Fedora 40 (ARM Clang) Kernel: Depends on container host Compiler: clang 18.1.8 (Fedora 18.1.8-1.fc40) Fedora 41 (ARM Clang) Kernel: Depends on container host Compiler: clang 19.1.5 (Fedora 19.1.5-1.fc41) RHEL9 (ARM) Kernel: Depends on container host Compiler: gcc 11.5.0 20240719 (Red Hat 11.5.0-2) Ubuntu 22.04 (ARM) Kernel: Depends on container host Compiler: gcc (Ubuntu 11.4.0-1ubuntu1~22.04) 11.4.0 Ubuntu 20.04 (ARM) Kernel: Depends on container host Compiler: gcc (Ubuntu 9.4.0-1ubuntu1~20.04.2) 9.4.0 Ubuntu 24.04 (ARM) Kernel: Depends on container host Compiler: gcc (Ubuntu 13.3.0-6ubuntu2~24.04) 13.3.0 32-bit Ubuntu 22.04.4 (ARM) Kernel: 5.15.83+ aarch64 Compiler: gcc (Ubuntu 11.4.0-1ubuntu1~22.04) 11.4.0 To view detailed results, visit: https://lab.dpdk.org/results/dashboard/tarballs/33547/ UNH-IOL DPDK Community Lab To manage your email subscriptions, visit: https://lab.dpdk.org/results/dashboard/preferences/subscriptions/