From mboxrd@z Thu Jan 1 00:00:00 1970 Return-Path: Received: from mails.dpdk.org (mails.dpdk.org [217.70.189.124]) by inbox.dpdk.org (Postfix) with ESMTP id 1C2D64675C for ; Fri, 16 May 2025 04:39:45 +0200 (CEST) Received: from mails.dpdk.org (localhost [127.0.0.1]) by mails.dpdk.org (Postfix) with ESMTP id F278A400EF; Fri, 16 May 2025 04:39:44 +0200 (CEST) Received: from mail-il1-f226.google.com (mail-il1-f226.google.com [209.85.166.226]) by mails.dpdk.org (Postfix) with ESMTP id E8B7440041 for ; Fri, 16 May 2025 04:39:43 +0200 (CEST) Received: by mail-il1-f226.google.com with SMTP id e9e14a558f8ab-3d91db4f0c3so7670135ab.3 for ; Thu, 15 May 2025 19:39:43 -0700 (PDT) DKIM-Signature: v=1; a=rsa-sha256; c=relaxed/relaxed; d=iol.unh.edu; s=unh-iol; t=1747363183; x=1747967983; darn=dpdk.org; h=cc:to:from:subject:message-id:date:from:to:cc:subject:date :message-id:reply-to; bh=EqPqL0XKicq9d1+fSXs7Tdj/mxwUuXiwtdPqySw+wg8=; b=XTMkMJpVlM5D/BitzxLYyykLEtGZ/JzSfmsGvBTfV0UNSo0Y+Kt/uY3biO3FCzRgn2 pek3JZQ0rMpujYpmmsjKlyZXF1ZvUap9K5yOMMXoK6X8iXGksqJsSXXYwfM37xruc3Cr RWztcHvXwB+AizLdG95hwNTmiMUAki7k+5NTE= X-Google-DKIM-Signature: v=1; a=rsa-sha256; c=relaxed/relaxed; d=1e100.net; s=20230601; t=1747363183; x=1747967983; h=cc:to:from:subject:message-id:date:x-gm-message-state:from:to:cc :subject:date:message-id:reply-to; bh=EqPqL0XKicq9d1+fSXs7Tdj/mxwUuXiwtdPqySw+wg8=; b=sEAUnJ06QAxujrn7+Epu1/CgVP4AGGZFkm/dU/P7rcRRMqa6y+9pG33qZzMPfkP6q9 U8Q4aXsNheeXfMXe8OCKieEiy/KL6VTcMbJs924TK1lH6J5kv/SJP8oqPovC4+5ASInG RU/yODJqyS7YhiUBgosRKzpkmrX3sitrf1W1Fqi9c7uaWAxhGCWoBQcD6ok/eoXF4xFr UvND3xjt/ay3lT4+QQ5W60idoeamvxy2NOrSbp74+t80dnjOGPt4Y047I/6YRDvFzYBW J+sXTWmL7gBXzeZQSEB8gxBp5fIFiWh9M0Og7aJGmnI0aeP6LkYDZE1zQBvw2bheP0WX k+gg== X-Gm-Message-State: AOJu0YxCiaZ8Q9lhAedTGR8gsFFM1mLyF5Toi9kEqWIT/3Hh4SgABxBY ZKDImr4t87+rRNwwVkTHGxCYGAFtj0jHvOz+m47hP3ZXRDu7RIRakxCpEUyRAru/hzLHV4F5Pu7 6+oOOPORd0e6bswvUHJn6dNiIWod7H8mSrVE+r5U76rOF X-Gm-Gg: ASbGncsttTdsKNwLBvrYYPw6J3tXWPeyTyA8N7AnQtmMx48QjnSKD3uYJvTVo1rEit2 40upam9Xw8QZLnMj4S+DlYa/C/17t7zPgo36xGceC0YzCCCZbY6sLY6OT9b5nUXMCq05abFSOao VykyKv6vcB2MB4VfBtjMZYL5qf1YATxqBXLBLDaghvIy3K/V+LCOZAkRhiS2OJX+c/W+F4Ijo/+ +jFwFqxNPN9MyU0VU0kYwCyZW+6FDc3lZvp0eNY9BzrzX2S4XX56R3wnYL0ka0ykqrU6+JqsevV 3h4UXdQS4/KtDE5ZvajK+2jQjFvYlcfhBaahtloTHVyWrKKGlA9MW1wH5us= X-Google-Smtp-Source: AGHT+IHw0ByYoSmgyuijRWQBIMap/qYPZdLiAH9je7YG2F0yLI8M/fNm2QsvmRVPWN9fiUsT+qbsddPi61lZ X-Received: by 2002:a05:6e02:2199:b0:3db:853b:954a with SMTP id e9e14a558f8ab-3db85792a5fmr7859415ab.17.1747363183054; Thu, 15 May 2025 19:39:43 -0700 (PDT) Received: from postal.iol.unh.edu (postal.iol.unh.edu. [132.177.123.84]) by smtp-relay.gmail.com with ESMTPS id e9e14a558f8ab-3db8441e1c5sm479455ab.20.2025.05.15.19.39.42 (version=TLS1_2 cipher=ECDHE-ECDSA-AES128-GCM-SHA256 bits=128/128); Thu, 15 May 2025 19:39:43 -0700 (PDT) X-Relaying-Domain: iol.unh.edu Date: Thu, 15 May 2025 19:39:43 -0700 (PDT) Message-ID: <6826a56f.050a0220.c5ad2.3007SMTPIN_ADDED_MISSING@mx.google.com> Received: from [172.17.0.2] (unknown [172.18.0.76]) by postal.iol.unh.edu (Postfix) with ESMTP id 8860E6052471; Thu, 15 May 2025 22:39:42 -0400 (EDT) Subject: |SUCCESS| [GIT MASTER] dcf9f9363aa9b4163d241caf8b26a84ca0c0006b From: dpdklab@iol.unh.edu To: Test Report Cc: dpdk-test-reports@iol.unh.edu, Akhil Goyal Content-Type: text/plain X-BeenThere: test-report@dpdk.org X-Mailman-Version: 2.1.29 Precedence: list List-Id: automatic DPDK test reports List-Unsubscribe: , List-Archive: List-Post: List-Help: List-Subscribe: , Errors-To: test-report-bounces@dpdk.org _Testing PASS_ Branch: dpdk-next-crypto dcf9f9363aa9b4163d241caf8b26a84ca0c0006b --> testing pass Upstream job id: Generic-DPDK-Compile-Meson#388408 Test environment and result as below: +----------------------------------------+--------------------+ | Environment | dpdk_meson_compile | +========================================+====================+ | RHEL9 (ARM) | PASS | +----------------------------------------+--------------------+ | Ubuntu 20.04 ARM GCC Cross Compile | PASS | +----------------------------------------+--------------------+ | Ubuntu 20.04 ARM SVE | PASS | +----------------------------------------+--------------------+ | Debian 12 with MUSDK | PASS | +----------------------------------------+--------------------+ | Fedora 40 (ARM) | PASS | +----------------------------------------+--------------------+ | Fedora 40 (ARM Clang) | PASS | +----------------------------------------+--------------------+ | Fedora 41 (ARM) | PASS | +----------------------------------------+--------------------+ | Fedora 41 (ARM Clang) | PASS | +----------------------------------------+--------------------+ | Ubuntu 20.04 (ARM) | PASS | +----------------------------------------+--------------------+ | Ubuntu 22.04 (ARM) | PASS | +----------------------------------------+--------------------+ | Ubuntu 24.04 (ARM) | PASS | +----------------------------------------+--------------------+ | CentOS Stream 9 (ARM) | PASS | +----------------------------------------+--------------------+ | CentOS Stream 10 (ARM) | PASS | +----------------------------------------+--------------------+ | Debian 12 (arm) | PASS | +----------------------------------------+--------------------+ | Ubuntu 20.04 ARM Clang Cross Compile | PASS | +----------------------------------------+--------------------+ | Ubuntu 20.04 aarch32 GCC Cross Compile | PASS | +----------------------------------------+--------------------+ RHEL9 (ARM) Kernel: Depends on container host Compiler: gcc 11.5.0 20240719 (Red Hat 11.5.0-2) Ubuntu 20.04 ARM GCC Cross Compile Kernel: Depends on container host Compiler: aarch64-linux-gnu-gcc (Ubuntu 9.4.0-1ubuntu1~20.04.2) 9.4.0 Ubuntu 20.04 ARM SVE Kernel: Depends on container host Compiler: gcc (Ubuntu 10.5.0-1ubuntu1~20.04) 10.5.0 Debian 12 with MUSDK Kernel: Depends on container host Compiler: gcc (Debian 12.2.0-14) 12.2.0 Fedora 40 (ARM) Kernel: Depends on container host Compiler: gcc 14.2.1 20240912 (Red Hat 14.2.1-3) Fedora 40 (ARM Clang) Kernel: Depends on container host Compiler: clang 18.1.8 (Fedora 18.1.8-1.fc40) Fedora 41 (ARM) Kernel: Depends on container host Compiler: gcc 14.2.1 20240912 (Red Hat 14.2.1-3) Fedora 41 (ARM Clang) Kernel: Depends on container host Compiler: clang 19.1.5 (Fedora 19.1.5-1.fc41) Ubuntu 20.04 (ARM) Kernel: Depends on container host Compiler: gcc (Ubuntu 9.4.0-1ubuntu1~20.04.2) 9.4.0 Ubuntu 22.04 (ARM) Kernel: Depends on container host Compiler: gcc (Ubuntu 11.4.0-1ubuntu1~22.04) 11.4.0 Ubuntu 24.04 (ARM) Kernel: Depends on container host Compiler: gcc (Ubuntu 13.3.0-6ubuntu2~24.04) 13.3.0 CentOS Stream 9 (ARM) Kernel: Depends on container host Compiler: gcc 11.5.0 20240719 (Red Hat 11.5.0-2) CentOS Stream 10 (ARM) Kernel: Depends on container host Compiler: gcc 14.2.1 20241104 (Red Hat 14.2.1-6) Debian 12 (arm) Kernel: Depends on container host Compiler: gcc (Debian 12.2.0-14) 12.2.0 Ubuntu 20.04 ARM Clang Cross Compile Kernel: Depends on container host Compiler: clang 10.0.0-4ubuntu1 Ubuntu 20.04 aarch32 GCC Cross Compile Kernel: Depends on container host Compiler: gcc 9.4.0 To view detailed results, visit: https://lab.dpdk.org/results/dashboard/tarballs/33546/ UNH-IOL DPDK Community Lab To manage your email subscriptions, visit: https://lab.dpdk.org/results/dashboard/preferences/subscriptions/