From mboxrd@z Thu Jan 1 00:00:00 1970 Return-Path: Received: from mails.dpdk.org (mails.dpdk.org [217.70.189.124]) by inbox.dpdk.org (Postfix) with ESMTP id CA4E94675C for ; Fri, 16 May 2025 05:14:00 +0200 (CEST) Received: from mails.dpdk.org (localhost [127.0.0.1]) by mails.dpdk.org (Postfix) with ESMTP id A54DE400EF; Fri, 16 May 2025 05:14:00 +0200 (CEST) Received: from mail-il1-f228.google.com (mail-il1-f228.google.com [209.85.166.228]) by mails.dpdk.org (Postfix) with ESMTP id E961040041 for ; Fri, 16 May 2025 05:13:58 +0200 (CEST) Received: by mail-il1-f228.google.com with SMTP id e9e14a558f8ab-3da831c17faso5347545ab.3 for ; Thu, 15 May 2025 20:13:58 -0700 (PDT) DKIM-Signature: v=1; a=rsa-sha256; c=relaxed/relaxed; d=iol.unh.edu; s=unh-iol; t=1747365238; x=1747970038; darn=dpdk.org; h=cc:to:from:subject:message-id:date:from:to:cc:subject:date :message-id:reply-to; bh=hZ32ywQ+wY7Yj94eb3AhwbjIoQ0ZqpawqkX40yROipQ=; b=YJubRs/aJJQWLCfr5Q9JR+Jemp6aTSGT0+gdKBTmyoAJKdCEXFuI2yTSuyMgGPxfl1 qADsklI8JmcTTmY4vE6bLfXmKIFZV0+4iL4yqROBLPnk62A2+vFXIfPSdzn0usMjEae+ PC/vT3WvXSi0y4qSHHMzgHcoNNPAj3woDMU4E= X-Google-DKIM-Signature: v=1; a=rsa-sha256; c=relaxed/relaxed; d=1e100.net; s=20230601; t=1747365238; x=1747970038; h=cc:to:from:subject:message-id:date:x-gm-message-state:from:to:cc :subject:date:message-id:reply-to; bh=hZ32ywQ+wY7Yj94eb3AhwbjIoQ0ZqpawqkX40yROipQ=; b=VUPx+XoS5d4+nbVYGwW/ul0imB4kmZYWE4Hiz8xfE6jN58v5HRmdjtU8qqaadl7D0q raM5mtjyySCVmvt+e504OkLGT7crvpsBCALM4v9JYnhnewdtewP8X5MVh1TyVe4B/Ihr ADgyurukjRQV6KCw2GKZFJyIA/1fzGAJJ0EMF6AEfTNfjeDJptCbpn1uHCFxOF3EYi4o 1r2hB7r4Rg+mOmZsbH5Suxgw5wPbweMneK3cupqYc0SISyNsf3nqCAAvoXTuyfiZXzxo aN0RG/XME5NUIxeGRFoVMW47PLYV9U+lGp+jNRFhjLnRnpyBSQyZ6GAJVfwCAzR7eTSO 5akg== X-Gm-Message-State: AOJu0YzMnnRNa0Alipp/eeR23gdKXCTWQy2hjDyNdjgMmlQnES+gcMNs hL1mqh5l1wJyNQ2NV2HZfd88ZgzckDSpoI3OYNHW8JqQxn3pZEJZuLTOIf6F1IQ4VxndJaJIIdQ YQd1OjcnmL4TrZeGcuy/BL/9LDVnTZcEezW16ugDQAMKRgxh20EdaFHcY9YlZ X-Gm-Gg: ASbGncvGmqNVrHF3nrQXC1BflCMcfaVG0+jkPKROpz+jJIC1MbtsLRMBJnpYcnH9X36 K/Zm29rirJHF8uhk4iz2BUE612xRrB9zToyygzmqsfRii2MI4A1BY0v08ih6m2OP8E7K0IGTMAt iFZrCpGkKaFFjeBK7Ae1fVQgSFsVp+tKZhO4Sf5GXoRaP5k0rz9MKRxmuLdEvfxjFWd+UfVfJad pYNkwElUB77ftg8UHJGOJ2DjWKQbre66aImenQLQTCsPVDhQZopOxQMqoC1GvUwn+/yETpaSpc4 wVIDmXHWpwtjZC5ttIJkVxwsfKfClrACzj44 X-Google-Smtp-Source: AGHT+IGYhyN3QYYeJdQ3e7FoarlXSN6uqRleHQeKaeuQL60lOYXU6NvxQRtVbkpHxfVofs7BStqTF+mUqXMq X-Received: by 2002:a05:6e02:1c07:b0:3d0:4b3d:75ba with SMTP id e9e14a558f8ab-3db842e8921mr25776105ab.4.1747365238095; Thu, 15 May 2025 20:13:58 -0700 (PDT) Received: from postal.iol.unh.edu (postal.iol.unh.edu. [2606:4100:3880:1234::84]) by smtp-relay.gmail.com with ESMTPS id e9e14a558f8ab-3db8441e284sm461565ab.18.2025.05.15.20.13.58 (version=TLS1_2 cipher=ECDHE-ECDSA-AES128-GCM-SHA256 bits=128/128); Thu, 15 May 2025 20:13:58 -0700 (PDT) X-Relaying-Domain: iol.unh.edu Date: Thu, 15 May 2025 20:13:58 -0700 (PDT) Message-ID: <6826ad76.920a0220.24ab34.24d6SMTPIN_ADDED_MISSING@mx.google.com> Received: from [172.17.0.2] (unknown [172.18.0.76]) by postal.iol.unh.edu (Postfix) with ESMTP id 8ED996052471; Thu, 15 May 2025 23:13:57 -0400 (EDT) Subject: |SUCCESS| [GIT MASTER] dcf9f9363aa9b4163d241caf8b26a84ca0c0006b From: dpdklab@iol.unh.edu To: Test Report Cc: dpdk-test-reports@iol.unh.edu Content-Type: text/plain X-BeenThere: test-report@dpdk.org X-Mailman-Version: 2.1.29 Precedence: list List-Id: automatic DPDK test reports List-Unsubscribe: , List-Archive: List-Post: List-Help: List-Subscribe: , Errors-To: test-report-bounces@dpdk.org _Testing PASS_ Branch: dpdk dcf9f9363aa9b4163d241caf8b26a84ca0c0006b --> testing pass Upstream job id: Generic-DPDK-Compile-ABI#126568 Test environment and result as below: +-------------------+----------+ | Environment | abi_test | +===================+==========+ | CentOS Stream 9 | PASS | +-------------------+----------+ | CentOS Stream 10 | PASS | +-------------------+----------+ | Fedora 40 (Clang) | PASS | +-------------------+----------+ | Debian 12 | PASS | +-------------------+----------+ | RHEL8 | PASS | +-------------------+----------+ | Fedora 40 | PASS | +-------------------+----------+ | Fedora 41 (Clang) | PASS | +-------------------+----------+ | Fedora 41 | PASS | +-------------------+----------+ | openSUSE Leap 15 | PASS | +-------------------+----------+ | Ubuntu 22.04 | PASS | +-------------------+----------+ | RHEL9 | PASS | +-------------------+----------+ | Ubuntu 24.04 | PASS | +-------------------+----------+ | Arch Linux | PASS | +-------------------+----------+ CentOS Stream 9 Kernel: Depends on container host Compiler: gcc 11.5.0 20240719 (Red Hat 11.5.0-2) CentOS Stream 10 Kernel: Depends on container host Compiler: gcc 14.2.1 20241104 (Red Hat 14.2.1-6) Fedora 40 (Clang) Kernel: Depends on container host Compiler: clang 18.1.8 (Fedora 18.1.8-1.fc40) Debian 12 Kernel: Depends on container host Compiler: gcc (Debian 12.2.0-14) 12.2.0 RHEL8 Kernel: Depends on container host Compiler: gcc 8.5.0 20210514 (Red Hat 8.5.0-22) Fedora 40 Kernel: Depends on container host Compiler: gcc 14.2.1 20240912 (Red Hat 14.2.1-3) Fedora 41 (Clang) Kernel: Depends on container host Compiler: clang 19.1.5 (Fedora 19.1.5-1.fc41) Fedora 41 Kernel: Depends on container host Compiler: gcc 14.2.1 20240912 (Red Hat 14.2.1-3) openSUSE Leap 15 Kernel: Depends on container host Compiler: gcc (SUSE Linux) 7.5.0 Ubuntu 22.04 Kernel: Depends on container host Compiler: gcc (Ubuntu 11.4.0-1ubuntu1~22.04) 11.4.0 RHEL9 Kernel: Depends on container host Compiler: gcc 11.5.0 20240719 (Red Hat 11.5.0-2) Ubuntu 24.04 Kernel: Depends on container host Compiler: gcc (Ubuntu 13.3.0-6ubuntu2~24.04) 13.3.0 Arch Linux Kernel: Depends on container host Compiler: gcc 14.2.1 20240910 To view detailed results, visit: https://lab.dpdk.org/results/dashboard/tarballs/33547/ UNH-IOL DPDK Community Lab To manage your email subscriptions, visit: https://lab.dpdk.org/results/dashboard/preferences/subscriptions/