From mboxrd@z Thu Jan 1 00:00:00 1970 Return-Path: Received: from mails.dpdk.org (mails.dpdk.org [217.70.189.124]) by inbox.dpdk.org (Postfix) with ESMTP id 967AC4675C for ; Fri, 16 May 2025 05:48:23 +0200 (CEST) Received: from mails.dpdk.org (localhost [127.0.0.1]) by mails.dpdk.org (Postfix) with ESMTP id 60EBD400EF; Fri, 16 May 2025 05:48:22 +0200 (CEST) Received: from mail-il1-f228.google.com (mail-il1-f228.google.com [209.85.166.228]) by mails.dpdk.org (Postfix) with ESMTP id 1DA2240041 for ; Fri, 16 May 2025 05:48:21 +0200 (CEST) Received: by mail-il1-f228.google.com with SMTP id e9e14a558f8ab-3d91db4f0c3so7871255ab.3 for ; Thu, 15 May 2025 20:48:21 -0700 (PDT) DKIM-Signature: v=1; a=rsa-sha256; c=relaxed/relaxed; d=iol.unh.edu; s=unh-iol; t=1747367300; x=1747972100; darn=dpdk.org; h=references:in-reply-to:cc:to:from:subject:message-id:date:from:to :cc:subject:date:message-id:reply-to; bh=dtAxJYzwiBMeJiohaU9Xl+QAbKvgpynO7Ci9FRmCLEw=; b=UbBWExy8nQtFrsI2lMnmr8O6Whh0FR8Y+wcL25Qn4xadw4H1ceTzY+CLujMZW/YZIV yujZXceQL7b3SPuf+W+e3iz0D2iNLTxKDd1gS4aiPZwQYYtxHwuGJqiR4S/fdbHojO5e yi9NK5yGdLiK2TOO7mk7DAtVCl40ltoMfeXC4= X-Google-DKIM-Signature: v=1; a=rsa-sha256; c=relaxed/relaxed; d=1e100.net; s=20230601; t=1747367300; x=1747972100; h=references:in-reply-to:cc:to:from:subject:message-id:date :x-gm-message-state:from:to:cc:subject:date:message-id:reply-to; bh=dtAxJYzwiBMeJiohaU9Xl+QAbKvgpynO7Ci9FRmCLEw=; b=HpGVhJ5Knjp87m+uy5+CB+HaLWuhOOgTeKWqAG8w9AGpQV1RhpsRnaTr9ugc2R1Xvm YDAS4VTje9U3/C7uwZN5aSjrX0r+RYHAgq05XsBvx8CUHgwn7y6LtzGQKr3wUise6pqa XwfbAuESt/pWYdlc/WNGJpWw8kIyQlS1HLaDiWVzs6aSM0/HZhnkVy0ybNW02ykDG39K QPl8HGvImvipMicw+i8f2SevDSO/T/zlITnS7OoIm+Xbuln5Q0MYpQVraF04pUcHjdvN TSZu5xRD2Zy4P766Nvm8KeiJkBMuyFLQgFHvxZiftUMnP/eBTlomyzUP1xKXUgJr7ik0 4UrA== X-Gm-Message-State: AOJu0YxjQJnJbPoJMmku9OFQ4IAtDYEhTpIdz+BQFEP6e6O/3DwkpalO krIalY4oQ5pYBW+aOxP4EtVkiKLS4uMqiEmzsbi7XDKpVnFIrWO6M4y4SYiwq891XEU3l12Pxi9 BIyE7gTNBlLzvFLAbX0p2vZl9DV4UaQI26uOMXqomS8wj+u105MyUU34EtPTq X-Gm-Gg: ASbGncvPgdfAQ4eVbmNtcVuOAjjDVWjFgCe/lYl9X5botYApgaJw9mqQU10wwpXjrw7 7m717OYatg0ffrHj7/OAQ9fVoaQeqEX7ZSi+cR9Tt9xQ82NH7wy48e7SQy1lAp5TgecAtyYXkZW YA+Rfe8PE+fV5odyJKjMpfCTOqTYRDEihPOFNqs8j+uP853G2MkdhY4ns4SDP5C/CNyGvbv1xck DtfBe5OmKBsrEYbGEues+spTujud5KWrr/EAefLtLdDbM3lP1QJimc6fAYY2AWfmVpSfUPcgxNs vcyIYb4mOypTVwAQsUV2uHlMRkImmmXbhemw X-Google-Smtp-Source: AGHT+IE8QdegmTo1JK0P1m4iq9gBN0BbO/Sh1RU/sinOLKqP/FKJnTpzY/vASjcJp1dBoPtI8wI0aZ+ek0VB X-Received: by 2002:a05:6e02:198c:b0:3da:71c3:f548 with SMTP id e9e14a558f8ab-3db85792a1dmr12485075ab.18.1747367300196; Thu, 15 May 2025 20:48:20 -0700 (PDT) Received: from postal.iol.unh.edu (postal.iol.unh.edu. [2606:4100:3880:1234::84]) by smtp-relay.gmail.com with ESMTPS id e9e14a558f8ab-3db8442cb15sm442395ab.33.2025.05.15.20.48.20 (version=TLS1_2 cipher=ECDHE-ECDSA-AES128-GCM-SHA256 bits=128/128); Thu, 15 May 2025 20:48:20 -0700 (PDT) X-Relaying-Domain: iol.unh.edu Date: Thu, 15 May 2025 20:48:20 -0700 (PDT) Message-ID: <6826b584.920a0220.1ed371.22a5SMTPIN_ADDED_MISSING@mx.google.com> Received: from [172.17.0.4] (unknown [172.18.0.74]) by postal.iol.unh.edu (Postfix) with ESMTP id AD68B6052471; Thu, 15 May 2025 23:48:19 -0400 (EDT) Subject: |SUCCESS| pw153458 [PATCH] [v2] net/ice: fix flow creation failure From: dpdklab@iol.unh.edu To: Test Report Cc: dpdk-test-reports@iol.unh.edu In-Reply-To: <20250515112348.7746-1-dhanya.r.pillai@intel.com> References: <20250515112348.7746-1-dhanya.r.pillai@intel.com> Content-Type: text/plain X-BeenThere: test-report@dpdk.org X-Mailman-Version: 2.1.29 Precedence: list List-Id: automatic DPDK test reports List-Unsubscribe: , List-Archive: List-Post: List-Help: List-Subscribe: , Errors-To: test-report-bounces@dpdk.org Test-Label: iol-sample-apps-testing Test-Status: SUCCESS http://dpdk.org/patch/153458 _Testing PASS_ Submitter: Dhanya Pillai Date: Thursday, May 15 2025 11:23:44 DPDK git baseline: Repo:dpdk Branch: master CommitID:51e889518fc861f1af5acbbc133a75203225655c 153458 --> testing pass Upstream job id: ACVP-FIPS-testing#9823 Test environment and result as below: +--------------------+----------------------+----------------------+ | Environment | compressdev_zlib_pmd | dpdk_fips_validation | +====================+======================+======================+ | Ubuntu 22.04 (ARM) | PASS | SKIPPED | +--------------------+----------------------+----------------------+ | Ubuntu 22.04 | PASS | SKIPPED | +--------------------+----------------------+----------------------+ | Ubuntu 20.04 | SKIPPED | PASS | +--------------------+----------------------+----------------------+ Ubuntu 22.04 (ARM) Kernel: 5.15.0-97-generic Compiler: gcc gcc (Ubuntu 11.4.0-1ubuntu1~22.04) 11.4.0 Ubuntu 22.04 Kernel: 5.15.0-100-generic Compiler: gcc gcc (Ubuntu 11.4.0-1ubuntu1~22.04) 11.4.0 Ubuntu 20.04 Kernel: Depends on container host Compiler: gcc (Ubuntu 9.4.0-1ubuntu1~20.04.2) 9.4.0 To view detailed results, visit: https://lab.dpdk.org/results/dashboard/patchsets/33181/ UNH-IOL DPDK Community Lab To manage your email subscriptions, visit: https://lab.dpdk.org/results/dashboard/preferences/subscriptions/