From mboxrd@z Thu Jan 1 00:00:00 1970 Return-Path: Received: from mails.dpdk.org (mails.dpdk.org [217.70.189.124]) by inbox.dpdk.org (Postfix) with ESMTP id C0E0346756 for ; Fri, 16 May 2025 06:29:15 +0200 (CEST) Received: from mails.dpdk.org (localhost [127.0.0.1]) by mails.dpdk.org (Postfix) with ESMTP id B4ED8400EF; Fri, 16 May 2025 06:29:15 +0200 (CEST) Received: from mail-il1-f227.google.com (mail-il1-f227.google.com [209.85.166.227]) by mails.dpdk.org (Postfix) with ESMTP id 6775440041 for ; Fri, 16 May 2025 06:29:14 +0200 (CEST) Received: by mail-il1-f227.google.com with SMTP id e9e14a558f8ab-3da7d0d7d58so11693295ab.0 for ; Thu, 15 May 2025 21:29:14 -0700 (PDT) DKIM-Signature: v=1; a=rsa-sha256; c=relaxed/relaxed; d=iol.unh.edu; s=unh-iol; t=1747369753; x=1747974553; darn=dpdk.org; h=cc:to:from:subject:message-id:date:from:to:cc:subject:date :message-id:reply-to; bh=qAQTS1NFcNSiloMmDhsLChoRK+ugur9glqAlAoQ2I58=; b=PIA8iBlmeJNhiYTTH6Rzp3HevVlgcEmA49ECcwJo/tFhf/8Zti603oyDxHlRdzWK3q oBa3uB1jJzgVURQT5VEF1YDIquIlrfuU++c6GncoYHL0frgAo+oL3yLISR1JjUuth/Uf eTnY4dlwTrMFGkE0WBNcZ4BYyWHlGasbU8vqY= X-Google-DKIM-Signature: v=1; a=rsa-sha256; c=relaxed/relaxed; d=1e100.net; s=20230601; t=1747369753; x=1747974553; h=cc:to:from:subject:message-id:date:x-gm-message-state:from:to:cc :subject:date:message-id:reply-to; bh=qAQTS1NFcNSiloMmDhsLChoRK+ugur9glqAlAoQ2I58=; b=Ho+LHVZyQlHEfUFxb3trToiJcHT+KLxAfQvrVUv1fDXxVF+BVYTDaRSgxCQ3NjtIdz ci+4PE3jjB/gCDm8IRGYwdk/HlZrdVTxDWyeZzjwBbUvturAhEOIKB+uJanuDKCFiziC ZUdxyBh3KARmk+GhpXenBjBFZfbyDbdkRVSVxHC3xNdVpCH5anxw+/t0THuTD3NGdr/k Owjd5Nf8nCX7DZt2BUItzk7sgZL2jLP1m1Apsak04LkeXlohd0jG1OCAKwpFIDzMPDQm 7CbF/lfiBLEsIzHWyc0jA1GbRuLEkjqIgefJAmPzoZpg16+VlOVQNpvsxYEtd9bfVIpv 4CAQ== X-Gm-Message-State: AOJu0Yy3/b/OnzdxwxkUJPv8z7TGrEO7z1CkimtcSCi7imSZLOP6f1qp KVqu2AgPjpFIWVP7tPsnEE7cjd3ixWIXiCHwAguUIDqKOiWSAcqcBqJ0OPOJ2o6xtgzqTUW8FC/ DniiR3tFnIBjR3J6RJY1FCtngReMFkWTIUbD4RPAKA3ms9cQYNg/WQGxVdwUY X-Gm-Gg: ASbGncv7aVe8AEoAZILefICW5DUvESr4gKA+XLVjB541VilFye57w/HpNvB1S1yar6F 2LxNKNYW3nQVBFdJT6AkhVvcIDelROeTE2EAlnCMDkstKNnxbERBaH8cStMPwKjwXycexoQEt9L 8S2C/iDr8VNq74PFErgqHGDWsF9Eb6jt6IGvNVNqqt3KoYdqGSnaAorfCAKiZ86s6bv4vJhgk62 2YnvKFVd8tLUfPe3PDe+icQ46+Q7OP0vQgVch4hdR5i9MhLdhJkwCRCIuYdzCD/19oME2NetlUD i92SwxhlTEHEGF2Dp0kz6UN7LeefYUIqU2Jh X-Google-Smtp-Source: AGHT+IFrVzmjn6TXtW4EhcC1Dif8X32ahWFbzkU1wWry3RzQJhTcLR/1upB8F3k2Hxl2Vbm5r4o7ncVgVS9/ X-Received: by 2002:a05:6e02:1c2d:b0:3db:7296:3792 with SMTP id e9e14a558f8ab-3db857d36femr11243985ab.22.1747369753674; Thu, 15 May 2025 21:29:13 -0700 (PDT) Received: from postal.iol.unh.edu (postal.iol.unh.edu. [2606:4100:3880:1234::84]) by smtp-relay.gmail.com with ESMTPS id 8926c6da1cb9f-4fbcc488c42sm55980173.45.2025.05.15.21.29.13 (version=TLS1_2 cipher=ECDHE-ECDSA-AES128-GCM-SHA256 bits=128/128); Thu, 15 May 2025 21:29:13 -0700 (PDT) X-Relaying-Domain: iol.unh.edu Date: Thu, 15 May 2025 21:29:13 -0700 (PDT) Message-ID: <6826bf19.050a0220.160eb6.307bSMTPIN_ADDED_MISSING@mx.google.com> Received: from [172.17.0.2] (unknown [172.18.0.76]) by postal.iol.unh.edu (Postfix) with ESMTP id 2FA126052471; Fri, 16 May 2025 00:29:13 -0400 (EDT) Subject: |SUCCESS| [GIT MASTER] dcf9f9363aa9b4163d241caf8b26a84ca0c0006b From: dpdklab@iol.unh.edu To: Test Report Cc: dpdk-test-reports@iol.unh.edu Content-Type: text/plain X-BeenThere: test-report@dpdk.org X-Mailman-Version: 2.1.29 Precedence: list List-Id: automatic DPDK test reports List-Unsubscribe: , List-Archive: List-Post: List-Help: List-Subscribe: , Errors-To: test-report-bounces@dpdk.org _Testing PASS_ Branch: dpdk dcf9f9363aa9b4163d241caf8b26a84ca0c0006b --> testing pass Upstream job id: Generic-DPDK-Compile-Meson#388445 Test environment and result as below: +----------------------------------------+--------------------+ | Environment | dpdk_meson_compile | +========================================+====================+ | RHEL9 (ARM) | PASS | +----------------------------------------+--------------------+ | Ubuntu 20.04 ARM GCC Cross Compile | PASS | +----------------------------------------+--------------------+ | Debian 12 with MUSDK | PASS | +----------------------------------------+--------------------+ | Fedora 40 (ARM) | PASS | +----------------------------------------+--------------------+ | Ubuntu 20.04 ARM SVE | PASS | +----------------------------------------+--------------------+ | Fedora 40 (ARM Clang) | PASS | +----------------------------------------+--------------------+ | Fedora 41 (ARM) | PASS | +----------------------------------------+--------------------+ | Fedora 41 (ARM Clang) | PASS | +----------------------------------------+--------------------+ | Ubuntu 20.04 (ARM) | PASS | +----------------------------------------+--------------------+ | Ubuntu 22.04 (ARM) | PASS | +----------------------------------------+--------------------+ | Ubuntu 24.04 (ARM) | PASS | +----------------------------------------+--------------------+ | CentOS Stream 9 (ARM) | PASS | +----------------------------------------+--------------------+ | CentOS Stream 10 (ARM) | PASS | +----------------------------------------+--------------------+ | Debian 12 (arm) | PASS | +----------------------------------------+--------------------+ | Ubuntu 20.04 ARM Clang Cross Compile | PASS | +----------------------------------------+--------------------+ | Ubuntu 20.04 aarch32 GCC Cross Compile | PASS | +----------------------------------------+--------------------+ RHEL9 (ARM) Kernel: Depends on container host Compiler: gcc 11.5.0 20240719 (Red Hat 11.5.0-2) Ubuntu 20.04 ARM GCC Cross Compile Kernel: Depends on container host Compiler: aarch64-linux-gnu-gcc (Ubuntu 9.4.0-1ubuntu1~20.04.2) 9.4.0 Debian 12 with MUSDK Kernel: Depends on container host Compiler: gcc (Debian 12.2.0-14) 12.2.0 Fedora 40 (ARM) Kernel: Depends on container host Compiler: gcc 14.2.1 20240912 (Red Hat 14.2.1-3) Ubuntu 20.04 ARM SVE Kernel: Depends on container host Compiler: gcc (Ubuntu 10.5.0-1ubuntu1~20.04) 10.5.0 Fedora 40 (ARM Clang) Kernel: Depends on container host Compiler: clang 18.1.8 (Fedora 18.1.8-1.fc40) Fedora 41 (ARM) Kernel: Depends on container host Compiler: gcc 14.2.1 20240912 (Red Hat 14.2.1-3) Fedora 41 (ARM Clang) Kernel: Depends on container host Compiler: clang 19.1.5 (Fedora 19.1.5-1.fc41) Ubuntu 20.04 (ARM) Kernel: Depends on container host Compiler: gcc (Ubuntu 9.4.0-1ubuntu1~20.04.2) 9.4.0 Ubuntu 22.04 (ARM) Kernel: Depends on container host Compiler: gcc (Ubuntu 11.4.0-1ubuntu1~22.04) 11.4.0 Ubuntu 24.04 (ARM) Kernel: Depends on container host Compiler: gcc (Ubuntu 13.3.0-6ubuntu2~24.04) 13.3.0 CentOS Stream 9 (ARM) Kernel: Depends on container host Compiler: gcc 11.5.0 20240719 (Red Hat 11.5.0-2) CentOS Stream 10 (ARM) Kernel: Depends on container host Compiler: gcc 14.2.1 20241104 (Red Hat 14.2.1-6) Debian 12 (arm) Kernel: Depends on container host Compiler: gcc (Debian 12.2.0-14) 12.2.0 Ubuntu 20.04 ARM Clang Cross Compile Kernel: Depends on container host Compiler: clang 10.0.0-4ubuntu1 Ubuntu 20.04 aarch32 GCC Cross Compile Kernel: Depends on container host Compiler: gcc 9.4.0 To view detailed results, visit: https://lab.dpdk.org/results/dashboard/tarballs/33547/ UNH-IOL DPDK Community Lab To manage your email subscriptions, visit: https://lab.dpdk.org/results/dashboard/preferences/subscriptions/