From mboxrd@z Thu Jan 1 00:00:00 1970 Return-Path: Received: from mails.dpdk.org (mails.dpdk.org [217.70.189.124]) by inbox.dpdk.org (Postfix) with ESMTP id 3189A4675D for ; Fri, 16 May 2025 06:35:21 +0200 (CEST) Received: from mails.dpdk.org (localhost [127.0.0.1]) by mails.dpdk.org (Postfix) with ESMTP id 532DA400EF; Fri, 16 May 2025 06:35:19 +0200 (CEST) Received: from mail-qk1-f227.google.com (mail-qk1-f227.google.com [209.85.222.227]) by mails.dpdk.org (Postfix) with ESMTP id B440D40041 for ; Fri, 16 May 2025 06:35:17 +0200 (CEST) Received: by mail-qk1-f227.google.com with SMTP id af79cd13be357-7c5ba363f1aso229622585a.0 for ; Thu, 15 May 2025 21:35:17 -0700 (PDT) DKIM-Signature: v=1; a=rsa-sha256; c=relaxed/relaxed; d=iol.unh.edu; s=unh-iol; t=1747370117; x=1747974917; darn=dpdk.org; h=references:in-reply-to:cc:to:from:subject:message-id:date:from:to :cc:subject:date:message-id:reply-to; bh=RyVmMTgoO9bAO6j+tdV29/kmLdaxzBB60wEStgW9vvQ=; b=HKa3I6RwKlWDGFKhsjE2Sv1LTioYF1qztO4zOw6EM6qtkUINNo+Ldo5Yo6yuAJCXGy VzHIoqTxemPCto2DbPEZRLMksnaKUPNFaZK3hE0sD5LLPDg2+uRIhYfgEZPrTBqoqu8w m3b1249CMbzU/o1xPETGUfdIyEkpL6Pgpi++8= X-Google-DKIM-Signature: v=1; a=rsa-sha256; c=relaxed/relaxed; d=1e100.net; s=20230601; t=1747370117; x=1747974917; h=references:in-reply-to:cc:to:from:subject:message-id:date :x-gm-message-state:from:to:cc:subject:date:message-id:reply-to; bh=RyVmMTgoO9bAO6j+tdV29/kmLdaxzBB60wEStgW9vvQ=; b=aNb3Ly3aBAOeks1+cGbIH78/WFhcNOWh78VDPGHmDDWmtP8X8+X7SEhyoDYRhtzmXG UDx7cwgZLq3DIVP4tjaJB/gvEU5MNuHtmK11zxv0yInODmT/j6MoHzrSC3KIj2u8YeEa crs0uf+EMcP40IktMUmbweHPmxR9P70j9vBgJceelr5UgJO9ZeuWVqO9WCaMxwqOzA1G guzCL1QaAN3ZHH2FKsEXvklC/1dCv8CCNeQcBcNk6bOgkrozpMTGjB011zO9DWVG96H7 jod2KsrYftIzzbdJz/BXv2MyzKMCxWepfENA6n0huMbP0j/fEUGFTk3zYH9e06+H5Gr7 ojUQ== X-Gm-Message-State: AOJu0YymxuFzTOx5MS1rfWVtF4Xg81DAGlSmf3CubY4pr/j0MzLZ63y8 JAzmpJkZkUV2Oioo5tC5IH9gV7xLW6jwGd2JpEeV3SXoKIloj46g86iV98BR9FxLcUcwibAILVf rKCmsrPEf5x+gCcfqhbTzpwC8uOtyjbM+cmcL4WYIhgtJ7AedMxXufRu1JwcB X-Gm-Gg: ASbGncsOG7LA5Eh44AuQMRMK8+l/Ujx9VeJiJsLOtKdKfJl0l5GAP6Xjp+1x3krzqSf JqJgR0089NSLY1ZxE3RJQmKG6UHloZL22m87UlKA5uaRi+nPjLFIu+l8X3XMZqLN23u/ebzvLIY gK3qAvwYKIcSonYITc6U0L0ONdvVVxjCrovdqj85GMylqY+5H2UK3omQyEOah4G1mQzwPtMMj7L VxkGOVJFlcXDOCl10PMTFFZ7z31xUtmB9aNwPadVeAR6JXCNx8FnIyWqagES0heRHvOU7VnP6TH 5ToJu4yzfK+oGF5rMNtLj6+Fs8HonAnJgztI X-Google-Smtp-Source: AGHT+IExIQJU8TxXtn7Jefkjwj7S16kVSXv+Znvh6+wQoTa0XqEwUytBV7qSlVjuZtZncbilnUH4jXMbFvFJ X-Received: by 2002:a05:6a00:a06:b0:736:5c8e:baaa with SMTP id d2e1a72fcca58-742acc8e94cmr1532372b3a.2.1747370106120; Thu, 15 May 2025 21:35:06 -0700 (PDT) Received: from postal.iol.unh.edu (postal.iol.unh.edu. [2606:4100:3880:1234::84]) by smtp-relay.gmail.com with ESMTPS id d2e1a72fcca58-742ad9683a3sm34029b3a.4.2025.05.15.21.35.06 (version=TLS1_2 cipher=ECDHE-ECDSA-AES128-GCM-SHA256 bits=128/128); Thu, 15 May 2025 21:35:06 -0700 (PDT) X-Relaying-Domain: iol.unh.edu Date: Thu, 15 May 2025 21:35:06 -0700 (PDT) Message-ID: <6826c07a.050a0220.285d85.1958SMTPIN_ADDED_MISSING@mx.google.com> Received: from [172.17.0.2] (unknown [172.18.0.76]) by postal.iol.unh.edu (Postfix) with ESMTP id 483ED6052471; Fri, 16 May 2025 00:35:05 -0400 (EDT) Subject: |SUCCESS| pw153468 [PATCH] mailmap: update contributor entry From: dpdklab@iol.unh.edu To: Test Report Cc: dpdk-test-reports@iol.unh.edu In-Reply-To: <20250516031502.1972-1-mosesyyoung@gmail.com> References: <20250516031502.1972-1-mosesyyoung@gmail.com> Content-Type: text/plain X-BeenThere: test-report@dpdk.org X-Mailman-Version: 2.1.29 Precedence: list List-Id: automatic DPDK test reports List-Unsubscribe: , List-Archive: List-Post: List-Help: List-Subscribe: , Errors-To: test-report-bounces@dpdk.org Test-Label: iol-unit-amd64-testing Test-Status: SUCCESS http://dpdk.org/patch/153468 _Testing PASS_ Submitter: Yang Ming Date: Friday, May 16 2025 03:15:01 DPDK git baseline: Repo:dpdk Branch: master CommitID:dcf9f9363aa9b4163d241caf8b26a84ca0c0006b 153468 --> testing pass Upstream job id: Generic-VM-Unit-Test-DPDK#28557 Test environment and result as below: +---------------------+----------------+ | Environment | dpdk_unit_test | +=====================+================+ | Fedora 40 | PASS | +---------------------+----------------+ | Debian 12 | PASS | +---------------------+----------------+ | CentOS Stream 10 | PASS | +---------------------+----------------+ | CentOS Stream 9 | PASS | +---------------------+----------------+ | Fedora 40 (Clang) | PASS | +---------------------+----------------+ | Ubuntu 20.04 | PASS | +---------------------+----------------+ | Fedora 41 | PASS | +---------------------+----------------+ | RHEL8 | PASS | +---------------------+----------------+ | RHEL9 | PASS | +---------------------+----------------+ | Ubuntu 22.04 | PASS | +---------------------+----------------+ | Fedora 41 (Clang) | PASS | +---------------------+----------------+ | Ubuntu 24.04 | PASS | +---------------------+----------------+ | Windows Server 2022 | PASS | +---------------------+----------------+ Fedora 40 Kernel: Depends on container host Compiler: gcc 14.2.1 20240912 (Red Hat 14.2.1-3) Debian 12 Kernel: Depends on container host Compiler: gcc (Debian 12.2.0-14) 12.2.0 CentOS Stream 10 Kernel: Depends on container host Compiler: gcc 14.2.1 20241104 (Red Hat 14.2.1-6) CentOS Stream 9 Kernel: Depends on container host Compiler: gcc 11.5.0 20240719 (Red Hat 11.5.0-2) Fedora 40 (Clang) Kernel: Depends on container host Compiler: clang 18.1.8 (Fedora 18.1.8-1.fc40) Ubuntu 20.04 Kernel: Depends on container host Compiler: gcc (Ubuntu 9.4.0-1ubuntu1~20.04.2) 9.4.0 Fedora 41 Kernel: Depends on container host Compiler: gcc 14.2.1 20240912 (Red Hat 14.2.1-3) RHEL8 Kernel: Depends on container host Compiler: gcc 8.5.0 20210514 (Red Hat 8.5.0-22) RHEL9 Kernel: Depends on container host Compiler: gcc 11.5.0 20240719 (Red Hat 11.5.0-2) Ubuntu 22.04 Kernel: Depends on container host Compiler: gcc (Ubuntu 11.4.0-1ubuntu1~22.04) 11.4.0 Fedora 41 (Clang) Kernel: Depends on container host Compiler: clang 19.1.5 (Fedora 19.1.5-1.fc41) Ubuntu 24.04 Kernel: Depends on container host Compiler: gcc (Ubuntu 13.3.0-6ubuntu2~24.04) 13.3.0 Windows Server 2022 Kernel: 10.0.20348.2031 Compiler: clang 15.0.7, gcc 14.1.0 (MinGW), and MSVC VS 19.39.33521 To view detailed results, visit: https://lab.dpdk.org/results/dashboard/patchsets/33186/ UNH-IOL DPDK Community Lab To manage your email subscriptions, visit: https://lab.dpdk.org/results/dashboard/preferences/subscriptions/