From mboxrd@z Thu Jan 1 00:00:00 1970 Return-Path: Received: from mails.dpdk.org (mails.dpdk.org [217.70.189.124]) by inbox.dpdk.org (Postfix) with ESMTP id 643994675D for ; Fri, 16 May 2025 06:51:37 +0200 (CEST) Received: from mails.dpdk.org (localhost [127.0.0.1]) by mails.dpdk.org (Postfix) with ESMTP id 31A48400EF; Fri, 16 May 2025 06:51:36 +0200 (CEST) Received: from mail-oo1-f99.google.com (mail-oo1-f99.google.com [209.85.161.99]) by mails.dpdk.org (Postfix) with ESMTP id 94E4240041 for ; Fri, 16 May 2025 06:51:34 +0200 (CEST) Received: by mail-oo1-f99.google.com with SMTP id 006d021491bc7-609e7f3caf3so1304816eaf.1 for ; Thu, 15 May 2025 21:51:34 -0700 (PDT) DKIM-Signature: v=1; a=rsa-sha256; c=relaxed/relaxed; d=iol.unh.edu; s=unh-iol; t=1747371093; x=1747975893; darn=dpdk.org; h=references:in-reply-to:cc:to:from:subject:message-id:date:from:to :cc:subject:date:message-id:reply-to; bh=gG4wsa0lHAGL+VvnK5dGemJ5EUS7woMifSZlM9iSXFk=; b=jnykshgrWpuWRm83H9+T2ciJ26za8Wu6c5aH+4K6pAyvqZxaNDB5WrvFZJXwMkZLzR OhliUqBWSpEIN/JVkjCOdUzZfIOFujArgb7kdRU5F4/Wq/CIp64DB9pb78KIoKegdO8P pKDKRat5mpzoSm4jPmQmpOTkAdM/OnEndVjpw= X-Google-DKIM-Signature: v=1; a=rsa-sha256; c=relaxed/relaxed; d=1e100.net; s=20230601; t=1747371093; x=1747975893; h=references:in-reply-to:cc:to:from:subject:message-id:date :x-gm-message-state:from:to:cc:subject:date:message-id:reply-to; bh=gG4wsa0lHAGL+VvnK5dGemJ5EUS7woMifSZlM9iSXFk=; b=FqJ4c1YaxLnh/l44oQ6KyqmSK3CLkuNGs3V4V+0AuN3UVPP3id9lfDLCwENcDYrxYZ MAULq5nVcnLtovBhXE01NpYHN2Rdg95kWIEQ21e3gqPSd8DFk+eIEYcS97kePsnLL2tY Mlx94ruZyBMB7Qj7J4c844O/u6z5CDpYEnxwI+nVrrjUKaL5SNVBosVmiMEjfWe2Mk5b A75DSstitmOknuZZvZwq5FZLzAxqr0PBc1BSigtjMUfLs8c7W56Y3gxZ2UhcffIYhl/P GuMiWhLx0/hNoGaO9RzpQwL6mAzT7H2qE3fCRdGmjpYoJ8V6i72OV3hYFYQEzBK8F12e TFvw== X-Gm-Message-State: AOJu0Yx/Q/m6/kWdW8KBdV3hiJFfFiedsQNY40RbBecAhEKeg8X/T+oI dRlC4p9xfHGTMvuCQsloTxka0vsb35NxiNjjT9msCrWX0RCX18afLgHAymFmliLAqtIchFUY4ll fUzZZN/Rs7n52WlT9NVASgvf/to0LM8obylaW/naKBJw9 X-Gm-Gg: ASbGncvZv8ADbR3PKLdq5Eb3/Ib5L/5/X4c47RfFQUnK41/sJ8zZNc0l3XoUmQwbWAq 7eMMUC3ZdHPsEwt6+r9KFN+W+xClW37cppgRQoQs6FCtU3aDRLl0EWhBZmE1QVbsmDkkCPqRZhT EamBh3KRV9JpLz/VzpoW/oGaimY55i7fsbUBKi0x0UVYCzlfKxJY7PoG8D+8WD2rwcl9Ssc0awB x0bAW4uWN4Vat1z+yZrcfP8yMk/wi8Jql7UsZ1KMjJ873imkfAnnGffIW4Uss2vivy5HjFNCXb9 vQdW14EmrHTGLtYwfTPqvAgoasnsOIhaTJ9TB0GuUUFWxKuQzsM+0+NCSqo= X-Google-Smtp-Source: AGHT+IHXFCTeSjjWWCrb5iEbAV075lvZBUsK19I2b3/hyAH2byMvVkOCetMhygsirZGyQ/pSbIZkyJE1+Fv+ X-Received: by 2002:a05:6820:210d:b0:607:8929:44ff with SMTP id 006d021491bc7-609f36bedfamr1198627eaf.1.1747371093408; Thu, 15 May 2025 21:51:33 -0700 (PDT) Received: from postal.iol.unh.edu (postal.iol.unh.edu. [132.177.123.84]) by smtp-relay.gmail.com with ESMTPS id 006d021491bc7-609f2fbf362sm54939eaf.12.2025.05.15.21.51.33 (version=TLS1_2 cipher=ECDHE-ECDSA-AES128-GCM-SHA256 bits=128/128); Thu, 15 May 2025 21:51:33 -0700 (PDT) X-Relaying-Domain: iol.unh.edu Date: Thu, 15 May 2025 21:51:33 -0700 (PDT) Message-ID: <6826c455.050a0220.3983f9.2cd8SMTPIN_ADDED_MISSING@mx.google.com> Received: from [172.21.0.5] (unknown [172.18.0.240]) by postal.iol.unh.edu (Postfix) with ESMTP id A09286052471; Fri, 16 May 2025 00:51:00 -0400 (EDT) Subject: |SUCCESS| pw153468 [PATCH] mailmap: update contributor entry From: dpdklab@iol.unh.edu To: Test Report Cc: dpdk-test-reports@iol.unh.edu In-Reply-To: <20250516031502.1972-1-mosesyyoung@gmail.com> References: <20250516031502.1972-1-mosesyyoung@gmail.com> Content-Type: text/plain X-BeenThere: test-report@dpdk.org X-Mailman-Version: 2.1.29 Precedence: list List-Id: automatic DPDK test reports List-Unsubscribe: , List-Archive: List-Post: List-Help: List-Subscribe: , Errors-To: test-report-bounces@dpdk.org Test-Label: iol-compile-amd64-testing Test-Status: SUCCESS http://dpdk.org/patch/153468 _Testing PASS_ Submitter: Yang Ming Date: Friday, May 16 2025 03:15:01 DPDK git baseline: Repo:dpdk Branch: master CommitID:dcf9f9363aa9b4163d241caf8b26a84ca0c0006b 153468 --> testing pass Upstream job id: Generic-DPDK-Compile-Meson#388482 Test environment and result as below: +-----------------------------------+--------------------+-------------------+------------------+-------------------------+-------------------+----------------------+ | Environment | dpdk_meson_compile | dpdk_compile_spdk | dpdk_compile_ovs | dpdk_llvm_clang_compile | dpdk_msvc_compile | dpdk_mingw64_compile | +===================================+====================+===================+==================+=========================+===================+======================+ | CentOS Stream 9 | PASS | PASS | SKIPPED | SKIPPED | SKIPPED | SKIPPED | +-----------------------------------+--------------------+-------------------+------------------+-------------------------+-------------------+----------------------+ | CentOS Stream 10 | PASS | SKIPPED | SKIPPED | SKIPPED | SKIPPED | SKIPPED | +-----------------------------------+--------------------+-------------------+------------------+-------------------------+-------------------+----------------------+ | Debian 12 | PASS | PASS | SKIPPED | SKIPPED | SKIPPED | SKIPPED | +-----------------------------------+--------------------+-------------------+------------------+-------------------------+-------------------+----------------------+ | Fedora 40 (Clang) | PASS | PASS | SKIPPED | SKIPPED | SKIPPED | SKIPPED | +-----------------------------------+--------------------+-------------------+------------------+-------------------------+-------------------+----------------------+ | Fedora 41 (Clang) | PASS | PASS | PASS | SKIPPED | SKIPPED | SKIPPED | +-----------------------------------+--------------------+-------------------+------------------+-------------------------+-------------------+----------------------+ | Fedora 40 | PASS | PASS | SKIPPED | SKIPPED | SKIPPED | SKIPPED | +-----------------------------------+--------------------+-------------------+------------------+-------------------------+-------------------+----------------------+ | Fedora 41 | PASS | PASS | PASS | SKIPPED | SKIPPED | SKIPPED | +-----------------------------------+--------------------+-------------------+------------------+-------------------------+-------------------+----------------------+ | RHEL9 | PASS | SKIPPED | SKIPPED | SKIPPED | SKIPPED | SKIPPED | +-----------------------------------+--------------------+-------------------+------------------+-------------------------+-------------------+----------------------+ | openSUSE Leap 15 | PASS | SKIPPED | SKIPPED | SKIPPED | SKIPPED | SKIPPED | +-----------------------------------+--------------------+-------------------+------------------+-------------------------+-------------------+----------------------+ | RHEL8 | PASS | SKIPPED | SKIPPED | SKIPPED | SKIPPED | SKIPPED | +-----------------------------------+--------------------+-------------------+------------------+-------------------------+-------------------+----------------------+ | Ubuntu 20.04 | PASS | SKIPPED | SKIPPED | SKIPPED | SKIPPED | SKIPPED | +-----------------------------------+--------------------+-------------------+------------------+-------------------------+-------------------+----------------------+ | Ubuntu 22.04 | PASS | PASS | SKIPPED | SKIPPED | SKIPPED | SKIPPED | +-----------------------------------+--------------------+-------------------+------------------+-------------------------+-------------------+----------------------+ | Ubuntu 24.04 | PASS | PASS | PASS | SKIPPED | SKIPPED | SKIPPED | +-----------------------------------+--------------------+-------------------+------------------+-------------------------+-------------------+----------------------+ | Alpine | PASS | SKIPPED | SKIPPED | SKIPPED | SKIPPED | SKIPPED | +-----------------------------------+--------------------+-------------------+------------------+-------------------------+-------------------+----------------------+ | Ubuntu 24.04 32 Bit Cross Compile | PASS | SKIPPED | SKIPPED | SKIPPED | SKIPPED | SKIPPED | +-----------------------------------+--------------------+-------------------+------------------+-------------------------+-------------------+----------------------+ | FreeBSD 14.2 | PASS | SKIPPED | SKIPPED | SKIPPED | SKIPPED | SKIPPED | +-----------------------------------+--------------------+-------------------+------------------+-------------------------+-------------------+----------------------+ | FreeBSD 13.5 | PASS | SKIPPED | SKIPPED | SKIPPED | SKIPPED | SKIPPED | +-----------------------------------+--------------------+-------------------+------------------+-------------------------+-------------------+----------------------+ | Windows Server 2022 | SKIPPED | SKIPPED | SKIPPED | PASS | PASS | PASS | +-----------------------------------+--------------------+-------------------+------------------+-------------------------+-------------------+----------------------+ CentOS Stream 9 Kernel: Depends on container host Compiler: gcc 11.5.0 20240719 (Red Hat 11.5.0-2) CentOS Stream 10 Kernel: Depends on container host Compiler: gcc 14.2.1 20241104 (Red Hat 14.2.1-6) Debian 12 Kernel: Depends on container host Compiler: gcc (Debian 12.2.0-14) 12.2.0 Fedora 40 (Clang) Kernel: Depends on container host Compiler: clang 18.1.8 (Fedora 18.1.8-1.fc40) Fedora 41 (Clang) Kernel: Depends on container host Compiler: clang 19.1.5 (Fedora 19.1.5-1.fc41) Fedora 40 Kernel: Depends on container host Compiler: gcc 14.2.1 20240912 (Red Hat 14.2.1-3) Fedora 41 Kernel: Depends on container host Compiler: gcc 14.2.1 20240912 (Red Hat 14.2.1-3) RHEL9 Kernel: Depends on container host Compiler: gcc 11.5.0 20240719 (Red Hat 11.5.0-2) openSUSE Leap 15 Kernel: Depends on container host Compiler: gcc (SUSE Linux) 7.5.0 RHEL8 Kernel: Depends on container host Compiler: gcc 8.5.0 20210514 (Red Hat 8.5.0-22) Ubuntu 20.04 Kernel: Depends on container host Compiler: gcc (Ubuntu 9.4.0-1ubuntu1~20.04.2) 9.4.0 Ubuntu 22.04 Kernel: Depends on container host Compiler: gcc (Ubuntu 11.4.0-1ubuntu1~22.04) 11.4.0 Ubuntu 24.04 Kernel: Depends on container host Compiler: gcc (Ubuntu 13.3.0-6ubuntu2~24.04) 13.3.0 Alpine Kernel: Depends on container host Compiler: gcc (Alpine 14.2.0) 14.2.0 Ubuntu 24.04 32 Bit Cross Compile Kernel: Depends on container host Compiler: gcc (Ubuntu 13.3.0-6ubuntu2~24.04) 13.3.0 FreeBSD 14.2 Kernel: 14.2-RELEASE Compiler: clang 18.1.6 FreeBSD 13.5 Kernel: 13.5-RELEASE Compiler: clang 19.1.7 Windows Server 2022 Kernel: 10.0.20348.2031 Compiler: clang 15.0.7, gcc 14.1.0 (MinGW), and MSVC VS 19.39.33521 To view detailed results, visit: https://lab.dpdk.org/results/dashboard/patchsets/33186/ UNH-IOL DPDK Community Lab To manage your email subscriptions, visit: https://lab.dpdk.org/results/dashboard/preferences/subscriptions/