From mboxrd@z Thu Jan 1 00:00:00 1970 Return-Path: Received: from mails.dpdk.org (mails.dpdk.org [217.70.189.124]) by inbox.dpdk.org (Postfix) with ESMTP id 7C65F4675D for ; Fri, 16 May 2025 07:03:44 +0200 (CEST) Received: from mails.dpdk.org (localhost [127.0.0.1]) by mails.dpdk.org (Postfix) with ESMTP id 4A51C400EF; Fri, 16 May 2025 07:03:44 +0200 (CEST) Received: from mail-pf1-f228.google.com (mail-pf1-f228.google.com [209.85.210.228]) by mails.dpdk.org (Postfix) with ESMTP id D006340041 for ; Fri, 16 May 2025 07:03:42 +0200 (CEST) Received: by mail-pf1-f228.google.com with SMTP id d2e1a72fcca58-742596d8b95so2310055b3a.1 for ; Thu, 15 May 2025 22:03:42 -0700 (PDT) DKIM-Signature: v=1; a=rsa-sha256; c=relaxed/relaxed; d=iol.unh.edu; s=unh-iol; t=1747371822; x=1747976622; darn=dpdk.org; h=references:in-reply-to:cc:to:from:subject:message-id:date:from:to :cc:subject:date:message-id:reply-to; bh=dYmYRTd/S9xPnAyXkxkiiU0B0lIxeIXcwIpOAwO3BaA=; b=dZfXb4gZsbJnv+Bzm+naN8Y06A2S+eNTwgWv2zqzTKLpqLccWqgrcgdLMDunIlHt0l +q+KmOUdI9Zdt10YdT0w8Ex7pfizzpy9P76YMVbN7yO/SefNkesSn5MxAaiU6B6iQtfP g6MoKMUjPARm34UTXZ+iFz93aT7qGx8G6tz0w= X-Google-DKIM-Signature: v=1; a=rsa-sha256; c=relaxed/relaxed; d=1e100.net; s=20230601; t=1747371822; x=1747976622; h=references:in-reply-to:cc:to:from:subject:message-id:date :x-gm-message-state:from:to:cc:subject:date:message-id:reply-to; bh=dYmYRTd/S9xPnAyXkxkiiU0B0lIxeIXcwIpOAwO3BaA=; b=j3UiobpVHU/aweLVqURtbC5yzFzNjbEVYDrg/BjESAZhFS4bZhJY4sVmZuVYdAw0eT xBjUuhlNmeV3oWGk7yOINPl+XQDDdJe+OnnK1eFGGwOmBVXlWvSE6J0c0YW70HTVB04O sRLMKHWlbhgmEwr+lrCKurN9CFqfu2nhbfOid6B6HZUZ0Tiq2B4jTrPWOgq+QMoFIDt7 XUQgvW/spyONkykGPnrD2tdZWq2t06zt1VJh4v1aWeFkrMw18ktTGgozEzFToYlwFlV0 X9n403E7uDy2rsxllnElMSVPpsyJwF+6Z8FRPLOnG9UA+93LyqEDt1XcmcoroW9sjNyP J8/A== X-Gm-Message-State: AOJu0YzP1XoPXD1+Td6q7chPbgdFmDoUI+D1uuWcIZiZ9gEXZkiTdbSC tWcZwI9tydBc1G86kOpTn7TookXtk4J3FVt/83b/J+Vx/K5rkV/+vypGtOgDFsCRcFUhhTpll2z lYwE2tdGpqwVf7tQIjaH1TN57hQu/Yke01hhrbzHCFyPJ X-Gm-Gg: ASbGnct+rUY+sRg2yr/avnhmRVueYOT6c6hVzaUpZrtxzVWEMuk7d+maZQ+Gun8oDQ/ FrwV9KXaQnIElu0OXhSglNCLaIDRSp+2GTTrzckrjenYR7KvF73QPBzIZtAOeMucnrcAmiotBUQ TJa+KVxmGsj3UUKybwRxIv3+CClpo4akhHnC0k9u2XvA38/YWh03nq8Hwj25Rj94wnJnX1WKwvF Nn4ceZTWyM69bRQolo2li1Yi6SlmHB6HmZt49TbYMlp6bhTI78KsUaSJYq/Z2knJfgHIahll/s/ KboFujE4+XXPUfIoN9mKDg0xprtJfYthCBHGV+CbbZe4E7BxbW5Ewc3oMMs= X-Google-Smtp-Source: AGHT+IHIg0kwOoBBBkZ6FP4nkDmlfYR5GEE68PQGVsyPZYrhthLBBVKQ25pRuxAcooz3KHP0v0Uf0Ga00HMP X-Received: by 2002:aa7:9a11:0:b0:742:a9ed:a3d6 with SMTP id d2e1a72fcca58-742a9eda3f3mr1594195b3a.17.1747371821863; Thu, 15 May 2025 22:03:41 -0700 (PDT) Received: from postal.iol.unh.edu (postal.iol.unh.edu. [132.177.123.84]) by smtp-relay.gmail.com with ESMTPS id d2e1a72fcca58-742a984c3b1sm75452b3a.18.2025.05.15.22.03.41 (version=TLS1_2 cipher=ECDHE-ECDSA-AES128-GCM-SHA256 bits=128/128); Thu, 15 May 2025 22:03:41 -0700 (PDT) X-Relaying-Domain: iol.unh.edu Date: Thu, 15 May 2025 22:03:41 -0700 (PDT) Message-ID: <6826c72d.050a0220.1f1a89.3dcbSMTPIN_ADDED_MISSING@mx.google.com> Received: from [172.21.0.5] (unknown [172.18.0.240]) by postal.iol.unh.edu (Postfix) with ESMTP id E5FDF6052472; Fri, 16 May 2025 01:03:40 -0400 (EDT) Subject: |SUCCESS| pw153468 [PATCH] mailmap: update contributor entry From: dpdklab@iol.unh.edu To: Test Report Cc: dpdk-test-reports@iol.unh.edu In-Reply-To: <20250516031502.1972-1-mosesyyoung@gmail.com> References: <20250516031502.1972-1-mosesyyoung@gmail.com> Content-Type: text/plain X-BeenThere: test-report@dpdk.org X-Mailman-Version: 2.1.29 Precedence: list List-Id: automatic DPDK test reports List-Unsubscribe: , List-Archive: List-Post: List-Help: List-Subscribe: , Errors-To: test-report-bounces@dpdk.org Test-Label: iol-unit-arm64-testing Test-Status: SUCCESS http://dpdk.org/patch/153468 _Testing PASS_ Submitter: Yang Ming Date: Friday, May 16 2025 03:15:01 DPDK git baseline: Repo:dpdk Branch: master CommitID:dcf9f9363aa9b4163d241caf8b26a84ca0c0006b 153468 --> testing pass Upstream job id: Generic-Unit-Test-DPDK#338285 Test environment and result as below: +-----------------------------+---------------------------+--------------+------------------------------+----------------+ | Environment | cryptodev_sw_zuc_autotest | lpm_autotest | cryptodev_sw_snow3g_autotest | dpdk_unit_test | +=============================+===========================+==============+==============================+================+ | Debian 12 (arm) | PASS | SKIPPED | PASS | PASS | +-----------------------------+---------------------------+--------------+------------------------------+----------------+ | Ubuntu 20.04 ARM SVE | SKIPPED | PASS | SKIPPED | SKIPPED | +-----------------------------+---------------------------+--------------+------------------------------+----------------+ | CentOS Stream 9 (ARM) | SKIPPED | SKIPPED | SKIPPED | PASS | +-----------------------------+---------------------------+--------------+------------------------------+----------------+ | CentOS Stream 10 (ARM) | SKIPPED | SKIPPED | SKIPPED | PASS | +-----------------------------+---------------------------+--------------+------------------------------+----------------+ | Ubuntu 24.04 (ARM) | SKIPPED | SKIPPED | SKIPPED | PASS | +-----------------------------+---------------------------+--------------+------------------------------+----------------+ | Fedora 41 (ARM Clang) | SKIPPED | SKIPPED | SKIPPED | PASS | +-----------------------------+---------------------------+--------------+------------------------------+----------------+ | Fedora 41 (ARM) | SKIPPED | SKIPPED | SKIPPED | PASS | +-----------------------------+---------------------------+--------------+------------------------------+----------------+ | Fedora 40 (ARM Clang) | SKIPPED | SKIPPED | SKIPPED | PASS | +-----------------------------+---------------------------+--------------+------------------------------+----------------+ | Fedora 40 (ARM) | SKIPPED | SKIPPED | SKIPPED | PASS | +-----------------------------+---------------------------+--------------+------------------------------+----------------+ | Ubuntu 22.04 (ARM) | SKIPPED | SKIPPED | SKIPPED | PASS | +-----------------------------+---------------------------+--------------+------------------------------+----------------+ | RHEL9 (ARM) | SKIPPED | SKIPPED | SKIPPED | PASS | +-----------------------------+---------------------------+--------------+------------------------------+----------------+ | Ubuntu 20.04 (ARM) | SKIPPED | SKIPPED | SKIPPED | PASS | +-----------------------------+---------------------------+--------------+------------------------------+----------------+ | 32-bit Ubuntu 22.04.4 (ARM) | SKIPPED | SKIPPED | SKIPPED | PASS | +-----------------------------+---------------------------+--------------+------------------------------+----------------+ Debian 12 (arm) Kernel: Depends on container host Compiler: gcc (Debian 12.2.0-14) 12.2.0 Ubuntu 20.04 ARM SVE Kernel: Depends on container host Compiler: gcc (Ubuntu 10.5.0-1ubuntu1~20.04) 10.5.0 CentOS Stream 9 (ARM) Kernel: Depends on container host Compiler: gcc 11.5.0 20240719 (Red Hat 11.5.0-2) CentOS Stream 10 (ARM) Kernel: Depends on container host Compiler: gcc 14.2.1 20241104 (Red Hat 14.2.1-6) Ubuntu 24.04 (ARM) Kernel: Depends on container host Compiler: gcc (Ubuntu 13.3.0-6ubuntu2~24.04) 13.3.0 Fedora 41 (ARM Clang) Kernel: Depends on container host Compiler: clang 19.1.5 (Fedora 19.1.5-1.fc41) Fedora 41 (ARM) Kernel: Depends on container host Compiler: gcc 14.2.1 20240912 (Red Hat 14.2.1-3) Fedora 40 (ARM Clang) Kernel: Depends on container host Compiler: clang 18.1.8 (Fedora 18.1.8-1.fc40) Fedora 40 (ARM) Kernel: Depends on container host Compiler: gcc 14.2.1 20240912 (Red Hat 14.2.1-3) Ubuntu 22.04 (ARM) Kernel: Depends on container host Compiler: gcc (Ubuntu 11.4.0-1ubuntu1~22.04) 11.4.0 RHEL9 (ARM) Kernel: Depends on container host Compiler: gcc 11.5.0 20240719 (Red Hat 11.5.0-2) Ubuntu 20.04 (ARM) Kernel: Depends on container host Compiler: gcc (Ubuntu 9.4.0-1ubuntu1~20.04.2) 9.4.0 32-bit Ubuntu 22.04.4 (ARM) Kernel: 5.15.83+ aarch64 Compiler: gcc (Ubuntu 11.4.0-1ubuntu1~22.04) 11.4.0 To view detailed results, visit: https://lab.dpdk.org/results/dashboard/patchsets/33186/ UNH-IOL DPDK Community Lab To manage your email subscriptions, visit: https://lab.dpdk.org/results/dashboard/preferences/subscriptions/