From mboxrd@z Thu Jan 1 00:00:00 1970 Return-Path: Received: from mails.dpdk.org (mails.dpdk.org [217.70.189.124]) by inbox.dpdk.org (Postfix) with ESMTP id 836624675D for ; Fri, 16 May 2025 07:20:33 +0200 (CEST) Received: from mails.dpdk.org (localhost [127.0.0.1]) by mails.dpdk.org (Postfix) with ESMTP id 74D0B400EF; Fri, 16 May 2025 07:20:33 +0200 (CEST) Received: from mail-ot1-f98.google.com (mail-ot1-f98.google.com [209.85.210.98]) by mails.dpdk.org (Postfix) with ESMTP id 19E8940041 for ; Fri, 16 May 2025 07:20:32 +0200 (CEST) Received: by mail-ot1-f98.google.com with SMTP id 46e09a7af769-72ecb4d9a10so2161860a34.3 for ; Thu, 15 May 2025 22:20:32 -0700 (PDT) DKIM-Signature: v=1; a=rsa-sha256; c=relaxed/relaxed; d=iol.unh.edu; s=unh-iol; t=1747372831; x=1747977631; darn=dpdk.org; h=references:in-reply-to:cc:to:from:subject:message-id:date:from:to :cc:subject:date:message-id:reply-to; bh=eSPlJ4hwf7BBmUC9kyUec86qyy2byqyRXKFDPlnxk5M=; b=Rv8k24I0AyE+ApWlR/+AaK+UMplJVwWrGf9CfRvGblv46nV1lqop4QWEY/5G803F5/ 8NqQmkYwKLuVkHF+gbl8bwKz1rePiMVGKzi+sTuiqbIa54nBJQGwrG3BxKHiF4sryAnm paYfhw713HyRV+IKgzh5SuWlWNiSi8gZ+11N0= X-Google-DKIM-Signature: v=1; a=rsa-sha256; c=relaxed/relaxed; d=1e100.net; s=20230601; t=1747372831; x=1747977631; h=references:in-reply-to:cc:to:from:subject:message-id:date :x-gm-message-state:from:to:cc:subject:date:message-id:reply-to; bh=eSPlJ4hwf7BBmUC9kyUec86qyy2byqyRXKFDPlnxk5M=; b=MOg2lllTrkGTwwpttITedA27s+W4454lc231T0e5YbXTgOr47FSsL5fYUN4Ime7uSf FNTDzue9sq6N14YSoFwTV3RLb3OGLBGhwG7xlOx0/fm5PM4JzmMelXok2RW6BaTlTgfm E7s2QPTLTToFgN2uG0ez4lp/poqdD6ZFjD2kmOhC6b2jQwmlYfiKCiC7LAaGxOpuI/gW QdJrJ5vbjiNudmFpKJEl9Q87J5Gpp00RlFYYjpsWkJZHSjpVWqYuTsgaF9C9mkid21va Z+0J2UROqhzz+j/xcSj6hVGztMchZyo/O4DEK3kWmJKatiH/pd1JjPD2DeOa15d3vLN7 fN0Q== X-Gm-Message-State: AOJu0YxawIORNIt+K+Lysy49MLp2nCke0UzAHR558cflQZa4eUHgO+eS 39vJh5vX7sH3EgyGTGO6mEHrPHl8TPkOoWAbP1AEVx43cjUFXDx0VeZ1/DO7odLCH4y8m6Ev9AL w6DCMJDqJJpeXsHvhTwfFgQhWeOU+ls3ELbl6MGtd0U10 X-Gm-Gg: ASbGnctN85muJghZoK6H38CZncwGMJfRdGWELjZM0B3/kU4nYot7rvII5Rh8DcFQTa3 ikbCHz032wBTSoC/oMrWeox4WlMONLaCFBxlUHjlJCmS2FwrP+2yQJkDo4ffMZhP1ma+alyt3o9 GN+G0aQLLye4ityP9CY/HFhyY1LysejREQuOZ4WUn8kKV7Wr26NNmlf+gIjHwveZgnJGX7jHm49 lanJtyNZ9No0EXuL1TFrMfCrXOGDm3JHq5I521oc2llclXYNhvbjm2BJ2IYkck+Hd++u9qUUbjy CKqTSCNsYAYwzNTIaT1NsPx6AxEZpYcb+Twdy/ctXexBPWFG3DIJJH8tRT4= X-Google-Smtp-Source: AGHT+IEr92CWqtzRF8wt6nyjsvfaOBaTKyo3WVX4mogzLw4TLwR/SqnQonybpqYuG2TxCZaYfgvCOF5AJnbG X-Received: by 2002:a05:6871:50c2:b0:2c1:e9a3:3ab3 with SMTP id 586e51a60fabf-2e3c1f92b98mr1388730fac.33.1747372831221; Thu, 15 May 2025 22:20:31 -0700 (PDT) Received: from postal.iol.unh.edu (postal.iol.unh.edu. [132.177.123.84]) by smtp-relay.gmail.com with ESMTPS id 586e51a60fabf-2e3c0604c0fsm71120fac.8.2025.05.15.22.20.31 (version=TLS1_2 cipher=ECDHE-ECDSA-AES128-GCM-SHA256 bits=128/128); Thu, 15 May 2025 22:20:31 -0700 (PDT) X-Relaying-Domain: iol.unh.edu Date: Thu, 15 May 2025 22:20:31 -0700 (PDT) Message-ID: <6826cb1f.050a0220.3c2c1c.3b73SMTPIN_ADDED_MISSING@mx.google.com> Received: from [172.21.0.7] (unknown [172.18.0.240]) by postal.iol.unh.edu (Postfix) with ESMTP id A89166052471; Fri, 16 May 2025 01:20:30 -0400 (EDT) Subject: |SUCCESS| pw153468 [PATCH] mailmap: update contributor entry From: dpdklab@iol.unh.edu To: Test Report Cc: dpdk-test-reports@iol.unh.edu In-Reply-To: <20250516031502.1972-1-mosesyyoung@gmail.com> References: <20250516031502.1972-1-mosesyyoung@gmail.com> Content-Type: text/plain X-BeenThere: test-report@dpdk.org X-Mailman-Version: 2.1.29 Precedence: list List-Id: automatic DPDK test reports List-Unsubscribe: , List-Archive: List-Post: List-Help: List-Subscribe: , Errors-To: test-report-bounces@dpdk.org Test-Label: iol-unit-amd64-testing Test-Status: SUCCESS http://dpdk.org/patch/153468 _Testing PASS_ Submitter: Yang Ming Date: Friday, May 16 2025 03:15:01 DPDK git baseline: Repo:dpdk Branch: master CommitID:dcf9f9363aa9b4163d241caf8b26a84ca0c0006b 153468 --> testing pass Upstream job id: Generic-VM-Unit-Test-DPDK#28558 Test environment and result as below: +---------------------+----------------+ | Environment | dpdk_unit_test | +=====================+================+ | Fedora 40 | PASS | +---------------------+----------------+ | Debian 12 | PASS | +---------------------+----------------+ | CentOS Stream 10 | PASS | +---------------------+----------------+ | CentOS Stream 9 | PASS | +---------------------+----------------+ | Fedora 40 (Clang) | PASS | +---------------------+----------------+ | Ubuntu 20.04 | PASS | +---------------------+----------------+ | Fedora 41 | PASS | +---------------------+----------------+ | RHEL8 | PASS | +---------------------+----------------+ | RHEL9 | PASS | +---------------------+----------------+ | Ubuntu 22.04 | PASS | +---------------------+----------------+ | Fedora 41 (Clang) | PASS | +---------------------+----------------+ | Ubuntu 24.04 | PASS | +---------------------+----------------+ | Windows Server 2022 | PASS | +---------------------+----------------+ Fedora 40 Kernel: Depends on container host Compiler: gcc 14.2.1 20240912 (Red Hat 14.2.1-3) Debian 12 Kernel: Depends on container host Compiler: gcc (Debian 12.2.0-14) 12.2.0 CentOS Stream 10 Kernel: Depends on container host Compiler: gcc 14.2.1 20241104 (Red Hat 14.2.1-6) CentOS Stream 9 Kernel: Depends on container host Compiler: gcc 11.5.0 20240719 (Red Hat 11.5.0-2) Fedora 40 (Clang) Kernel: Depends on container host Compiler: clang 18.1.8 (Fedora 18.1.8-1.fc40) Ubuntu 20.04 Kernel: Depends on container host Compiler: gcc (Ubuntu 9.4.0-1ubuntu1~20.04.2) 9.4.0 Fedora 41 Kernel: Depends on container host Compiler: gcc 14.2.1 20240912 (Red Hat 14.2.1-3) RHEL8 Kernel: Depends on container host Compiler: gcc 8.5.0 20210514 (Red Hat 8.5.0-22) RHEL9 Kernel: Depends on container host Compiler: gcc 11.5.0 20240719 (Red Hat 11.5.0-2) Ubuntu 22.04 Kernel: Depends on container host Compiler: gcc (Ubuntu 11.4.0-1ubuntu1~22.04) 11.4.0 Fedora 41 (Clang) Kernel: Depends on container host Compiler: clang 19.1.5 (Fedora 19.1.5-1.fc41) Ubuntu 24.04 Kernel: Depends on container host Compiler: gcc (Ubuntu 13.3.0-6ubuntu2~24.04) 13.3.0 Windows Server 2022 Kernel: 10.0.20348.2031 Compiler: clang 15.0.7, gcc 14.1.0 (MinGW), and MSVC VS 19.39.33521 To view detailed results, visit: https://lab.dpdk.org/results/dashboard/patchsets/33186/ UNH-IOL DPDK Community Lab To manage your email subscriptions, visit: https://lab.dpdk.org/results/dashboard/preferences/subscriptions/