From mboxrd@z Thu Jan 1 00:00:00 1970 Return-Path: Received: from mails.dpdk.org (mails.dpdk.org [217.70.189.124]) by inbox.dpdk.org (Postfix) with ESMTP id 373B146760 for ; Fri, 16 May 2025 08:41:37 +0200 (CEST) Received: from mails.dpdk.org (localhost [127.0.0.1]) by mails.dpdk.org (Postfix) with ESMTP id 6AA75400EF; Fri, 16 May 2025 08:41:35 +0200 (CEST) Received: from mail-qv1-f97.google.com (mail-qv1-f97.google.com [209.85.219.97]) by mails.dpdk.org (Postfix) with ESMTP id 7DF6240041 for ; Fri, 16 May 2025 08:41:34 +0200 (CEST) Received: by mail-qv1-f97.google.com with SMTP id 6a1803df08f44-6f544014883so10286386d6.0 for ; Thu, 15 May 2025 23:41:34 -0700 (PDT) DKIM-Signature: v=1; a=rsa-sha256; c=relaxed/relaxed; d=iol.unh.edu; s=unh-iol; t=1747377694; x=1747982494; darn=dpdk.org; h=cc:to:from:subject:message-id:date:from:to:cc:subject:date :message-id:reply-to; bh=vYgjb4NfpribD9PNrpVK8eLW3XsKqkvQjLbXsyxpqrc=; b=fm13gEFPjm+0PUHmGYexjepAMqzIhBe8v6QwovOve7Sl+//hR9W1beYFXiLRkiuL+Y RzY3BsKKsMpstEkPKXCmqlHn9Fl8ENgoSy9CsUWnBEAsgHOIIu5yCdQZTGe1rOkeef50 FdqhpJKXO8r2HVgZfc6Tb9WUOd45nWI3/YFAQ= X-Google-DKIM-Signature: v=1; a=rsa-sha256; c=relaxed/relaxed; d=1e100.net; s=20230601; t=1747377694; x=1747982494; h=cc:to:from:subject:message-id:date:x-gm-message-state:from:to:cc :subject:date:message-id:reply-to; bh=vYgjb4NfpribD9PNrpVK8eLW3XsKqkvQjLbXsyxpqrc=; b=rZywcYEyYd776ZosM418U+6HIKgvx5Xo5yCZaZtjgx2WYrmbjV9CpWM2MR5JKxY072 XPCivtjyXPVWxexv1FMpxQsk9IgjNKmVCgDFY6WGNtYC9wgx5CXRHlzbUS3WYqZufPg3 2xoSopgcdpglWI8haNwbl8Ff6UWwBGBkxwAeYTW5hRR9FXmEDpC93gHobnCJYbNnUAYP h07o54LTdAzhtyaSL1Agc1bmxeTX/sCM6/6kyEEjQ5gK4iI6lfhPgpMHbgllMskVmaY3 r13+Qx2mWTFa6yYG1AgLuU5eMWQykSDMHardTtvESOE5KagwqtmaeX6p/GXrVa77+UU/ 9uPg== X-Gm-Message-State: AOJu0YwMkyLdEObwyvb+Un3Q3mz/ZgrCAt8wybXx3J5nhioX1yGx21wF CMrInK1i3AN/P6bLFxv7kcqKEWLeJ+s5oWLeizDkM5jUFi2c6hbBJloL3FXxCsQpjQN8E4eQ/t7 vEMFbLT8dybYmuLsfxzfQVfgP1GC+1Ba3DPmj X-Gm-Gg: ASbGncvtFElIG2n0nMIZgXkrQMgnzLkAQPubi/q+4+UsodrAbhtjfTSSR0b47damFFG fKNlP1O7u11chsTqhJpI0EQe6JDcpnNLTwJGJbsxv7XxYrMrMENDvVz0yIiCUJmspQZZo7HdcuI v5o2PItq+Kt3vRap48GHZJYMG+EHSyEEuTBf9w4DtDpei0aJIB0/O0bHBsZ7agiHLRZj5yE4CPZ ovhwJSOsGWDO+k5lxDNBQ/C5QER7fDCMo33ExuHj1mNJxUZ/2NFhKyjjqd9oNgktjBvJzY1qrWi LiwlU2UYxhFR611cQFxA5nZXRpaq+DoacxwryAu4Ain0vbjamuLzd6eHvF8= X-Google-Smtp-Source: AGHT+IHBsH0oao4mm0eZFbqMT/MNRJ5UYdSLRDlaXXlQur2BZiNsAU6xWfvtagiQXKUlz6izl0l8dn5NruZ5 X-Received: by 2002:a05:6214:2424:b0:6f5:4711:297c with SMTP id 6a1803df08f44-6f8b0849465mr41081676d6.5.1747377693731; Thu, 15 May 2025 23:41:33 -0700 (PDT) Received: from postal.iol.unh.edu (postal.iol.unh.edu. [132.177.123.84]) by smtp-relay.gmail.com with ESMTPS id 6a1803df08f44-6f8b09b5b73sm499856d6.61.2025.05.15.23.41.33 (version=TLS1_2 cipher=ECDHE-ECDSA-AES128-GCM-SHA256 bits=128/128); Thu, 15 May 2025 23:41:33 -0700 (PDT) X-Relaying-Domain: iol.unh.edu Date: Thu, 15 May 2025 23:41:33 -0700 (PDT) Message-ID: <6826de1d.050a0220.3cb530.27e5SMTPIN_ADDED_MISSING@mx.google.com> Received: from [172.21.0.6] (unknown [172.18.0.240]) by postal.iol.unh.edu (Postfix) with ESMTP id 206996052471; Fri, 16 May 2025 02:41:31 -0400 (EDT) Subject: |SUCCESS| [GIT MASTER] 83a7a648344674c0269fcaeb71d8d16468421a0e From: dpdklab@iol.unh.edu To: Test Report Cc: dpdk-test-reports@iol.unh.edu, Xueming Li , Christian Ehrhardt , Kevin Traynor , Luca Boccassi Content-Type: text/plain X-BeenThere: test-report@dpdk.org X-Mailman-Version: 2.1.29 Precedence: list List-Id: automatic DPDK test reports List-Unsubscribe: , List-Archive: List-Post: List-Help: List-Subscribe: , Errors-To: test-report-bounces@dpdk.org _Testing PASS_ Branch: tags/v23.11 83a7a648344674c0269fcaeb71d8d16468421a0e --> testing pass Upstream job id: Generic-DPDK-Compile-ABI#126613 Test environment and result as below: +-------------------+----------+ | Environment | abi_test | +===================+==========+ | Debian 12 | PASS | +-------------------+----------+ | CentOS Stream 9 | PASS | +-------------------+----------+ | CentOS Stream 10 | PASS | +-------------------+----------+ | Fedora 40 | PASS | +-------------------+----------+ | Fedora 41 | PASS | +-------------------+----------+ | Fedora 40 (Clang) | PASS | +-------------------+----------+ | Fedora 41 (Clang) | PASS | +-------------------+----------+ | openSUSE Leap 15 | PASS | +-------------------+----------+ | Ubuntu 22.04 | PASS | +-------------------+----------+ | RHEL9 | PASS | +-------------------+----------+ | RHEL8 | PASS | +-------------------+----------+ | Ubuntu 24.04 | PASS | +-------------------+----------+ Debian 12 Kernel: Depends on container host Compiler: gcc (Debian 12.2.0-14) 12.2.0 CentOS Stream 9 Kernel: Depends on container host Compiler: gcc 11.5.0 20240719 (Red Hat 11.5.0-2) CentOS Stream 10 Kernel: Depends on container host Compiler: gcc 14.2.1 20241104 (Red Hat 14.2.1-6) Fedora 40 Kernel: Depends on container host Compiler: gcc 14.2.1 20240912 (Red Hat 14.2.1-3) Fedora 41 Kernel: Depends on container host Compiler: gcc 14.2.1 20240912 (Red Hat 14.2.1-3) Fedora 40 (Clang) Kernel: Depends on container host Compiler: clang 18.1.8 (Fedora 18.1.8-1.fc40) Fedora 41 (Clang) Kernel: Depends on container host Compiler: clang 19.1.5 (Fedora 19.1.5-1.fc41) openSUSE Leap 15 Kernel: Depends on container host Compiler: gcc (SUSE Linux) 7.5.0 Ubuntu 22.04 Kernel: Depends on container host Compiler: gcc (Ubuntu 11.4.0-1ubuntu1~22.04) 11.4.0 RHEL9 Kernel: Depends on container host Compiler: gcc 11.5.0 20240719 (Red Hat 11.5.0-2) RHEL8 Kernel: Depends on container host Compiler: gcc 8.5.0 20210514 (Red Hat 8.5.0-22) Ubuntu 24.04 Kernel: Depends on container host Compiler: gcc (Ubuntu 13.3.0-6ubuntu2~24.04) 13.3.0 To view detailed results, visit: https://lab.dpdk.org/results/dashboard/tarballs/33551/ UNH-IOL DPDK Community Lab To manage your email subscriptions, visit: https://lab.dpdk.org/results/dashboard/preferences/subscriptions/