From mboxrd@z Thu Jan 1 00:00:00 1970 Return-Path: Received: from mails.dpdk.org (mails.dpdk.org [217.70.189.124]) by inbox.dpdk.org (Postfix) with ESMTP id 3D8C146760 for ; Fri, 16 May 2025 09:09:36 +0200 (CEST) Received: from mails.dpdk.org (localhost [127.0.0.1]) by mails.dpdk.org (Postfix) with ESMTP id 19823400EF; Fri, 16 May 2025 09:09:36 +0200 (CEST) Received: from mail-io1-f98.google.com (mail-io1-f98.google.com [209.85.166.98]) by mails.dpdk.org (Postfix) with ESMTP id C305740041 for ; Fri, 16 May 2025 09:09:34 +0200 (CEST) Received: by mail-io1-f98.google.com with SMTP id ca18e2360f4ac-86142446f3fso45446339f.2 for ; Fri, 16 May 2025 00:09:34 -0700 (PDT) DKIM-Signature: v=1; a=rsa-sha256; c=relaxed/relaxed; d=iol.unh.edu; s=unh-iol; t=1747379374; x=1747984174; darn=dpdk.org; h=references:in-reply-to:cc:to:from:subject:message-id:date:from:to :cc:subject:date:message-id:reply-to; bh=mpFvsWMYMHV8uqskbEwlpSTIsm5bE42aZVr9Fi+q7H0=; b=WTZ2yTmWhWRwwuJcQTnP0CwOO69Dg6teqhRRpbEkqHPgxMv7LSQmRL2TLOp/hOyJV5 ew9Jf3n0Fl30tErL1vteb0J/HU8pBhqdEmpyETEU7/8PpVjMf8KMYPnRjqPxr70r+LBN ErCNnQfOz0CxqfMCAgKyad7TsYAVR6XvKJpoo= X-Google-DKIM-Signature: v=1; a=rsa-sha256; c=relaxed/relaxed; d=1e100.net; s=20230601; t=1747379374; x=1747984174; h=references:in-reply-to:cc:to:from:subject:message-id:date :x-gm-message-state:from:to:cc:subject:date:message-id:reply-to; bh=mpFvsWMYMHV8uqskbEwlpSTIsm5bE42aZVr9Fi+q7H0=; b=qz5///CNaRUL5HyY6PU+plQXKVt4kRCQUnPAmVG+yfLLwnvNe5sDgmymuaUCfjD8cW GOtS7PneqkhoGbMic1d5yaK53ygEDAimsFurFNLtsWpAsuNU0XVMPK0lhvlW05yc7vRR I4ZG6+bc8gxHDxFJaQOvVRi44hBRJy2Nh/VBFu9XbpJnxkl9ad9a2qeauMyCBd3eToeH RlQBMChA4x4p5+5HbN5Aa0Orjthg2agDIysnLRke1NMZk5gsxxxft656QGki48MyFaSX mOHIlhF3PcuD/KlGU+h4AFJrDm6T5T2m6knMrlfo5PXRPkPhuGU53Tv2qeoHJKTJ7lpK sO/g== X-Gm-Message-State: AOJu0Yx6LrpT1PqFPbXdLjMxjcAzJWSmmuw0B6ve4VJHJ40pGITXuMiz eildDXT0O2xQxXU+jItIiFFrW6pFHkDQhlskUtXHp5TwMpwhXdAeMF+ZyUvHqwlW1zv9/jNLZWx MQoTnu9vLH4IpCHBsHWUZoaUw/ElU1YaC0WNfFEApohTC X-Gm-Gg: ASbGncsFhRDzNGF2mWEH34fm0K2l5FT/LV42gZARpE/MatatrgZklbYAYZakzzT7fJC k6XBj+0RSGxMX4WCFqYsKl2hWjCv/4w41XGE6nB9hpzDIUL01lxZ3EUEl3pKzADkDTEw60PUmfH ukxJv+qVoPsSyhnD/fRisF1C0lyn2q8wj7Q8s/k4Ka3DJRRBi9cihbollxP4H/2DodFl6OzHBeB dgk7zyjL7VWbuGbKEzRvFATcF2dEXCp6HiZhr3EZcR9QuOdZVoFrcfxgzq9HlvBMvM0K7DVyjLo JL0XYLgiW6oDnWxAzt6deM7Co52AxYvjEOCxYwkWtXTpo/69aqc27y8ZzRc= X-Google-Smtp-Source: AGHT+IG5YGAu6kUx1cglp3cLsCO+DDXLx53GWCo1vOxD6QtqRbbbi3klZ8Oz8BCX/p++oMRdEZdAd+o67/1M X-Received: by 2002:a05:6602:3e82:b0:867:6c90:4867 with SMTP id ca18e2360f4ac-86a23256cadmr436487439f.14.1747379373963; Fri, 16 May 2025 00:09:33 -0700 (PDT) Received: from postal.iol.unh.edu (postal.iol.unh.edu. [132.177.123.84]) by smtp-relay.gmail.com with ESMTPS id 8926c6da1cb9f-4fbcc3ae390sm66530173.28.2025.05.16.00.09.33 (version=TLS1_2 cipher=ECDHE-ECDSA-AES128-GCM-SHA256 bits=128/128); Fri, 16 May 2025 00:09:33 -0700 (PDT) X-Relaying-Domain: iol.unh.edu Date: Fri, 16 May 2025 00:09:33 -0700 (PDT) Message-ID: <6826e4ad.050a0220.3d769e.33e3SMTPIN_ADDED_MISSING@mx.google.com> Received: from [172.21.0.8] (unknown [172.18.0.240]) by postal.iol.unh.edu (Postfix) with ESMTP id 5A0C56052471; Fri, 16 May 2025 03:09:03 -0400 (EDT) Subject: |SUCCESS| pw153464-153467 [PATCH] [v2,4/4] dts: change verification From: dpdklab@iol.unh.edu To: Test Report Cc: dpdk-test-reports@iol.unh.edu In-Reply-To: <20250515183327.191912-4-dmarx@iol.unh.edu> References: <20250515183327.191912-4-dmarx@iol.unh.edu> Content-Type: text/plain X-BeenThere: test-report@dpdk.org X-Mailman-Version: 2.1.29 Precedence: list List-Id: automatic DPDK test reports List-Unsubscribe: , List-Archive: List-Post: List-Help: List-Subscribe: , Errors-To: test-report-bounces@dpdk.org Test-Label: iol-abi-testing Test-Status: SUCCESS http://dpdk.org/patch/153467 _Testing PASS_ Submitter: Dean Marx Date: Thursday, May 15 2025 18:33:27 DPDK git baseline: Repo:dpdk Branch: master CommitID:1aef42bc97a31906486c9d66b792208948af06f3 153464-153467 --> testing pass Upstream job id: Generic-DPDK-Compile-ABI#126588 Test environment and result as below: +-------------------+----------+ | Environment | abi_test | +===================+==========+ | CentOS Stream 9 | PASS | +-------------------+----------+ | Fedora 40 | PASS | +-------------------+----------+ | Fedora 41 (Clang) | PASS | +-------------------+----------+ | Fedora 40 (Clang) | PASS | +-------------------+----------+ | Debian 12 | PASS | +-------------------+----------+ | CentOS Stream 10 | PASS | +-------------------+----------+ | Fedora 41 | PASS | +-------------------+----------+ | RHEL9 | PASS | +-------------------+----------+ | RHEL8 | PASS | +-------------------+----------+ | Ubuntu 22.04 | PASS | +-------------------+----------+ | Ubuntu 24.04 | PASS | +-------------------+----------+ | openSUSE Leap 15 | PASS | +-------------------+----------+ CentOS Stream 9 Kernel: Depends on container host Compiler: gcc 11.5.0 20240719 (Red Hat 11.5.0-2) Fedora 40 Kernel: Depends on container host Compiler: gcc 14.2.1 20240912 (Red Hat 14.2.1-3) Fedora 41 (Clang) Kernel: Depends on container host Compiler: clang 19.1.5 (Fedora 19.1.5-1.fc41) Fedora 40 (Clang) Kernel: Depends on container host Compiler: clang 18.1.8 (Fedora 18.1.8-1.fc40) Debian 12 Kernel: Depends on container host Compiler: gcc (Debian 12.2.0-14) 12.2.0 CentOS Stream 10 Kernel: Depends on container host Compiler: gcc 14.2.1 20241104 (Red Hat 14.2.1-6) Fedora 41 Kernel: Depends on container host Compiler: gcc 14.2.1 20240912 (Red Hat 14.2.1-3) RHEL9 Kernel: Depends on container host Compiler: gcc 11.5.0 20240719 (Red Hat 11.5.0-2) RHEL8 Kernel: Depends on container host Compiler: gcc 8.5.0 20210514 (Red Hat 8.5.0-22) Ubuntu 22.04 Kernel: Depends on container host Compiler: gcc (Ubuntu 11.4.0-1ubuntu1~22.04) 11.4.0 Ubuntu 24.04 Kernel: Depends on container host Compiler: gcc (Ubuntu 13.3.0-6ubuntu2~24.04) 13.3.0 openSUSE Leap 15 Kernel: Depends on container host Compiler: gcc (SUSE Linux) 7.5.0 To view detailed results, visit: https://lab.dpdk.org/results/dashboard/patchsets/33185/ UNH-IOL DPDK Community Lab To manage your email subscriptions, visit: https://lab.dpdk.org/results/dashboard/preferences/subscriptions/