From mboxrd@z Thu Jan 1 00:00:00 1970 Return-Path: Received: from mails.dpdk.org (mails.dpdk.org [217.70.189.124]) by inbox.dpdk.org (Postfix) with ESMTP id 2723D46760 for ; Fri, 16 May 2025 09:21:06 +0200 (CEST) Received: from mails.dpdk.org (localhost [127.0.0.1]) by mails.dpdk.org (Postfix) with ESMTP id 1BE03402AF; Fri, 16 May 2025 09:21:06 +0200 (CEST) Received: from mail-il1-f226.google.com (mail-il1-f226.google.com [209.85.166.226]) by mails.dpdk.org (Postfix) with ESMTP id 3D787400EF for ; Fri, 16 May 2025 09:21:05 +0200 (CEST) Received: by mail-il1-f226.google.com with SMTP id e9e14a558f8ab-3d818add2a3so6409125ab.1 for ; Fri, 16 May 2025 00:21:05 -0700 (PDT) DKIM-Signature: v=1; a=rsa-sha256; c=relaxed/relaxed; d=iol.unh.edu; s=unh-iol; t=1747380064; x=1747984864; darn=dpdk.org; h=references:in-reply-to:cc:to:from:subject:message-id:date:from:to :cc:subject:date:message-id:reply-to; bh=vCLPzOsOSw8oZ9tfrZ4GCmyzB1BXBWJnMijC44GIIQo=; b=afLgRO9XkgHO6axEOSngXouwUqDIQ1EiAuLxN3PoJf2Z/sZfPuKQCIvkPI7wIhKr89 XIX1v97Dc7btuHczj4GK86E06SD5sM4Pd7TLw3WUnPxp0WHQuxCVYUD8cY/d0YOAnS53 fHKr1Gtbz7jLbJh9Pu3q+0Ux6tqSHeJPvDTw4= X-Google-DKIM-Signature: v=1; a=rsa-sha256; c=relaxed/relaxed; d=1e100.net; s=20230601; t=1747380064; x=1747984864; h=references:in-reply-to:cc:to:from:subject:message-id:date :x-gm-message-state:from:to:cc:subject:date:message-id:reply-to; bh=vCLPzOsOSw8oZ9tfrZ4GCmyzB1BXBWJnMijC44GIIQo=; b=UR/GXjGLvOw4jESISsWM+g1SPeiUra6g+Timh6O+ucw9KoAAFGj5ViL+r/GMIRJ00m UCE5h77vU9GlWeZv9meSd3kuDGi5dkFln7PoxRs72bBu5lv9l647uV5nY8VAe1NTREEA zYErmOpz8i4OhkYWyM6njc6Zj6TbwnXqfB4/llFcigLuws382Hw7VeVUS2K8OvLcvLcC OlR3m9mE0T3kbqK6ftmeqMQhj7DsA2yBEo+q0bVcD+VYodIT/IJmfZJeZobmsbR1kUdU mHKCR0Uh88tdNDKxCTztpVAfQd+pItywqabwKUzsqfd0fwB2v9FJE5O2H8VlYJmAuwbk 0+Fg== X-Gm-Message-State: AOJu0Yy4GzMyWW1w0pk/GL004IZnGxFHhW6akceh1pA3jG2jFMMe6Jcp LIj20WWd6DMFBR1wFbwrnSMKJ1B2M9NfizH3e6LgZoE2kyrh2ZFho2U8Ac41d5QP8Ufb/TO2JJh QgfSxjuTkGYAwaE2Q3kIArG5kg3iU6G2QM56LBebv2/KX X-Gm-Gg: ASbGncs12VN3Ain25weDAqtYUAaq6EEpnWsltNzNPQpZtFvMR6gZvCZxuRH+2DWnF3Y wYfnMbCvUhly3gAmU8wJgtvrmo1Zgs6FvsAzuorxlTwi79/+jQN0QCZ1+W0etdmWmKhWg2TYYXW juV8PtLVwgFbBxxh2fprJ7o8wZ7gDJU2DpWcbNyDBW/2YegIqiwtTTdvRsHPbFNIwuBfaJ/QURd bBZu/3jjuvGa16z2agEbfzy/jqvnCkbagwf/pIpeE62IvIjsd6pOJ9VGVupWmPr+HhMrvgNZbWe vlpJZbEFO9UKgakYxCyuoKIU/CCfuCUacH7M85vtIuykw71BUGgzkmI3Y8w= X-Google-Smtp-Source: AGHT+IFI3gX2sCjUk4v/klCxOIK1ETg+6a7bnruYNFxOYhWhbluXuRvaL1GxcgnIE1bIrXlePi7B77HPj5Br X-Received: by 2002:a92:d607:0:b0:3db:800d:6edb with SMTP id e9e14a558f8ab-3db800d7140mr39481625ab.2.1747380064449; Fri, 16 May 2025 00:21:04 -0700 (PDT) Received: from postal.iol.unh.edu (postal.iol.unh.edu. [132.177.123.84]) by smtp-relay.gmail.com with ESMTPS id 8926c6da1cb9f-4fbcc49fdc3sm56387173.62.2025.05.16.00.21.04 (version=TLS1_2 cipher=ECDHE-ECDSA-AES128-GCM-SHA256 bits=128/128); Fri, 16 May 2025 00:21:04 -0700 (PDT) X-Relaying-Domain: iol.unh.edu Date: Fri, 16 May 2025 00:21:04 -0700 (PDT) Message-ID: <6826e760.050a0220.93a4d.29b2SMTPIN_ADDED_MISSING@mx.google.com> Received: from [172.21.0.5] (unknown [172.18.0.240]) by postal.iol.unh.edu (Postfix) with ESMTP id E67B96052471; Fri, 16 May 2025 03:21:03 -0400 (EDT) Subject: |SUCCESS| pw153464-153467 [PATCH] [v2,4/4] dts: change verification From: dpdklab@iol.unh.edu To: Test Report Cc: dpdk-test-reports@iol.unh.edu In-Reply-To: <20250515183327.191912-4-dmarx@iol.unh.edu> References: <20250515183327.191912-4-dmarx@iol.unh.edu> Content-Type: text/plain X-BeenThere: test-report@dpdk.org X-Mailman-Version: 2.1.29 Precedence: list List-Id: automatic DPDK test reports List-Unsubscribe: , List-Archive: List-Post: List-Help: List-Subscribe: , Errors-To: test-report-bounces@dpdk.org Test-Label: iol-unit-arm64-testing Test-Status: SUCCESS http://dpdk.org/patch/153467 _Testing PASS_ Submitter: Dean Marx Date: Thursday, May 15 2025 18:33:27 DPDK git baseline: Repo:dpdk Branch: master CommitID:1aef42bc97a31906486c9d66b792208948af06f3 153464-153467 --> testing pass Upstream job id: Generic-Unit-Test-DPDK#338315 Test environment and result as below: +-----------------------------+--------------+---------------------------+------------------------------+----------------+ | Environment | lpm_autotest | cryptodev_sw_zuc_autotest | cryptodev_sw_snow3g_autotest | dpdk_unit_test | +=============================+==============+===========================+==============================+================+ | Ubuntu 20.04 ARM SVE | PASS | SKIPPED | SKIPPED | SKIPPED | +-----------------------------+--------------+---------------------------+------------------------------+----------------+ | Debian 12 (arm) | SKIPPED | PASS | PASS | PASS | +-----------------------------+--------------+---------------------------+------------------------------+----------------+ | CentOS Stream 10 (ARM) | SKIPPED | SKIPPED | SKIPPED | PASS | +-----------------------------+--------------+---------------------------+------------------------------+----------------+ | CentOS Stream 9 (ARM) | SKIPPED | SKIPPED | SKIPPED | PASS | +-----------------------------+--------------+---------------------------+------------------------------+----------------+ | Fedora 41 (ARM) | SKIPPED | SKIPPED | SKIPPED | PASS | +-----------------------------+--------------+---------------------------+------------------------------+----------------+ | Fedora 40 (ARM) | SKIPPED | SKIPPED | SKIPPED | PASS | +-----------------------------+--------------+---------------------------+------------------------------+----------------+ | RHEL9 (ARM) | SKIPPED | SKIPPED | SKIPPED | PASS | +-----------------------------+--------------+---------------------------+------------------------------+----------------+ | Fedora 40 (ARM Clang) | SKIPPED | SKIPPED | SKIPPED | PASS | +-----------------------------+--------------+---------------------------+------------------------------+----------------+ | Fedora 41 (ARM Clang) | SKIPPED | SKIPPED | SKIPPED | PASS | +-----------------------------+--------------+---------------------------+------------------------------+----------------+ | Ubuntu 22.04 (ARM) | SKIPPED | SKIPPED | SKIPPED | PASS | +-----------------------------+--------------+---------------------------+------------------------------+----------------+ | Ubuntu 20.04 (ARM) | SKIPPED | SKIPPED | SKIPPED | PASS | +-----------------------------+--------------+---------------------------+------------------------------+----------------+ | Ubuntu 24.04 (ARM) | SKIPPED | SKIPPED | SKIPPED | PASS | +-----------------------------+--------------+---------------------------+------------------------------+----------------+ | 32-bit Ubuntu 22.04.4 (ARM) | SKIPPED | SKIPPED | SKIPPED | PASS | +-----------------------------+--------------+---------------------------+------------------------------+----------------+ Ubuntu 20.04 ARM SVE Kernel: Depends on container host Compiler: gcc (Ubuntu 10.5.0-1ubuntu1~20.04) 10.5.0 Debian 12 (arm) Kernel: Depends on container host Compiler: gcc (Debian 12.2.0-14) 12.2.0 CentOS Stream 10 (ARM) Kernel: Depends on container host Compiler: gcc 14.2.1 20241104 (Red Hat 14.2.1-6) CentOS Stream 9 (ARM) Kernel: Depends on container host Compiler: gcc 11.5.0 20240719 (Red Hat 11.5.0-2) Fedora 41 (ARM) Kernel: Depends on container host Compiler: gcc 14.2.1 20240912 (Red Hat 14.2.1-3) Fedora 40 (ARM) Kernel: Depends on container host Compiler: gcc 14.2.1 20240912 (Red Hat 14.2.1-3) RHEL9 (ARM) Kernel: Depends on container host Compiler: gcc 11.5.0 20240719 (Red Hat 11.5.0-2) Fedora 40 (ARM Clang) Kernel: Depends on container host Compiler: clang 18.1.8 (Fedora 18.1.8-1.fc40) Fedora 41 (ARM Clang) Kernel: Depends on container host Compiler: clang 19.1.5 (Fedora 19.1.5-1.fc41) Ubuntu 22.04 (ARM) Kernel: Depends on container host Compiler: gcc (Ubuntu 11.4.0-1ubuntu1~22.04) 11.4.0 Ubuntu 20.04 (ARM) Kernel: Depends on container host Compiler: gcc (Ubuntu 9.4.0-1ubuntu1~20.04.2) 9.4.0 Ubuntu 24.04 (ARM) Kernel: Depends on container host Compiler: gcc (Ubuntu 13.3.0-6ubuntu2~24.04) 13.3.0 32-bit Ubuntu 22.04.4 (ARM) Kernel: 5.15.83+ aarch64 Compiler: gcc (Ubuntu 11.4.0-1ubuntu1~22.04) 11.4.0 To view detailed results, visit: https://lab.dpdk.org/results/dashboard/patchsets/33185/ UNH-IOL DPDK Community Lab To manage your email subscriptions, visit: https://lab.dpdk.org/results/dashboard/preferences/subscriptions/