From mboxrd@z Thu Jan 1 00:00:00 1970 Return-Path: Received: from mails.dpdk.org (mails.dpdk.org [217.70.189.124]) by inbox.dpdk.org (Postfix) with ESMTP id DE2D546760 for ; Fri, 16 May 2025 09:52:10 +0200 (CEST) Received: from mails.dpdk.org (localhost [127.0.0.1]) by mails.dpdk.org (Postfix) with ESMTP id 81A36400EF; Fri, 16 May 2025 09:52:10 +0200 (CEST) Received: from mail-pj1-f99.google.com (mail-pj1-f99.google.com [209.85.216.99]) by mails.dpdk.org (Postfix) with ESMTP id A001E40041 for ; Fri, 16 May 2025 09:52:09 +0200 (CEST) Received: by mail-pj1-f99.google.com with SMTP id 98e67ed59e1d1-30820167b47so1585485a91.0 for ; Fri, 16 May 2025 00:52:09 -0700 (PDT) DKIM-Signature: v=1; a=rsa-sha256; c=relaxed/relaxed; d=iol.unh.edu; s=unh-iol; t=1747381928; x=1747986728; darn=dpdk.org; h=references:in-reply-to:cc:to:from:subject:message-id:date:from:to :cc:subject:date:message-id:reply-to; bh=NeeD/cF9LqXjcoDXgtWK1CucQ4Eqd9itzoUN8ENHx94=; b=Wyd+wGuCixw7zzB0zA4EBcYJI83Mfwz78Ou1RpOcg2yhkwVbioQqgaP7af3a2A6vUS Z0r64wl52Zmp0iGCIDq7CIewbKE8Mbw9GhYE/17hxhd2QnSvpBnBoJ+Rzs6sgV0y7qW5 B6vWLrlWiFQpCtZAYUt7nJbi73zifdrvXi/Gc= X-Google-DKIM-Signature: v=1; a=rsa-sha256; c=relaxed/relaxed; d=1e100.net; s=20230601; t=1747381928; x=1747986728; h=references:in-reply-to:cc:to:from:subject:message-id:date :x-gm-message-state:from:to:cc:subject:date:message-id:reply-to; bh=NeeD/cF9LqXjcoDXgtWK1CucQ4Eqd9itzoUN8ENHx94=; b=tKXhAY/lVBfxLeUWYJUfYQou7n5o9htFMgtNxpqxXtGLFLhxhpnTXJKPX5LcoOajiW yb61HwKlLIXEQK1HAb1ZHrVydrQjVpKUJvs0hA9R0+3m90gi+i+D+4+PpCdDhzrMatKC +HLv5PoXpmASk7+vk1p8MWKe3Wzhrekil6zGFH3jyUTLEw+pbb3pf84UDozkq23k03Em OsJ8zs4F4V7dqGlTiujvrbd//pRvUNYgusIdbq+2g9vr/L00LAc9VfjV874gJYo7NeoY Nl3Rlokiv769ZTqDb7t5ZWrNiu0dErZI0LBajpNjDah4waV5yrE6GhdRM3+hmPgGcRN3 bY8g== X-Gm-Message-State: AOJu0Yxk+ZWq99I4T0T2PCHOquDNR5gzDS0iXrDFFDPON8habRoWSaeT clMdFku+PNLe+j5IVefpwtm4CQak/npcMzLcr3jT5nGZ2e3DeN5nV6glUYmVPIw3Cdbaod2TbVw QEWPSs1GZCpTwdkYnuUzB7P9j1rC8AmLKzyX0XY1FeAOR X-Gm-Gg: ASbGnctFL8g/WGVWYKn27QzfLZ8hwcRqlaCkorwJaddA+GwjA3vRN/wQI6w0E/tEndO esa39yq1f2tua1CLPSudH0t9EVTxU+paxuqIBJRmnxXI11QrqNTfL1T6fTeszwXNaXagIPxJpi5 Zzu1w/MNpczia6HiGjWa241w9WkuRRO8HlIpDQvHEZ/cjHvv4BK4VGM/TsqzhWjSt6S76dY8nxF k48ywWsPSUstleIR8nBidJ5+rmmmj8q03Q661MPlS45uW/RzMHFDbZimb7jtFCnj5xOIb0uKpoX 0LnxEYOu3zLAObsQ5K+7nClEUT0o7ideQ8Z6ht5QmqJnEPoMOjqofrYi9AE= X-Google-Smtp-Source: AGHT+IH6yBVer2az1W/TCYnbELvpzkO3QbjeNol2qGUxISa6vZItWk9mACkrKz+uTd/9TUFELV19tfCQlLOP X-Received: by 2002:a17:90b:524c:b0:2fa:42f3:e3e4 with SMTP id 98e67ed59e1d1-30e4dac99b4mr8150584a91.3.1747381928196; Fri, 16 May 2025 00:52:08 -0700 (PDT) Received: from postal.iol.unh.edu (postal.iol.unh.edu. [132.177.123.84]) by smtp-relay.gmail.com with ESMTPS id 98e67ed59e1d1-30e655d13efsm170119a91.11.2025.05.16.00.52.08 (version=TLS1_2 cipher=ECDHE-ECDSA-AES128-GCM-SHA256 bits=128/128); Fri, 16 May 2025 00:52:08 -0700 (PDT) X-Relaying-Domain: iol.unh.edu Date: Fri, 16 May 2025 00:52:08 -0700 (PDT) Message-ID: <6826eea8.170a0220.162220.8d90SMTPIN_ADDED_MISSING@mx.google.com> Received: from [172.21.0.5] (unknown [172.18.0.240]) by postal.iol.unh.edu (Postfix) with ESMTP id 398BF6052472; Fri, 16 May 2025 03:51:37 -0400 (EDT) Subject: |SUCCESS| pw153464-153467 [PATCH] [v2,4/4] dts: change verification From: dpdklab@iol.unh.edu To: Test Report Cc: dpdk-test-reports@iol.unh.edu In-Reply-To: <20250515183327.191912-4-dmarx@iol.unh.edu> References: <20250515183327.191912-4-dmarx@iol.unh.edu> Content-Type: text/plain X-BeenThere: test-report@dpdk.org X-Mailman-Version: 2.1.29 Precedence: list List-Id: automatic DPDK test reports List-Unsubscribe: , List-Archive: List-Post: List-Help: List-Subscribe: , Errors-To: test-report-bounces@dpdk.org Test-Label: iol-unit-amd64-testing Test-Status: SUCCESS http://dpdk.org/patch/153467 _Testing PASS_ Submitter: Dean Marx Date: Thursday, May 15 2025 18:33:27 DPDK git baseline: Repo:dpdk Branch: master CommitID:1aef42bc97a31906486c9d66b792208948af06f3 153464-153467 --> testing pass Upstream job id: Generic-Unit-Test-DPDK#338323 Test environment and result as below: +---------------------+----------------+ | Environment | dpdk_unit_test | +=====================+================+ | CentOS Stream 9 | PASS | +---------------------+----------------+ | Fedora 40 | PASS | +---------------------+----------------+ | Fedora 41 | PASS | +---------------------+----------------+ | Debian 12 | PASS | +---------------------+----------------+ | Fedora 40 (Clang) | PASS | +---------------------+----------------+ | CentOS Stream 10 | PASS | +---------------------+----------------+ | Fedora 41 (Clang) | PASS | +---------------------+----------------+ | RHEL9 | PASS | +---------------------+----------------+ | RHEL8 | PASS | +---------------------+----------------+ | Ubuntu 20.04 | PASS | +---------------------+----------------+ | Ubuntu 22.04 | PASS | +---------------------+----------------+ | Ubuntu 24.04 | PASS | +---------------------+----------------+ | Windows Server 2022 | PASS | +---------------------+----------------+ CentOS Stream 9 Kernel: Depends on container host Compiler: gcc 11.5.0 20240719 (Red Hat 11.5.0-2) Fedora 40 Kernel: Depends on container host Compiler: gcc 14.2.1 20240912 (Red Hat 14.2.1-3) Fedora 41 Kernel: Depends on container host Compiler: gcc 14.2.1 20240912 (Red Hat 14.2.1-3) Debian 12 Kernel: Depends on container host Compiler: gcc (Debian 12.2.0-14) 12.2.0 Fedora 40 (Clang) Kernel: Depends on container host Compiler: clang 18.1.8 (Fedora 18.1.8-1.fc40) CentOS Stream 10 Kernel: Depends on container host Compiler: gcc 14.2.1 20241104 (Red Hat 14.2.1-6) Fedora 41 (Clang) Kernel: Depends on container host Compiler: clang 19.1.5 (Fedora 19.1.5-1.fc41) RHEL9 Kernel: Depends on container host Compiler: gcc 11.5.0 20240719 (Red Hat 11.5.0-2) RHEL8 Kernel: Depends on container host Compiler: gcc 8.5.0 20210514 (Red Hat 8.5.0-22) Ubuntu 20.04 Kernel: Depends on container host Compiler: gcc (Ubuntu 9.4.0-1ubuntu1~20.04.2) 9.4.0 Ubuntu 22.04 Kernel: Depends on container host Compiler: gcc (Ubuntu 11.4.0-1ubuntu1~22.04) 11.4.0 Ubuntu 24.04 Kernel: Depends on container host Compiler: gcc (Ubuntu 13.3.0-6ubuntu2~24.04) 13.3.0 Windows Server 2022 Kernel: 10.0.20348.2031 Compiler: clang 15.0.7, gcc 14.1.0 (MinGW), and MSVC VS 19.39.33521 To view detailed results, visit: https://lab.dpdk.org/results/dashboard/patchsets/33185/ UNH-IOL DPDK Community Lab To manage your email subscriptions, visit: https://lab.dpdk.org/results/dashboard/preferences/subscriptions/