From mboxrd@z Thu Jan 1 00:00:00 1970 Return-Path: Received: from mails.dpdk.org (mails.dpdk.org [217.70.189.124]) by inbox.dpdk.org (Postfix) with ESMTP id 957D146762 for ; Fri, 16 May 2025 11:29:20 +0200 (CEST) Received: from mails.dpdk.org (localhost [127.0.0.1]) by mails.dpdk.org (Postfix) with ESMTP id 3C79C402F1; Fri, 16 May 2025 11:29:18 +0200 (CEST) Received: from mail-pl1-f228.google.com (mail-pl1-f228.google.com [209.85.214.228]) by mails.dpdk.org (Postfix) with ESMTP id 5E383402D8 for ; Fri, 16 May 2025 11:29:17 +0200 (CEST) Received: by mail-pl1-f228.google.com with SMTP id d9443c01a7336-231e331baceso2824415ad.0 for ; Fri, 16 May 2025 02:29:17 -0700 (PDT) DKIM-Signature: v=1; a=rsa-sha256; c=relaxed/relaxed; d=iol.unh.edu; s=unh-iol; t=1747387756; x=1747992556; darn=dpdk.org; h=cc:to:from:subject:message-id:date:from:to:cc:subject:date :message-id:reply-to; bh=uHfhErmBaklN82xS+tPZznD71MlMwQPV7xBuVABgpDY=; b=N5VScTHsQkuHyrqjV/jnCO8Ta7CNkD3LrPbDa/Yq6c7vDRrNLwJVyEF0LJ/xC4li/b Ctdgs8BmIHcQ/2PXJ8opxAk6EFxjkBfbrJH4XBBNyLE+Jb80G4V5/acBJc3CXb1JV7bL 5AQsdjq03fv3Fm3Q7Oc+mirI7KPq/MMYMuM9U= X-Google-DKIM-Signature: v=1; a=rsa-sha256; c=relaxed/relaxed; d=1e100.net; s=20230601; t=1747387756; x=1747992556; h=cc:to:from:subject:message-id:date:x-gm-message-state:from:to:cc :subject:date:message-id:reply-to; bh=uHfhErmBaklN82xS+tPZznD71MlMwQPV7xBuVABgpDY=; b=TjtlGvDCLixU9DgFy4g1GKqgppRJvVEsyVWdPYZfed/7vHL999idBQOHc3n3n7oWYp WbeQK1XUAKQEX6lfi/7+QhcQZwMOetdD7pW6x3Uk+9l35/0qhkdDZJL1HbOpzAZyR8tI mR6/BQ3Efuz/AKsYZAG8JM9aT/G3WQ7aEoa0NGPymgVLjVioJ3bSZVDhVKIPlX8HKw3+ zD1ks5uiGq9Yt1Ec3rAEyfeFvUFNyLW6cQrJafWH4Vu1AX12ZzaYOoytdP8Y9pVcZlxi y+W2fWHron4ACd7UHQpZfgsddYWM0pRfe+YwNwumuKDXL0P7jc4VczYJWwhwr3nlnL3W wHxg== X-Gm-Message-State: AOJu0Yypt99Z/1udI2F/izZW8ltEeO4w5HY0aavddMonBPV4rmsrtzio QxvL0oVxqDRbOnls8bJ3gAPTti+bYNwv0ypnkExGYMDocJyJqyDOUwLq+2c0vxOzFQ4V6jVs+mD 9ZvlIuJvn2i8BEcAE/Qmj/N8th+cko2UVptmz X-Gm-Gg: ASbGncs0bfPqLLa14CEhbypNYZ/CwtT07tAwRNiFMOifNVgsFjU+Rf05x2/VdCi3ERi mVgE44wlOSlK6mIPKCgu7K72BL08xgAREqeycrXS/XVIgI2bIIRYyi2Goi712DjbkUldXWSuj3T BIqGvXsNpVHptvUGZtm6Bb70LoECy3+8UhYdoBxPSpJQz2ztGKRC4g8ySWZb6tjPBgiAFsPC6/w Z1VQWLLPHS4qB2i52xBybQlA/iwN5TApJK8eIfjXvtgTqf7zJLN3WOnVl0Kf09cuzsSQlPvVBXz DW1k7/UMucnEcCVLpl9R72hsd2tAykHENFLKmPK7HrNZ3dIIQllg5pmyjqY= X-Google-Smtp-Source: AGHT+IGt/Mrwi5nJl++OBuno0D+6AbR636Ep1R6FlIq6QDJTKqAVOCvLCLB50zM/uWhAdAuWysxCXh+MNGcC X-Received: by 2002:a17:903:24e:b0:22e:4a6c:fef2 with SMTP id d9443c01a7336-231d45ae355mr36689365ad.53.1747387756322; Fri, 16 May 2025 02:29:16 -0700 (PDT) Received: from postal.iol.unh.edu (postal.iol.unh.edu. [132.177.123.84]) by smtp-relay.gmail.com with ESMTPS id d9443c01a7336-231d4eb9456sm933765ad.96.2025.05.16.02.29.16 (version=TLS1_2 cipher=ECDHE-ECDSA-AES128-GCM-SHA256 bits=128/128); Fri, 16 May 2025 02:29:16 -0700 (PDT) X-Relaying-Domain: iol.unh.edu Date: Fri, 16 May 2025 02:29:16 -0700 (PDT) Message-ID: <6827056c.170a0220.2a53f.46b0SMTPIN_ADDED_MISSING@mx.google.com> Received: from [172.21.0.5] (unknown [172.18.0.240]) by postal.iol.unh.edu (Postfix) with ESMTP id 7CF216052471; Fri, 16 May 2025 05:29:15 -0400 (EDT) Subject: |SUCCESS| [GIT MASTER] 83a7a648344674c0269fcaeb71d8d16468421a0e From: dpdklab@iol.unh.edu To: Test Report Cc: dpdk-test-reports@iol.unh.edu, Xueming Li , Christian Ehrhardt , Kevin Traynor , Luca Boccassi Content-Type: text/plain X-BeenThere: test-report@dpdk.org X-Mailman-Version: 2.1.29 Precedence: list List-Id: automatic DPDK test reports List-Unsubscribe: , List-Archive: List-Post: List-Help: List-Subscribe: , Errors-To: test-report-bounces@dpdk.org _Testing PASS_ Branch: tags/v23.11 83a7a648344674c0269fcaeb71d8d16468421a0e --> testing pass Upstream job id: Generic-Unit-Test-DPDK#338364 Test environment and result as below: +---------------------+----------------+ | Environment | dpdk_unit_test | +=====================+================+ | Fedora 41 | PASS | +---------------------+----------------+ | Debian 12 | PASS | +---------------------+----------------+ | Fedora 40 | PASS | +---------------------+----------------+ | Fedora 40 (Clang) | PASS | +---------------------+----------------+ | CentOS Stream 9 | PASS | +---------------------+----------------+ | CentOS Stream 10 | PASS | +---------------------+----------------+ | Fedora 41 (Clang) | PASS | +---------------------+----------------+ | Ubuntu 22.04 | PASS | +---------------------+----------------+ | RHEL8 | PASS | +---------------------+----------------+ | RHEL9 | PASS | +---------------------+----------------+ | Ubuntu 20.04 | PASS | +---------------------+----------------+ | Ubuntu 24.04 | PASS | +---------------------+----------------+ | Windows Server 2022 | PASS | +---------------------+----------------+ Fedora 41 Kernel: Depends on container host Compiler: gcc 14.2.1 20240912 (Red Hat 14.2.1-3) Debian 12 Kernel: Depends on container host Compiler: gcc (Debian 12.2.0-14) 12.2.0 Fedora 40 Kernel: Depends on container host Compiler: gcc 14.2.1 20240912 (Red Hat 14.2.1-3) Fedora 40 (Clang) Kernel: Depends on container host Compiler: clang 18.1.8 (Fedora 18.1.8-1.fc40) CentOS Stream 9 Kernel: Depends on container host Compiler: gcc 11.5.0 20240719 (Red Hat 11.5.0-2) CentOS Stream 10 Kernel: Depends on container host Compiler: gcc 14.2.1 20241104 (Red Hat 14.2.1-6) Fedora 41 (Clang) Kernel: Depends on container host Compiler: clang 19.1.5 (Fedora 19.1.5-1.fc41) Ubuntu 22.04 Kernel: Depends on container host Compiler: gcc (Ubuntu 11.4.0-1ubuntu1~22.04) 11.4.0 RHEL8 Kernel: Depends on container host Compiler: gcc 8.5.0 20210514 (Red Hat 8.5.0-22) RHEL9 Kernel: Depends on container host Compiler: gcc 11.5.0 20240719 (Red Hat 11.5.0-2) Ubuntu 20.04 Kernel: Depends on container host Compiler: gcc (Ubuntu 9.4.0-1ubuntu1~20.04.2) 9.4.0 Ubuntu 24.04 Kernel: Depends on container host Compiler: gcc (Ubuntu 13.3.0-6ubuntu2~24.04) 13.3.0 Windows Server 2022 Kernel: 10.0.20348.2031 Compiler: clang 15.0.7, gcc 14.1.0 (MinGW), and MSVC VS 19.39.33521 To view detailed results, visit: https://lab.dpdk.org/results/dashboard/tarballs/33551/ UNH-IOL DPDK Community Lab To manage your email subscriptions, visit: https://lab.dpdk.org/results/dashboard/preferences/subscriptions/