From mboxrd@z Thu Jan  1 00:00:00 1970
Return-Path: <test-report-bounces@dpdk.org>
Received: from mails.dpdk.org (mails.dpdk.org [217.70.189.124])
	by inbox.dpdk.org (Postfix) with ESMTP id A503646762
	for <public@inbox.dpdk.org>; Fri, 16 May 2025 11:31:00 +0200 (CEST)
Received: from mails.dpdk.org (localhost [127.0.0.1])
	by mails.dpdk.org (Postfix) with ESMTP id A0F1C400EF;
	Fri, 16 May 2025 11:31:00 +0200 (CEST)
Received: from mail-pl1-f226.google.com (mail-pl1-f226.google.com
 [209.85.214.226])
 by mails.dpdk.org (Postfix) with ESMTP id 8B23940041
 for <test-report@dpdk.org>; Fri, 16 May 2025 11:30:59 +0200 (CEST)
Received: by mail-pl1-f226.google.com with SMTP id
 d9443c01a7336-231e331baceso2838805ad.0
 for <test-report@dpdk.org>; Fri, 16 May 2025 02:30:59 -0700 (PDT)
DKIM-Signature: v=1; a=rsa-sha256; c=relaxed/relaxed;
 d=iol.unh.edu; s=unh-iol; t=1747387858; x=1747992658; darn=dpdk.org;
 h=cc:to:from:subject:message-id:date:from:to:cc:subject:date
 :message-id:reply-to;
 bh=TgUdB5nlAPbNnjBWPdEY2ZowgMu0TetUSAEFC2xf5No=;
 b=YulyEY/8BHAHtmNm33SsdTZluTTwk6OcwMNZFX8lmah4l1d8azoJrjFsleHUBnoXI6
 xV7201wYXKR7EyPLAT1TihsIoKQd+Rb3DuLMZKev3z39ybicTyDiTKNt2D3uLWD9Ypc8
 +VhqetPgj02ccoYHFuAv4WGlt6agfyOGbyP3c=
X-Google-DKIM-Signature: v=1; a=rsa-sha256; c=relaxed/relaxed;
 d=1e100.net; s=20230601; t=1747387858; x=1747992658;
 h=cc:to:from:subject:message-id:date:x-gm-message-state:from:to:cc
 :subject:date:message-id:reply-to;
 bh=TgUdB5nlAPbNnjBWPdEY2ZowgMu0TetUSAEFC2xf5No=;
 b=Zz8E0eqU8wMGYRE0qaqmDV+AW6HyiRkTE6KVM9h28SYVd3PcXgbqBZg9NPjtDk764J
 ASCW32aaYfbulXzvryrTn7eHW6LTd+dfRBdqKjs2RTlm9Bq+jdvauA860HXAcOzdrDUQ
 LGvT24ry4afLUVbya8D1ocJdz7/ZKOX9W4vJwv+Fm5/A38jAsKUw3Jas5/HMWCbXTSwd
 6w3nOraFk3PUHt4kIaIz2kh0TVs6s9VxBPNWEOiiJ2l9v34Rvjz3Hllgp/Um+mJa45cB
 I8kDLKxf5VjUUTNb/34B3ErZZzSPv/7//kDhhMPbMIK4lSr2ijtLSKXmJZvzvrFq5FfE
 0kWg==
X-Gm-Message-State: AOJu0Yy5uCv/1ngM+GMZJ2E760E2bcvKr/OlVqyE3w5Ip5LnBnz+JFut
 z1DEALvf/RRzBOKphfWbbRpXnk+8WPTeHZb6ck0c4m22y4H1MGgrs9eGY/jgL3jFyThJIGdIChN
 iRsmlwV3nKPVQw8HKORFG9GqxD4Y+DXh9q/EW
X-Gm-Gg: ASbGncvM75YSDOLCoGqZmSbQbwRMiJ9EKUEWNRAOf4uSv3DotdCkyJm0mdsYXvX79Xe
 JM6RCDMbxDq4KFhjjAaR20DVKmIhDn4F5EDII3jujfNJVVNfE/+klE5MYYcnONR4/MpFk5lIqRo
 abu9dkltbzgyVAgTo8tXcO7mbM6RPlwZH7l5JbDnC+zEJz3O+yoMQjIdq965ahEqzKrErSRm1z5
 69uG1i/1ZFWLRYrfASSvRijAnmAvcxSAy4WEAQ8lJuM24eeeuwsCwB/HE3P9kiKfD/oc8m7pB24
 NMPvTs0xwzSlsR90fOVzg7qbZpwN7XjopBk281B1Gy25paxBaNSU0TukaFc=
X-Google-Smtp-Source: AGHT+IEEMLRp3PphFWnPizmxOMWXyPHefo8f5hXjDKcbckKVlBoO/K7dAzeC/iJspVGXCNgRzZNyWRDQ3nCO
X-Received: by 2002:a17:902:d482:b0:231:f064:aae8 with SMTP id
 d9443c01a7336-231f064ac9dmr295555ad.45.1747387858530; 
 Fri, 16 May 2025 02:30:58 -0700 (PDT)
Received: from postal.iol.unh.edu (postal.iol.unh.edu. [132.177.123.84])
 by smtp-relay.gmail.com with ESMTPS id
 d9443c01a7336-231d4aa6ed4sm883695ad.20.2025.05.16.02.30.58
 (version=TLS1_2 cipher=ECDHE-ECDSA-AES128-GCM-SHA256 bits=128/128);
 Fri, 16 May 2025 02:30:58 -0700 (PDT)
X-Relaying-Domain: iol.unh.edu
Date: Fri, 16 May 2025 02:30:58 -0700 (PDT)
Message-ID: <682705d2.170a0220.34cd2d.4522SMTPIN_ADDED_MISSING@mx.google.com>
Received: from [172.21.0.6] (unknown [172.18.0.240])
 by postal.iol.unh.edu (Postfix) with ESMTP id 92E7B6052471;
 Fri, 16 May 2025 05:30:57 -0400 (EDT)
Subject: |SUCCESS| [GIT MASTER] 83a7a648344674c0269fcaeb71d8d16468421a0e
From: dpdklab@iol.unh.edu
To: Test Report <test-report@dpdk.org>
Cc: dpdk-test-reports@iol.unh.edu, Xueming Li <xuemingl@nvidia.com>,
 Christian Ehrhardt <christian.ehrhardt@canonical.com>,
 Kevin Traynor <ktraynor@redhat.com>, Luca Boccassi <bluca@debian.org>
Content-Type: text/plain
X-BeenThere: test-report@dpdk.org
X-Mailman-Version: 2.1.29
Precedence: list
List-Id: automatic DPDK test reports <test-report.dpdk.org>
List-Unsubscribe: <https://mails.dpdk.org/options/test-report>,
 <mailto:test-report-request@dpdk.org?subject=unsubscribe>
List-Archive: <http://mails.dpdk.org/archives/test-report/>
List-Post: <mailto:test-report@dpdk.org>
List-Help: <mailto:test-report-request@dpdk.org?subject=help>
List-Subscribe: <https://mails.dpdk.org/listinfo/test-report>,
 <mailto:test-report-request@dpdk.org?subject=subscribe>
Errors-To: test-report-bounces@dpdk.org

_Testing PASS_

Branch: tags/v23.11

83a7a648344674c0269fcaeb71d8d16468421a0e --> testing pass

Upstream job id: Generic-DPDK-Compile-Meson#388574

Test environment and result as below:

+------------------------------------+--------------------+
|            Environment             | dpdk_meson_compile |
+====================================+====================+
| RHEL9 (ARM)                        | PASS               |
+------------------------------------+--------------------+
| Ubuntu 20.04 ARM GCC Cross Compile | PASS               |
+------------------------------------+--------------------+
| Ubuntu 20.04 ARM SVE               | PASS               |
+------------------------------------+--------------------+
| Debian 12 with MUSDK               | PASS               |
+------------------------------------+--------------------+
| Ubuntu 20.04 (ARM)                 | PASS               |
+------------------------------------+--------------------+
| Ubuntu 22.04 (ARM)                 | PASS               |
+------------------------------------+--------------------+
| Fedora 40 (ARM Clang)              | PASS               |
+------------------------------------+--------------------+
| Fedora 40 (ARM)                    | PASS               |
+------------------------------------+--------------------+
| Fedora 41 (ARM)                    | PASS               |
+------------------------------------+--------------------+
| Fedora 41 (ARM Clang)              | PASS               |
+------------------------------------+--------------------+
| Ubuntu 24.04 (ARM)                 | PASS               |
+------------------------------------+--------------------+
| Debian 12 (arm)                    | PASS               |
+------------------------------------+--------------------+
| CentOS Stream 10 (ARM)             | PASS               |
+------------------------------------+--------------------+
| CentOS Stream 9 (ARM)              | PASS               |
+------------------------------------+--------------------+


RHEL9 (ARM)
	Kernel: Depends on container host
	Compiler: gcc 11.5.0 20240719 (Red Hat 11.5.0-2)

Ubuntu 20.04 ARM GCC Cross Compile
	Kernel: Depends on container host
	Compiler: aarch64-linux-gnu-gcc (Ubuntu 9.4.0-1ubuntu1~20.04.2) 9.4.0

Ubuntu 20.04 ARM SVE
	Kernel: Depends on container host
	Compiler: gcc (Ubuntu 10.5.0-1ubuntu1~20.04) 10.5.0

Debian 12 with MUSDK
	Kernel: Depends on container host
	Compiler: gcc (Debian 12.2.0-14) 12.2.0

Ubuntu 20.04 (ARM)
	Kernel: Depends on container host
	Compiler: gcc (Ubuntu 9.4.0-1ubuntu1~20.04.2) 9.4.0

Ubuntu 22.04 (ARM)
	Kernel: Depends on container host
	Compiler: gcc (Ubuntu 11.4.0-1ubuntu1~22.04) 11.4.0

Fedora 40 (ARM Clang)
	Kernel: Depends on container host
	Compiler: clang 18.1.8 (Fedora 18.1.8-1.fc40)

Fedora 40 (ARM)
	Kernel: Depends on container host
	Compiler: gcc 14.2.1 20240912 (Red Hat 14.2.1-3)

Fedora 41 (ARM)
	Kernel: Depends on container host
	Compiler: gcc 14.2.1 20240912 (Red Hat 14.2.1-3)

Fedora 41 (ARM Clang)
	Kernel: Depends on container host
	Compiler: clang 19.1.5 (Fedora 19.1.5-1.fc41)

Ubuntu 24.04 (ARM)
	Kernel: Depends on container host
	Compiler: gcc (Ubuntu 13.3.0-6ubuntu2~24.04) 13.3.0

Debian 12 (arm)
	Kernel: Depends on container host
	Compiler: gcc (Debian 12.2.0-14) 12.2.0

CentOS Stream 10 (ARM)
	Kernel: Depends on container host
	Compiler: gcc 14.2.1 20241104 (Red Hat 14.2.1-6)

CentOS Stream 9 (ARM)
	Kernel: Depends on container host
	Compiler: gcc 11.5.0 20240719 (Red Hat 11.5.0-2)

To view detailed results, visit:
https://lab.dpdk.org/results/dashboard/tarballs/33551/

UNH-IOL DPDK Community Lab

To manage your email subscriptions, visit: 
https://lab.dpdk.org/results/dashboard/preferences/subscriptions/