From mboxrd@z Thu Jan 1 00:00:00 1970 Return-Path: Received: from mails.dpdk.org (mails.dpdk.org [217.70.189.124]) by inbox.dpdk.org (Postfix) with ESMTP id B720A4674B for ; Fri, 16 May 2025 11:54:01 +0200 (CEST) Received: from mails.dpdk.org (localhost [127.0.0.1]) by mails.dpdk.org (Postfix) with ESMTP id 1C47B400EF; Fri, 16 May 2025 11:54:01 +0200 (CEST) Received: from mail-oa1-f98.google.com (mail-oa1-f98.google.com [209.85.160.98]) by mails.dpdk.org (Postfix) with ESMTP id E06FC40041 for ; Fri, 16 May 2025 11:53:59 +0200 (CEST) Received: by mail-oa1-f98.google.com with SMTP id 586e51a60fabf-2db9e29d3bcso2528fac.1 for ; Fri, 16 May 2025 02:53:59 -0700 (PDT) DKIM-Signature: v=1; a=rsa-sha256; c=relaxed/relaxed; d=iol.unh.edu; s=unh-iol; t=1747389238; x=1747994038; darn=dpdk.org; h=cc:to:from:subject:message-id:date:from:to:cc:subject:date :message-id:reply-to; bh=2mcmYc0GDoXrRu30WK89AlapbL0Om4EyhVf4YJXYZw0=; b=dijg/xWG/T+8XRNKLMtd3gfXqoABSeiIK53QxzcIBy1Y12eUXSS8HlT7Q+N6mITIUn nMvd/y3VtNvCJonAO9uXoCjlIms/FbIU8ohfhyPo5i1B+NZUML0A3nbHmjBWuUYeRdU1 5z+daeijjheOzlsr6oGvWlUj8Bh+KxBsFOB/Y= X-Google-DKIM-Signature: v=1; a=rsa-sha256; c=relaxed/relaxed; d=1e100.net; s=20230601; t=1747389238; x=1747994038; h=cc:to:from:subject:message-id:date:x-gm-message-state:from:to:cc :subject:date:message-id:reply-to; bh=2mcmYc0GDoXrRu30WK89AlapbL0Om4EyhVf4YJXYZw0=; b=uGYrln+bEBTa8blo19qrD270SxotoDMaqI+Czqf8O5607tdqhZ3N/gEb+sTfwWJ+hJ MibLDjCfs2/ABTiz123PqwBiee1bCATEbAPNLLkzpX4w2rHHHsoUbz8NWyDVvxaAhH0f heAyGXLji+2ZYjaVorglpvSHRl6O64bGPCler3efvebcmXOiTH3i9joSlx1pg+8s/IGc I72uzqPuCwqm6I0J1sxztFs0WAJtk8CtclXUh5NcWERQ3dOZxNgN30fQ21vjDA3QH6ns usuW7Vg2JMoaw0V4sc41JbUdW+VHjjmrc8EkASrWyOQfMuMLQPJe9PpEYtRUj03AzB5K 28NA== X-Gm-Message-State: AOJu0YzungA31TBH5+8CDlMFDK1SwN4Doho2gL/4eg9aTZ9SASmfTfc2 OWYQWbVX5Gcc6qnG1X9MK7qGXs/LZrphXRMuJEv16XABJbURVyqEoec31lKMkRsCzDxcLpSUX07 Mt/QN3r9Ycc8ateDXjWfRRCjB0yoyJDIEhBSN X-Gm-Gg: ASbGncsuaLFioOl24fENprK1XBh4Jm0m1/FOPiN/D9m/+6sifxrfmKKvPtooFHfeLwQ v7bVACDxmoIX2ukdpsGsQ0wgZbKPwQNh5pYyM6A04IrbvJL/5HtqWx7IULWUnsFRq1L4zugVqCU q8WFYz33TimWqZLBi6wAlOFuB+Mjg3Qcf8Br2oR0SyR0AcsI4KcPz1/4eTpb/tQlHx8PDRmx2+e lFWPSp2Tpz5DFveWz8bJgrIKI6+/XLrHRO+hgoWe3BsWwLV2hTufj56JlAsudMm8SW8VaHQ27ut OAiP8RsX9j1fU8jNAewNr9luy5k+wXBLNhCxAHibveeGQ5z7ceKOBXkUO+E= X-Google-Smtp-Source: AGHT+IHUj40juilxHeM0EmR+hqJan/Zk5+gcBClWy9HFZRWaJHYR+MWvdPxq4NaTgfjoCO+RpzFdgmADHNcE X-Received: by 2002:a05:6871:530d:b0:2df:5323:520b with SMTP id 586e51a60fabf-2e3c1c8b73emr1614712fac.19.1747389238506; Fri, 16 May 2025 02:53:58 -0700 (PDT) Received: from postal.iol.unh.edu (postal.iol.unh.edu. [132.177.123.84]) by smtp-relay.gmail.com with ESMTPS id 586e51a60fabf-2e3c06b0bd9sm98229fac.13.2025.05.16.02.53.58 (version=TLS1_2 cipher=ECDHE-ECDSA-AES128-GCM-SHA256 bits=128/128); Fri, 16 May 2025 02:53:58 -0700 (PDT) X-Relaying-Domain: iol.unh.edu Date: Fri, 16 May 2025 02:53:58 -0700 (PDT) Message-ID: <68270b36.050a0220.32f71e.492dSMTPIN_ADDED_MISSING@mx.google.com> Received: from [172.21.0.6] (unknown [172.18.0.240]) by postal.iol.unh.edu (Postfix) with ESMTP id D3AD86052471; Fri, 16 May 2025 05:53:57 -0400 (EDT) Subject: |SUCCESS| [GIT MASTER] 83a7a648344674c0269fcaeb71d8d16468421a0e From: dpdklab@iol.unh.edu To: Test Report Cc: dpdk-test-reports@iol.unh.edu, Xueming Li , Christian Ehrhardt , Kevin Traynor , Luca Boccassi Content-Type: text/plain X-BeenThere: test-report@dpdk.org X-Mailman-Version: 2.1.29 Precedence: list List-Id: automatic DPDK test reports List-Unsubscribe: , List-Archive: List-Post: List-Help: List-Subscribe: , Errors-To: test-report-bounces@dpdk.org _Testing PASS_ Branch: tags/v23.11 83a7a648344674c0269fcaeb71d8d16468421a0e --> testing pass Upstream job id: Generic-DPDK-Compile-Meson#388572 Test environment and result as below: +---------------------+--------------------+-------------------+------------------+-------------------+-------------------------+----------------------+ | Environment | dpdk_meson_compile | dpdk_compile_spdk | dpdk_compile_ovs | dpdk_msvc_compile | dpdk_llvm_clang_compile | dpdk_mingw64_compile | +=====================+====================+===================+==================+===================+=========================+======================+ | CentOS Stream 9 | PASS | PASS | SKIPPED | SKIPPED | SKIPPED | SKIPPED | +---------------------+--------------------+-------------------+------------------+-------------------+-------------------------+----------------------+ | Fedora 40 (Clang) | PASS | PASS | SKIPPED | SKIPPED | SKIPPED | SKIPPED | +---------------------+--------------------+-------------------+------------------+-------------------+-------------------------+----------------------+ | Debian 12 | PASS | PASS | SKIPPED | SKIPPED | SKIPPED | SKIPPED | +---------------------+--------------------+-------------------+------------------+-------------------+-------------------------+----------------------+ | Fedora 40 | PASS | PASS | SKIPPED | SKIPPED | SKIPPED | SKIPPED | +---------------------+--------------------+-------------------+------------------+-------------------+-------------------------+----------------------+ | CentOS Stream 10 | PASS | SKIPPED | SKIPPED | SKIPPED | SKIPPED | SKIPPED | +---------------------+--------------------+-------------------+------------------+-------------------+-------------------------+----------------------+ | Fedora 41 (Clang) | PASS | PASS | PASS | SKIPPED | SKIPPED | SKIPPED | +---------------------+--------------------+-------------------+------------------+-------------------+-------------------------+----------------------+ | RHEL8 | PASS | SKIPPED | SKIPPED | SKIPPED | SKIPPED | SKIPPED | +---------------------+--------------------+-------------------+------------------+-------------------+-------------------------+----------------------+ | RHEL9 | PASS | SKIPPED | SKIPPED | SKIPPED | SKIPPED | SKIPPED | +---------------------+--------------------+-------------------+------------------+-------------------+-------------------------+----------------------+ | openSUSE Leap 15 | PASS | SKIPPED | SKIPPED | SKIPPED | SKIPPED | SKIPPED | +---------------------+--------------------+-------------------+------------------+-------------------+-------------------------+----------------------+ | Fedora 41 | PASS | PASS | PASS | SKIPPED | SKIPPED | SKIPPED | +---------------------+--------------------+-------------------+------------------+-------------------+-------------------------+----------------------+ | Ubuntu 20.04 | PASS | SKIPPED | SKIPPED | SKIPPED | SKIPPED | SKIPPED | +---------------------+--------------------+-------------------+------------------+-------------------+-------------------------+----------------------+ | Ubuntu 22.04 | PASS | PASS | SKIPPED | SKIPPED | SKIPPED | SKIPPED | +---------------------+--------------------+-------------------+------------------+-------------------+-------------------------+----------------------+ | Ubuntu 24.04 | PASS | PASS | PASS | SKIPPED | SKIPPED | SKIPPED | +---------------------+--------------------+-------------------+------------------+-------------------+-------------------------+----------------------+ | Alpine | PASS | SKIPPED | SKIPPED | SKIPPED | SKIPPED | SKIPPED | +---------------------+--------------------+-------------------+------------------+-------------------+-------------------------+----------------------+ | FreeBSD 13.5 | PASS | SKIPPED | SKIPPED | SKIPPED | SKIPPED | SKIPPED | +---------------------+--------------------+-------------------+------------------+-------------------+-------------------------+----------------------+ | FreeBSD 14.2 | PASS | SKIPPED | SKIPPED | SKIPPED | SKIPPED | SKIPPED | +---------------------+--------------------+-------------------+------------------+-------------------+-------------------------+----------------------+ | Windows Server 2022 | SKIPPED | SKIPPED | SKIPPED | PASS | PASS | PASS | +---------------------+--------------------+-------------------+------------------+-------------------+-------------------------+----------------------+ CentOS Stream 9 Kernel: Depends on container host Compiler: gcc 11.5.0 20240719 (Red Hat 11.5.0-2) Fedora 40 (Clang) Kernel: Depends on container host Compiler: clang 18.1.8 (Fedora 18.1.8-1.fc40) Debian 12 Kernel: Depends on container host Compiler: gcc (Debian 12.2.0-14) 12.2.0 Fedora 40 Kernel: Depends on container host Compiler: gcc 14.2.1 20240912 (Red Hat 14.2.1-3) CentOS Stream 10 Kernel: Depends on container host Compiler: gcc 14.2.1 20241104 (Red Hat 14.2.1-6) Fedora 41 (Clang) Kernel: Depends on container host Compiler: clang 19.1.5 (Fedora 19.1.5-1.fc41) RHEL8 Kernel: Depends on container host Compiler: gcc 8.5.0 20210514 (Red Hat 8.5.0-22) RHEL9 Kernel: Depends on container host Compiler: gcc 11.5.0 20240719 (Red Hat 11.5.0-2) openSUSE Leap 15 Kernel: Depends on container host Compiler: gcc (SUSE Linux) 7.5.0 Fedora 41 Kernel: Depends on container host Compiler: gcc 14.2.1 20240912 (Red Hat 14.2.1-3) Ubuntu 20.04 Kernel: Depends on container host Compiler: gcc (Ubuntu 9.4.0-1ubuntu1~20.04.2) 9.4.0 Ubuntu 22.04 Kernel: Depends on container host Compiler: gcc (Ubuntu 11.4.0-1ubuntu1~22.04) 11.4.0 Ubuntu 24.04 Kernel: Depends on container host Compiler: gcc (Ubuntu 13.3.0-6ubuntu2~24.04) 13.3.0 Alpine Kernel: Depends on container host Compiler: gcc (Alpine 14.2.0) 14.2.0 FreeBSD 13.5 Kernel: 13.5-RELEASE Compiler: clang 19.1.7 FreeBSD 14.2 Kernel: 14.2-RELEASE Compiler: clang 18.1.6 Windows Server 2022 Kernel: 10.0.20348.2031 Compiler: clang 15.0.7, gcc 14.1.0 (MinGW), and MSVC VS 19.39.33521 To view detailed results, visit: https://lab.dpdk.org/results/dashboard/tarballs/33551/ UNH-IOL DPDK Community Lab To manage your email subscriptions, visit: https://lab.dpdk.org/results/dashboard/preferences/subscriptions/