automatic DPDK test reports
 help / color / mirror / Atom feed
From: dpdklab@iol.unh.edu
To: Test Report <test-report@dpdk.org>
Cc: dpdk-test-reports@iol.unh.edu
Subject: |PENDING| pw153470-153471 [PATCH] [v5,2/2] net/hns3: fix Rx packet w
Date: Fri, 16 May 2025 03:14:08 -0700 (PDT)	[thread overview]
Message-ID: <68270ff0.c80a0220.356805.3dedSMTPIN_ADDED_MISSING@mx.google.com> (raw)
In-Reply-To: <20250516071519.3190805-3-huangdengdui@huawei.com>

Test-Label: iol-unit-amd64-testing
Test-Status: PENDING
http://dpdk.org/patch/153471

_Testing pending_

Submitter: Dengdui Huang <huangdengdui@huawei.com>
Date: Friday, May 16 2025 07:15:19 
DPDK git baseline: Repo:dpdk
  Branch: master
  CommitID:ff05ee3e3f8fb4ce958a2ce6461e8141aea959c6

153470-153471 --> testing pending

Upstream job id: Generic-VM-Unit-Test-DPDK#28567

Test environment and result as below:

+---------------------+----------------+
|     Environment     | dpdk_unit_test |
+=====================+================+
| CentOS Stream 9     | PEND           |
+---------------------+----------------+
| Debian 12           | PEND           |
+---------------------+----------------+
| CentOS Stream 10    | PEND           |
+---------------------+----------------+
| Fedora 41           | PEND           |
+---------------------+----------------+
| Fedora 40 (Clang)   | PEND           |
+---------------------+----------------+
| Fedora 40           | PEND           |
+---------------------+----------------+
| Fedora 41 (Clang)   | PEND           |
+---------------------+----------------+
| RHEL8               | PEND           |
+---------------------+----------------+
| Ubuntu 20.04        | PEND           |
+---------------------+----------------+
| RHEL9               | PEND           |
+---------------------+----------------+
| Ubuntu 22.04        | PEND           |
+---------------------+----------------+
| Ubuntu 24.04        | PEND           |
+---------------------+----------------+
| Windows Server 2022 | PASS           |
+---------------------+----------------+


CentOS Stream 9
	Kernel: Depends on container host
	Compiler: gcc 11.5.0 20240719 (Red Hat 11.5.0-2)

Debian 12
	Kernel: Depends on container host
	Compiler: gcc (Debian 12.2.0-14) 12.2.0

CentOS Stream 10
	Kernel: Depends on container host
	Compiler: gcc 14.2.1 20241104 (Red Hat 14.2.1-6)

Fedora 41
	Kernel: Depends on container host
	Compiler: gcc 14.2.1 20240912 (Red Hat 14.2.1-3)

Fedora 40 (Clang)
	Kernel: Depends on container host
	Compiler: clang 18.1.8 (Fedora 18.1.8-1.fc40)

Fedora 40
	Kernel: Depends on container host
	Compiler: gcc 14.2.1 20240912 (Red Hat 14.2.1-3)

Fedora 41 (Clang)
	Kernel: Depends on container host
	Compiler: clang 19.1.5 (Fedora 19.1.5-1.fc41)

RHEL8
	Kernel: Depends on container host
	Compiler: gcc 8.5.0 20210514 (Red Hat 8.5.0-22)

Ubuntu 20.04
	Kernel: Depends on container host
	Compiler: gcc (Ubuntu 9.4.0-1ubuntu1~20.04.2) 9.4.0

RHEL9
	Kernel: Depends on container host
	Compiler: gcc 11.5.0 20240719 (Red Hat 11.5.0-2)

Ubuntu 22.04
	Kernel: Depends on container host
	Compiler: gcc (Ubuntu 11.4.0-1ubuntu1~22.04) 11.4.0

Ubuntu 24.04
	Kernel: Depends on container host
	Compiler: gcc (Ubuntu 13.3.0-6ubuntu2~24.04) 13.3.0

Windows Server 2022
	Kernel: 10.0.20348.2031
	Compiler: clang 15.0.7, gcc 14.1.0 (MinGW), and MSVC VS 19.39.33521

To view detailed results, visit:
https://lab.dpdk.org/results/dashboard/patchsets/33188/

UNH-IOL DPDK Community Lab

To manage your email subscriptions, visit: 
https://lab.dpdk.org/results/dashboard/preferences/subscriptions/

  parent reply	other threads:[~2025-05-16 10:14 UTC|newest]

Thread overview: 25+ messages / expand[flat|nested]  mbox.gz  Atom feed  top
     [not found] <20250516071519.3190805-3-huangdengdui@huawei.com>
2025-05-16  6:43 ` |SUCCESS| pw153470-153471 [PATCH v5 2/2] net/hns3: fix Rx packet without CRC data qemudev
2025-05-16  6:47 ` qemudev
2025-05-16  7:16 ` |SUCCESS| pw153471 " checkpatch
2025-05-16  8:14 ` |SUCCESS| pw153470-153471 [PATCH] [v5,2/2] net/hns3: fix Rx packet w dpdklab
2025-05-16  8:14 ` dpdklab
2025-05-16  8:24 ` |SUCCESS| pw153471 [PATCH v5 2/2] net/hns3: fix Rx packet without CRC data 0-day Robot
2025-05-16  8:26 ` |SUCCESS| pw153470-153471 [PATCH] [v5,2/2] net/hns3: fix Rx packet w dpdklab
2025-05-16  8:26 ` dpdklab
2025-05-16  8:30 ` dpdklab
2025-05-16  8:32 ` dpdklab
2025-05-16  8:34 ` dpdklab
2025-05-16  8:44 ` dpdklab
2025-05-16  8:51 ` dpdklab
2025-05-16  8:59 ` |PENDING| " dpdklab
2025-05-16  9:22 ` dpdklab
2025-05-16  9:47 ` dpdklab
2025-05-16 10:14 ` dpdklab [this message]
2025-05-16 10:21 ` |WARNING| " dpdklab
2025-05-16 10:51 ` |SUCCESS| " dpdklab
2025-05-16 11:25 ` |WARNING| " dpdklab
2025-05-16 11:26 ` dpdklab
2025-05-16 11:34 ` |SUCCESS| " dpdklab
2025-05-16 13:01 ` dpdklab
2025-05-16 13:31 ` dpdklab
2025-05-16 20:45 ` dpdklab

Reply instructions:

You may reply publicly to this message via plain-text email
using any one of the following methods:

* Save the following mbox file, import it into your mail client,
  and reply-to-all from there: mbox

  Avoid top-posting and favor interleaved quoting:
  https://en.wikipedia.org/wiki/Posting_style#Interleaved_style

* Reply using the --to, --cc, and --in-reply-to
  switches of git-send-email(1):

  git send-email \
    --in-reply-to=68270ff0.c80a0220.356805.3dedSMTPIN_ADDED_MISSING@mx.google.com \
    --to=dpdklab@iol.unh.edu \
    --cc=dpdk-test-reports@iol.unh.edu \
    --cc=test-report@dpdk.org \
    /path/to/YOUR_REPLY

  https://kernel.org/pub/software/scm/git/docs/git-send-email.html

* If your mail client supports setting the In-Reply-To header
  via mailto: links, try the mailto: link
Be sure your reply has a Subject: header at the top and a blank line before the message body.
This is a public inbox, see mirroring instructions
for how to clone and mirror all data and code used for this inbox;
as well as URLs for NNTP newsgroup(s).