From mboxrd@z Thu Jan 1 00:00:00 1970 Return-Path: Received: from mails.dpdk.org (mails.dpdk.org [217.70.189.124]) by inbox.dpdk.org (Postfix) with ESMTP id 6731E4674B for ; Fri, 16 May 2025 12:14:59 +0200 (CEST) Received: from mails.dpdk.org (localhost [127.0.0.1]) by mails.dpdk.org (Postfix) with ESMTP id 63518400EF; Fri, 16 May 2025 12:14:59 +0200 (CEST) Received: from mail-io1-f100.google.com (mail-io1-f100.google.com [209.85.166.100]) by mails.dpdk.org (Postfix) with ESMTP id 0505240041 for ; Fri, 16 May 2025 12:14:57 +0200 (CEST) Received: by mail-io1-f100.google.com with SMTP id ca18e2360f4ac-867355d9c4eso52060139f.0 for ; Fri, 16 May 2025 03:14:56 -0700 (PDT) DKIM-Signature: v=1; a=rsa-sha256; c=relaxed/relaxed; d=iol.unh.edu; s=unh-iol; t=1747390496; x=1747995296; darn=dpdk.org; h=cc:to:from:subject:message-id:date:from:to:cc:subject:date :message-id:reply-to; bh=1PwBvJYVZok6W5YhmeyvGLuLFWnNaCyztcffCEFgqUI=; b=MTF53hiNGRG9oVxUIyX3F+xU+6f9psYGPeJBTDKwLinFLfZYmH1PjV+2KlLnPjI6Z3 I1Fhn0bqRBs3smWhcHmqDv0i8oifpsxi6R5WzkfxeVVuKoXJE9pNmuOJbLC6XQmAO8n+ /FcR6SaFYF6G/WOCDSIasfhOtkAycWK8S52aQ= X-Google-DKIM-Signature: v=1; a=rsa-sha256; c=relaxed/relaxed; d=1e100.net; s=20230601; t=1747390496; x=1747995296; h=cc:to:from:subject:message-id:date:x-gm-message-state:from:to:cc :subject:date:message-id:reply-to; bh=1PwBvJYVZok6W5YhmeyvGLuLFWnNaCyztcffCEFgqUI=; b=s6bu61z6SwMxPVRsr8+AHb5v4TaDM4+4Hg88J6wB1eiALsDz1N9GLPyZr0eCxfMjpc maVUxmu23HXQetLHoqUBDVkY3mjWOPpOQKD0BA230CTMj+Dt2bUhMTRSITlzbC6iTAae 8cxc1OmoOX6lEfl1u9mBJ3gHo5cfdx51G+zVNkNIghkoX1T56Y/tpXkQn5M5tqB0RgM5 X4+EQ5gO2BFLeqzAnSV3T8qzFk5D5q+XJ2iMk+Fp306tnChiuN4prUiHKmmJ80JPfPFS x7XHifj4dJobpMSV9aUrnBbYXHpPxkdYTM+WekdVipyuS8N4UEY2ZzQhYOklkrSA+2X5 UXfg== X-Gm-Message-State: AOJu0Yz7TAlFkhnM1/AWwbuflIODc4VYMcjKvNqIlLJGtyHIMevbG6fh SSFv9JuUjBnAv8jCJBP+cUoUnqn6EzdwLeiIkQgWc4JjnAiolzvMrypXTiIwEwmO3O2HNZNERak +7Ih1aaQ+jy99ual2sOSjFifqKsC49G8uXZ5K X-Gm-Gg: ASbGncs5Mja4+RYjN7USv/uWuhkc4TuGJEeI9AXjPlr4PhZDTFG0YJ/45XNWblAbWJi woH5yw/NFeodKnmWoJKWjcp4rJQih7ySPp5TK9dd44VudTYx3S5QuwoBtCDeahrWP9+nOj5Qkj2 JZrptUOIMX2dEulJmJB1GgcT0o616b2zboXUbot3mKg2OtvruU3eat9bGifrdC8RptvlxGRyd9q 8odt/nXS4LI0eLEq810zxPKHDOIWHWKXzGf4M0MrT9BUs/i+UFnjGVQY+4EMYcexSvBWdVjGbra +mSdtoR8zHSPeZ8PkrahVCAEE0EQjD53LT0LV9/qDtBOS1OTJJv0Q//xeyU= X-Google-Smtp-Source: AGHT+IH9mBcC4Ssb/Fb+Gb/MVxAtobUvf6IbNvh/VkdQ3VU1YT0K6uhv5K99i5KW8eZ6H+bXCiQWn0lC1KRG X-Received: by 2002:a05:6602:388b:b0:85b:3e32:9afb with SMTP id ca18e2360f4ac-86a24cd4854mr302991439f.14.1747390496232; Fri, 16 May 2025 03:14:56 -0700 (PDT) Received: from postal.iol.unh.edu (postal.iol.unh.edu. [132.177.123.84]) by smtp-relay.gmail.com with ESMTPS id 8926c6da1cb9f-4fbcc3aaa00sm81162173.19.2025.05.16.03.14.56 (version=TLS1_2 cipher=ECDHE-ECDSA-AES128-GCM-SHA256 bits=128/128); Fri, 16 May 2025 03:14:56 -0700 (PDT) X-Relaying-Domain: iol.unh.edu Date: Fri, 16 May 2025 03:14:56 -0700 (PDT) Message-ID: <68271020.050a0220.2492b4.3f06SMTPIN_ADDED_MISSING@mx.google.com> Received: from [172.21.0.7] (unknown [172.18.0.240]) by postal.iol.unh.edu (Postfix) with ESMTP id A80AC6052471; Fri, 16 May 2025 06:14:55 -0400 (EDT) Subject: |SUCCESS| [GIT MASTER] 4c5634de9f933555bab9c64a533d3dca999071cd From: dpdklab@iol.unh.edu To: Test Report Cc: dpdk-test-reports@iol.unh.edu, Xueming Li , Christian Ehrhardt , Kevin Traynor , Luca Boccassi Content-Type: text/plain X-BeenThere: test-report@dpdk.org X-Mailman-Version: 2.1.29 Precedence: list List-Id: automatic DPDK test reports List-Unsubscribe: , List-Archive: List-Post: List-Help: List-Subscribe: , Errors-To: test-report-bounces@dpdk.org _Testing PASS_ Branch: tags/v24.11 4c5634de9f933555bab9c64a533d3dca999071cd --> testing pass Upstream job id: Generic-Unit-Test-DPDK#338389 Test environment and result as below: +-----------------------------+----------------+---------------------------+------------------------------+--------------+ | Environment | dpdk_unit_test | cryptodev_sw_zuc_autotest | cryptodev_sw_snow3g_autotest | lpm_autotest | +=============================+================+===========================+==============================+==============+ | CentOS Stream 10 (ARM) | PASS | SKIPPED | SKIPPED | SKIPPED | +-----------------------------+----------------+---------------------------+------------------------------+--------------+ | CentOS Stream 9 (ARM) | PASS | SKIPPED | SKIPPED | SKIPPED | +-----------------------------+----------------+---------------------------+------------------------------+--------------+ | Fedora 41 (ARM) | PASS | SKIPPED | SKIPPED | SKIPPED | +-----------------------------+----------------+---------------------------+------------------------------+--------------+ | Fedora 40 (ARM) | PASS | SKIPPED | SKIPPED | SKIPPED | +-----------------------------+----------------+---------------------------+------------------------------+--------------+ | Fedora 40 (ARM Clang) | PASS | SKIPPED | SKIPPED | SKIPPED | +-----------------------------+----------------+---------------------------+------------------------------+--------------+ | Debian 12 (arm) | PASS | PASS | PASS | SKIPPED | +-----------------------------+----------------+---------------------------+------------------------------+--------------+ | Fedora 41 (ARM Clang) | PASS | SKIPPED | SKIPPED | SKIPPED | +-----------------------------+----------------+---------------------------+------------------------------+--------------+ | RHEL9 (ARM) | PASS | SKIPPED | SKIPPED | SKIPPED | +-----------------------------+----------------+---------------------------+------------------------------+--------------+ | Ubuntu 24.04 (ARM) | PASS | SKIPPED | SKIPPED | SKIPPED | +-----------------------------+----------------+---------------------------+------------------------------+--------------+ | Ubuntu 20.04 (ARM) | PASS | SKIPPED | SKIPPED | SKIPPED | +-----------------------------+----------------+---------------------------+------------------------------+--------------+ | Ubuntu 22.04 (ARM) | PASS | SKIPPED | SKIPPED | SKIPPED | +-----------------------------+----------------+---------------------------+------------------------------+--------------+ | 32-bit Ubuntu 22.04.4 (ARM) | PASS | SKIPPED | SKIPPED | SKIPPED | +-----------------------------+----------------+---------------------------+------------------------------+--------------+ | Ubuntu 20.04 ARM SVE | SKIPPED | SKIPPED | SKIPPED | PASS | +-----------------------------+----------------+---------------------------+------------------------------+--------------+ CentOS Stream 10 (ARM) Kernel: Depends on container host Compiler: gcc 14.2.1 20241104 (Red Hat 14.2.1-6) CentOS Stream 9 (ARM) Kernel: Depends on container host Compiler: gcc 11.5.0 20240719 (Red Hat 11.5.0-2) Fedora 41 (ARM) Kernel: Depends on container host Compiler: gcc 14.2.1 20240912 (Red Hat 14.2.1-3) Fedora 40 (ARM) Kernel: Depends on container host Compiler: gcc 14.2.1 20240912 (Red Hat 14.2.1-3) Fedora 40 (ARM Clang) Kernel: Depends on container host Compiler: clang 18.1.8 (Fedora 18.1.8-1.fc40) Debian 12 (arm) Kernel: Depends on container host Compiler: gcc (Debian 12.2.0-14) 12.2.0 Fedora 41 (ARM Clang) Kernel: Depends on container host Compiler: clang 19.1.5 (Fedora 19.1.5-1.fc41) RHEL9 (ARM) Kernel: Depends on container host Compiler: gcc 11.5.0 20240719 (Red Hat 11.5.0-2) Ubuntu 24.04 (ARM) Kernel: Depends on container host Compiler: gcc (Ubuntu 13.3.0-6ubuntu2~24.04) 13.3.0 Ubuntu 20.04 (ARM) Kernel: Depends on container host Compiler: gcc (Ubuntu 9.4.0-1ubuntu1~20.04.2) 9.4.0 Ubuntu 22.04 (ARM) Kernel: Depends on container host Compiler: gcc (Ubuntu 11.4.0-1ubuntu1~22.04) 11.4.0 32-bit Ubuntu 22.04.4 (ARM) Kernel: 5.15.83+ aarch64 Compiler: gcc (Ubuntu 11.4.0-1ubuntu1~22.04) 11.4.0 Ubuntu 20.04 ARM SVE Kernel: Depends on container host Compiler: gcc (Ubuntu 10.5.0-1ubuntu1~20.04) 10.5.0 To view detailed results, visit: https://lab.dpdk.org/results/dashboard/tarballs/33552/ UNH-IOL DPDK Community Lab To manage your email subscriptions, visit: https://lab.dpdk.org/results/dashboard/preferences/subscriptions/