From mboxrd@z Thu Jan 1 00:00:00 1970 Return-Path: Received: from mails.dpdk.org (mails.dpdk.org [217.70.189.124]) by inbox.dpdk.org (Postfix) with ESMTP id 4CDB246760 for ; Fri, 16 May 2025 12:24:10 +0200 (CEST) Received: from mails.dpdk.org (localhost [127.0.0.1]) by mails.dpdk.org (Postfix) with ESMTP id 52EFA400EF; Fri, 16 May 2025 12:24:08 +0200 (CEST) Received: from mail-pl1-f227.google.com (mail-pl1-f227.google.com [209.85.214.227]) by mails.dpdk.org (Postfix) with ESMTP id 5E8C240041 for ; Fri, 16 May 2025 12:24:06 +0200 (CEST) Received: by mail-pl1-f227.google.com with SMTP id d9443c01a7336-22e6a088e16so14868115ad.1 for ; Fri, 16 May 2025 03:24:06 -0700 (PDT) DKIM-Signature: v=1; a=rsa-sha256; c=relaxed/relaxed; d=iol.unh.edu; s=unh-iol; t=1747391045; x=1747995845; darn=dpdk.org; h=cc:to:from:subject:message-id:date:from:to:cc:subject:date :message-id:reply-to; bh=NwDP5NZ6rF7fI3Vqrlc/Lmb99qkgy1wsuzcLsqkmVrE=; b=Cr75TxZH3lV/ik1BdqAsQIwGMJzjdYeeY1rFs2LHYRWojlGTX/5Jh22a5uXHJnVvN/ GH5zSBFr5J0lSMO2qAA+SCzVW6T8HcouUny8b3GTeljCOKBt0oqIRfm5/cEYOlPy94qB fGUcqiF+8ZBlwJqLeZAA1fpS+hTI7yg4tXUPs= X-Google-DKIM-Signature: v=1; a=rsa-sha256; c=relaxed/relaxed; d=1e100.net; s=20230601; t=1747391045; x=1747995845; h=cc:to:from:subject:message-id:date:x-gm-message-state:from:to:cc :subject:date:message-id:reply-to; bh=NwDP5NZ6rF7fI3Vqrlc/Lmb99qkgy1wsuzcLsqkmVrE=; b=E9YhS8dsQLwtBfgeYYQWYNIb/zoVbZaKCvMx0h3uRTELVQXX8Y244w7lYKsze4Jxz7 oI7TaxHaARQK+pJWvJp4GKqK1/Ruj4fDirvUcvA+wpJDpjoYIWwcHY4snHVcetCUvhnw MeGmBjwzbGf8FdLf8QB0Vc27h6QkivKj8HEZdN5TrxYGWJgluKQNU2MkjTGDpajkBuoG ET6rfg4v/jpQx3/oDaEwM5BuQKrRUjWvqwDyWyxDtWnJe4/yAAOQb9WhurhAgCz6xYXo L/2vXywrSwMH83JXObWD+N9SkrM7bcEUY0317YGuWEfJVi+ATk6ObJzMK3n6xUtE5tGa o/Lw== X-Gm-Message-State: AOJu0Yw6q8OjtAqTWShNwbNEW8neDk287UjwfdvquLqMbAuOIrbZMZMH iyNTDDouGvHXlpWVgLFxvaWHYk+v+PRHEI5tSdyWuzy42Vx8Pd0sI4UAbPQg4EvKgPrdTFQFKcB 8ytv+IxGRBKi9RmLDApGnOomJmRiuMLjLpmgj2QtVjRyTUJYZHgIw X-Gm-Gg: ASbGncvLrCF7yYBqNEmcugt+xu2OU7hOkCi+XoPgYDoi/LRPdRho5F/vpo+Y7JLZBEC 5ZED1QpCg+9kpvn6/9o1imDsTkdSRWsGy1f2lV8muFF+O2L27TSpFYk4YrAAjDS6Ndcs0taYG8t p2pyO4jJxdbXo/EEzZynsyt88RnKyKt+bpP3wyqbNb/YZE98LN85JklIUlKiudiS/3WIeu/Y7Ac kXXpRuhrbKxIFJFa9hRSGyhThedcIKjYITn4ycXQ9WY8JV313GTsSjOq13iXsysosBth+VarH5X icj38wZA6YzRMqFAOi/s5m0JJoZHb722pJII X-Google-Smtp-Source: AGHT+IHDYuRBtpEG/7dJqRG4j/IPlsI1EQofUtj52G0t+ZlgEiuwamk1BvsOqxPVufq4Y04Xqsy+H7mhjvnq X-Received: by 2002:a17:902:e841:b0:215:58be:334e with SMTP id d9443c01a7336-231d4d10064mr34607955ad.10.1747391041682; Fri, 16 May 2025 03:24:01 -0700 (PDT) Received: from postal.iol.unh.edu (postal.iol.unh.edu. [2606:4100:3880:1234::84]) by smtp-relay.gmail.com with ESMTPS id d9443c01a7336-231d4e98330sm911945ad.73.2025.05.16.03.24.01 (version=TLS1_2 cipher=ECDHE-ECDSA-AES128-GCM-SHA256 bits=128/128); Fri, 16 May 2025 03:24:01 -0700 (PDT) X-Relaying-Domain: iol.unh.edu Date: Fri, 16 May 2025 03:24:01 -0700 (PDT) Message-ID: <68271241.170a0220.252af9.4740SMTPIN_ADDED_MISSING@mx.google.com> Received: from [172.21.0.9] (unknown [172.18.0.240]) by postal.iol.unh.edu (Postfix) with ESMTP id CF2EE6052471; Fri, 16 May 2025 06:24:00 -0400 (EDT) Subject: |SUCCESS| [GIT MASTER] 4401486b5e30d43a134f80f9802f60b5f43e74a8 From: dpdklab@iol.unh.edu To: Test Report Cc: dpdk-test-reports@iol.unh.edu, Xueming Li , Christian Ehrhardt , Kevin Traynor , Luca Boccassi Content-Type: text/plain X-BeenThere: test-report@dpdk.org X-Mailman-Version: 2.1.29 Precedence: list List-Id: automatic DPDK test reports List-Unsubscribe: , List-Archive: List-Post: List-Help: List-Subscribe: , Errors-To: test-report-bounces@dpdk.org _Testing PASS_ Branch: tags/v22.11 4401486b5e30d43a134f80f9802f60b5f43e74a8 --> testing pass Upstream job id: Generic-DPDK-Compile-Meson#388556 Test environment and result as below: +------------------------------------+--------------------+ | Environment | dpdk_meson_compile | +====================================+====================+ | Debian 12 with MUSDK | PASS | +------------------------------------+--------------------+ | Ubuntu 20.04 ARM GCC Cross Compile | PASS | +------------------------------------+--------------------+ | Ubuntu 20.04 ARM SVE | PASS | +------------------------------------+--------------------+ | Fedora 40 (ARM) | PASS | +------------------------------------+--------------------+ | Fedora 41 (ARM Clang) | PASS | +------------------------------------+--------------------+ | Fedora 40 (ARM Clang) | PASS | +------------------------------------+--------------------+ | Ubuntu 22.04 (ARM) | PASS | +------------------------------------+--------------------+ | Ubuntu 20.04 (ARM) | PASS | +------------------------------------+--------------------+ | Ubuntu 24.04 (ARM) | PASS | +------------------------------------+--------------------+ | Fedora 41 (ARM) | PASS | +------------------------------------+--------------------+ | CentOS Stream 9 (ARM) | PASS | +------------------------------------+--------------------+ | Debian 12 (arm) | PASS | +------------------------------------+--------------------+ | CentOS Stream 10 (ARM) | PASS | +------------------------------------+--------------------+ | RHEL9 (ARM) | PASS | +------------------------------------+--------------------+ Debian 12 with MUSDK Kernel: Depends on container host Compiler: gcc (Debian 12.2.0-14) 12.2.0 Ubuntu 20.04 ARM GCC Cross Compile Kernel: Depends on container host Compiler: aarch64-linux-gnu-gcc (Ubuntu 9.4.0-1ubuntu1~20.04.2) 9.4.0 Ubuntu 20.04 ARM SVE Kernel: Depends on container host Compiler: gcc (Ubuntu 10.5.0-1ubuntu1~20.04) 10.5.0 Fedora 40 (ARM) Kernel: Depends on container host Compiler: gcc 14.2.1 20240912 (Red Hat 14.2.1-3) Fedora 41 (ARM Clang) Kernel: Depends on container host Compiler: clang 19.1.5 (Fedora 19.1.5-1.fc41) Fedora 40 (ARM Clang) Kernel: Depends on container host Compiler: clang 18.1.8 (Fedora 18.1.8-1.fc40) Ubuntu 22.04 (ARM) Kernel: Depends on container host Compiler: gcc (Ubuntu 11.4.0-1ubuntu1~22.04) 11.4.0 Ubuntu 20.04 (ARM) Kernel: Depends on container host Compiler: gcc (Ubuntu 9.4.0-1ubuntu1~20.04.2) 9.4.0 Ubuntu 24.04 (ARM) Kernel: Depends on container host Compiler: gcc (Ubuntu 13.3.0-6ubuntu2~24.04) 13.3.0 Fedora 41 (ARM) Kernel: Depends on container host Compiler: gcc 14.2.1 20240912 (Red Hat 14.2.1-3) CentOS Stream 9 (ARM) Kernel: Depends on container host Compiler: gcc 11.5.0 20240719 (Red Hat 11.5.0-2) Debian 12 (arm) Kernel: Depends on container host Compiler: gcc (Debian 12.2.0-14) 12.2.0 CentOS Stream 10 (ARM) Kernel: Depends on container host Compiler: gcc 14.2.1 20241104 (Red Hat 14.2.1-6) RHEL9 (ARM) Kernel: Depends on container host Compiler: gcc 11.5.0 20240719 (Red Hat 11.5.0-2) To view detailed results, visit: https://lab.dpdk.org/results/dashboard/tarballs/33550/ UNH-IOL DPDK Community Lab To manage your email subscriptions, visit: https://lab.dpdk.org/results/dashboard/preferences/subscriptions/