From mboxrd@z Thu Jan 1 00:00:00 1970 Return-Path: Received: from mails.dpdk.org (mails.dpdk.org [217.70.189.124]) by inbox.dpdk.org (Postfix) with ESMTP id 182BB46760 for ; Fri, 16 May 2025 12:51:25 +0200 (CEST) Received: from mails.dpdk.org (localhost [127.0.0.1]) by mails.dpdk.org (Postfix) with ESMTP id DEB94400EF; Fri, 16 May 2025 12:51:21 +0200 (CEST) Received: from mail-pl1-f225.google.com (mail-pl1-f225.google.com [209.85.214.225]) by mails.dpdk.org (Postfix) with ESMTP id 414C740041 for ; Fri, 16 May 2025 12:51:21 +0200 (CEST) Received: by mail-pl1-f225.google.com with SMTP id d9443c01a7336-231c86bffc1so15783015ad.0 for ; Fri, 16 May 2025 03:51:21 -0700 (PDT) DKIM-Signature: v=1; a=rsa-sha256; c=relaxed/relaxed; d=iol.unh.edu; s=unh-iol; t=1747392680; x=1747997480; darn=dpdk.org; h=references:in-reply-to:cc:to:from:subject:message-id:date:from:to :cc:subject:date:message-id:reply-to; bh=/IWqcIyIVuRemiey4Fh6nY/gGLACjE4armzDutFsETs=; b=JZgNJnet1x63s9gvzZCJI3EDYmetg9UHrnVfRZGF/dBTPIXSVhvRf2rSKBpEWV4l9Y UDVawr1Nxu3yZCujfrq8EEf3SrGtlZQWMORNa5vR7QHLyqqdwc0wLBRhWYoNsiZJYk76 skIPrZLAr9vDEZjccvgCZAeMJdzMnuKDCTMzI= X-Google-DKIM-Signature: v=1; a=rsa-sha256; c=relaxed/relaxed; d=1e100.net; s=20230601; t=1747392680; x=1747997480; h=references:in-reply-to:cc:to:from:subject:message-id:date :x-gm-message-state:from:to:cc:subject:date:message-id:reply-to; bh=/IWqcIyIVuRemiey4Fh6nY/gGLACjE4armzDutFsETs=; b=qK1eQvDE1Av5LPBGk0iAPqtaQgPjjkySrGupfG7ARKw+hazDMTsL8DLa610gD9N/59 +/FwE8BPTzjPhq4OD438eexW74zLpiA0trgGxuHeQ6Tn5ROdS7BC+WQQcDAPaX7hXGEy 1B6H1GayEqsUUmp7z6nkJErTVhcUMyoTojBWdrp/1P6EBL/HS7wswKIXqa+NqqQ23VFr Am/pOlW+/+VK0W+CZg8rbxVHBbBvBpVTw9+kZTuFOF2Mju+fK/Dypvz5GFwmedTYdHNQ w6X1t0pOf7xxxJWElo1t4L13MkcyMwfYgJ0zctKT9TW50tqdncYPclCrJ8C7IW6dos33 V1Nw== X-Gm-Message-State: AOJu0Yz0pQ03ah7NpTgHf8cm+spiwC9vK/qiDzvVppjbZSc8n2FeDbe2 iCje+THYkD56ofMkiRiGN6liVsqiN8FOBwkhEQHtHkYXTEkX/HRWa9W1Af+BQ3QRP2c6QT6mA5D PGrZ8LHK7lq26QWeMlj0tyQ5MosommeNG20qTA9leTKy+ X-Gm-Gg: ASbGncvTkUQFAZ9tFO8gLY2vTjjqTnWQKAr2cVkg78Uqx0HheFLuaU2d4BNQOPmkx6m ZQ3UOMnocMTf6RmQZ2CNFsgspdUZARp0yEIPO3kK20KLi6YiGWUWe4YfWqicp6gFHwJJhEDDpq+ 6ioS8e1/bWNI4Cd3kd4AJsYIHhc3JafNSGnlWEPLr0BZdCnFshRiGwejwTI9FzB0T4tXRG9VoVS TYKskCmT4h38UyqOI8a/ZQJ/pHd93CssC3zTRBRA0QPxupf+vSS3jV8cvXM5EguzJDjn6RZu0nH nZsowbgwTj9k1yUdBGXokVYrh37WiqQK6Ktaf62XmGpoVnaz7ZpxevOIs5I= X-Google-Smtp-Source: AGHT+IFP9U8w5MEDZeTBngUhtYFrCzIWyENeTB/XjlDCmr3EWzSCzhHJ7lUAQRbdu6KRzinlH9crwot6EJA4 X-Received: by 2002:a17:903:32c4:b0:21f:564:80a4 with SMTP id d9443c01a7336-231de3ae6eemr26306515ad.33.1747392680048; Fri, 16 May 2025 03:51:20 -0700 (PDT) Received: from postal.iol.unh.edu (postal.iol.unh.edu. [132.177.123.84]) by smtp-relay.gmail.com with ESMTPS id d9443c01a7336-231d4ed165dsm955445ad.126.2025.05.16.03.51.19 (version=TLS1_2 cipher=ECDHE-ECDSA-AES128-GCM-SHA256 bits=128/128); Fri, 16 May 2025 03:51:20 -0700 (PDT) X-Relaying-Domain: iol.unh.edu Date: Fri, 16 May 2025 03:51:20 -0700 (PDT) Message-ID: <682718a8.170a0220.747eb.496eSMTPIN_ADDED_MISSING@mx.google.com> Received: from [172.21.0.6] (unknown [172.18.0.240]) by postal.iol.unh.edu (Postfix) with ESMTP id 752026052471; Fri, 16 May 2025 06:51:19 -0400 (EDT) Subject: |SUCCESS| pw153470-153471 [PATCH] [v5,2/2] net/hns3: fix Rx packet w From: dpdklab@iol.unh.edu To: Test Report Cc: dpdk-test-reports@iol.unh.edu In-Reply-To: <20250516071519.3190805-3-huangdengdui@huawei.com> References: <20250516071519.3190805-3-huangdengdui@huawei.com> Content-Type: text/plain X-BeenThere: test-report@dpdk.org X-Mailman-Version: 2.1.29 Precedence: list List-Id: automatic DPDK test reports List-Unsubscribe: , List-Archive: List-Post: List-Help: List-Subscribe: , Errors-To: test-report-bounces@dpdk.org Test-Label: iol-unit-arm64-testing Test-Status: SUCCESS http://dpdk.org/patch/153471 _Testing PASS_ Submitter: Dengdui Huang Date: Friday, May 16 2025 07:15:19 DPDK git baseline: Repo:dpdk Branch: master CommitID:ff05ee3e3f8fb4ce958a2ce6461e8141aea959c6 153470-153471 --> testing pass Upstream job id: Generic-Unit-Test-DPDK#338408 Test environment and result as below: +-----------------------------+------------------------------+--------------+---------------------------+----------------+ | Environment | cryptodev_sw_snow3g_autotest | lpm_autotest | cryptodev_sw_zuc_autotest | dpdk_unit_test | +=============================+==============================+==============+===========================+================+ | Debian 12 (arm) | PASS | SKIPPED | PASS | PASS | +-----------------------------+------------------------------+--------------+---------------------------+----------------+ | Ubuntu 20.04 ARM SVE | SKIPPED | PASS | SKIPPED | SKIPPED | +-----------------------------+------------------------------+--------------+---------------------------+----------------+ | CentOS Stream 10 (ARM) | SKIPPED | SKIPPED | SKIPPED | PASS | +-----------------------------+------------------------------+--------------+---------------------------+----------------+ | CentOS Stream 9 (ARM) | SKIPPED | SKIPPED | SKIPPED | PASS | +-----------------------------+------------------------------+--------------+---------------------------+----------------+ | Fedora 40 (ARM) | SKIPPED | SKIPPED | SKIPPED | PASS | +-----------------------------+------------------------------+--------------+---------------------------+----------------+ | Fedora 41 (ARM) | SKIPPED | SKIPPED | SKIPPED | PASS | +-----------------------------+------------------------------+--------------+---------------------------+----------------+ | Fedora 40 (ARM Clang) | SKIPPED | SKIPPED | SKIPPED | PASS | +-----------------------------+------------------------------+--------------+---------------------------+----------------+ | RHEL9 (ARM) | SKIPPED | SKIPPED | SKIPPED | PASS | +-----------------------------+------------------------------+--------------+---------------------------+----------------+ | Ubuntu 20.04 (ARM) | SKIPPED | SKIPPED | SKIPPED | PASS | +-----------------------------+------------------------------+--------------+---------------------------+----------------+ | Ubuntu 22.04 (ARM) | SKIPPED | SKIPPED | SKIPPED | PASS | +-----------------------------+------------------------------+--------------+---------------------------+----------------+ | Fedora 41 (ARM Clang) | SKIPPED | SKIPPED | SKIPPED | PASS | +-----------------------------+------------------------------+--------------+---------------------------+----------------+ | Ubuntu 24.04 (ARM) | SKIPPED | SKIPPED | SKIPPED | PASS | +-----------------------------+------------------------------+--------------+---------------------------+----------------+ | 32-bit Ubuntu 22.04.4 (ARM) | SKIPPED | SKIPPED | SKIPPED | PASS | +-----------------------------+------------------------------+--------------+---------------------------+----------------+ Debian 12 (arm) Kernel: Depends on container host Compiler: gcc (Debian 12.2.0-14) 12.2.0 Ubuntu 20.04 ARM SVE Kernel: Depends on container host Compiler: gcc (Ubuntu 10.5.0-1ubuntu1~20.04) 10.5.0 CentOS Stream 10 (ARM) Kernel: Depends on container host Compiler: gcc 14.2.1 20241104 (Red Hat 14.2.1-6) CentOS Stream 9 (ARM) Kernel: Depends on container host Compiler: gcc 11.5.0 20240719 (Red Hat 11.5.0-2) Fedora 40 (ARM) Kernel: Depends on container host Compiler: gcc 14.2.1 20240912 (Red Hat 14.2.1-3) Fedora 41 (ARM) Kernel: Depends on container host Compiler: gcc 14.2.1 20240912 (Red Hat 14.2.1-3) Fedora 40 (ARM Clang) Kernel: Depends on container host Compiler: clang 18.1.8 (Fedora 18.1.8-1.fc40) RHEL9 (ARM) Kernel: Depends on container host Compiler: gcc 11.5.0 20240719 (Red Hat 11.5.0-2) Ubuntu 20.04 (ARM) Kernel: Depends on container host Compiler: gcc (Ubuntu 9.4.0-1ubuntu1~20.04.2) 9.4.0 Ubuntu 22.04 (ARM) Kernel: Depends on container host Compiler: gcc (Ubuntu 11.4.0-1ubuntu1~22.04) 11.4.0 Fedora 41 (ARM Clang) Kernel: Depends on container host Compiler: clang 19.1.5 (Fedora 19.1.5-1.fc41) Ubuntu 24.04 (ARM) Kernel: Depends on container host Compiler: gcc (Ubuntu 13.3.0-6ubuntu2~24.04) 13.3.0 32-bit Ubuntu 22.04.4 (ARM) Kernel: 5.15.83+ aarch64 Compiler: gcc (Ubuntu 11.4.0-1ubuntu1~22.04) 11.4.0 To view detailed results, visit: https://lab.dpdk.org/results/dashboard/patchsets/33188/ UNH-IOL DPDK Community Lab To manage your email subscriptions, visit: https://lab.dpdk.org/results/dashboard/preferences/subscriptions/