From mboxrd@z Thu Jan 1 00:00:00 1970 Return-Path: Received: from mails.dpdk.org (mails.dpdk.org [217.70.189.124]) by inbox.dpdk.org (Postfix) with ESMTP id F1B0C46760 for ; Fri, 16 May 2025 13:28:23 +0200 (CEST) Received: from mails.dpdk.org (localhost [127.0.0.1]) by mails.dpdk.org (Postfix) with ESMTP id DF82340144; Fri, 16 May 2025 13:28:23 +0200 (CEST) Received: from mail-pl1-f225.google.com (mail-pl1-f225.google.com [209.85.214.225]) by mails.dpdk.org (Postfix) with ESMTP id 54645400EF for ; Fri, 16 May 2025 13:28:22 +0200 (CEST) Received: by mail-pl1-f225.google.com with SMTP id d9443c01a7336-22e4db05fe8so19251695ad.0 for ; Fri, 16 May 2025 04:28:22 -0700 (PDT) DKIM-Signature: v=1; a=rsa-sha256; c=relaxed/relaxed; d=iol.unh.edu; s=unh-iol; t=1747394901; x=1747999701; darn=dpdk.org; h=cc:to:from:subject:message-id:date:from:to:cc:subject:date :message-id:reply-to; bh=29PLyS3HEKXmBP+kEjLIrMldFexI5J2SH9LmiLZzc7A=; b=XLXdws9GDSOpOV0FVsQF0tGzL/G51YxYQHsOGIFA9Qj9vyS5r1KkavldXURDsCRBqs /wWMRBH9N8B2413rKoG7NKpKZhz/txgwi4jKYOPrU/NqoDs8zC8ODq8B/14MPEl3Ao4y gVQAbd86gTC9oSdtI2077Pv4gnbhyJwO4T3YE= X-Google-DKIM-Signature: v=1; a=rsa-sha256; c=relaxed/relaxed; d=1e100.net; s=20230601; t=1747394901; x=1747999701; h=cc:to:from:subject:message-id:date:x-gm-message-state:from:to:cc :subject:date:message-id:reply-to; bh=29PLyS3HEKXmBP+kEjLIrMldFexI5J2SH9LmiLZzc7A=; b=gz1ltRepHY2LbvgjQCj6wv+jP+kLu8I+34RSWFgNv1iDO+QbAULqzxJcIY+WH32r2Y jH09xozX5QnIPRvo3SGGgBw6mS+TAfMxOviGCkWamikGipszb4tFzbu8NgQc+EhbEC3O dlOIsfguPIbaCZJ0vhEHCqBJIfZjOStw9ENKW6W7afWQRp5tUww4LPx09vK+tmm9NIlV vg+RXnaFF4PucvaICfzipI7KMvzuTSxmTp6oUy6A3ZV3GAL5Tn5A1s231EE1cfyt1WSH 75MaKAtgwpWqzmRDlKctX0EgCsgMz+DlgV2/vrgnRuaSCJIie0G66XbvEu6RddUYLsis X6xQ== X-Gm-Message-State: AOJu0Yz9gayiKgJZAMthDWqnPmHfWH3OgGogomAsg8I/lEdZCFm2EsNZ xHA3XEzCY7YWPYlbmyDc2DzPgu+bEVKhg0uANqZNg5nnxgtY0TsH6yRV0beWeyKEeM2P9vVyHV+ KrPCxbntcmI3b+pooLTG3ksbYekZE0REC0iUg X-Gm-Gg: ASbGncsNUSdMqK8ojaPi7my6RhMD9Co8UEnK3ONdVbX9qytt5E8/h2/jVDcygC/cOz7 N7HhR5LdyM/sgcY9sNaxRzTDAjHL9fFUw8lrz/AOlGOcxiy+jKmNR6/RHA+/rLCGdCts8nPonxD qf1vvkBhY73ym47UrCnzbUcnfBlg48wgES+af6qB6rBL/bdsiG0jGu7vUVOrUGPoiVk/cXYOaIt 235w9Xd8tppB8mrXDzplWMeL7CjgGZJ1swVXFhxDsVtuTcmhxWqi6IwWiQMt4hysnP2ZFKqCtEG tD/sS0mW3kLH3mvNsjlbm9jzy7w1oRiEjGYRuDbNLmd/f3eYU8uPwnweQ6I= X-Google-Smtp-Source: AGHT+IGkB+Nyj8vAyNoOvuBjsCtmo4heb7NZOrGIYHzo7x7IwvK/i5koTclc8ggN+LsPixjJdy/Qh6wg8trm X-Received: by 2002:a17:903:11c6:b0:224:e33:889b with SMTP id d9443c01a7336-231de35f32fmr32522075ad.12.1747394901390; Fri, 16 May 2025 04:28:21 -0700 (PDT) Received: from postal.iol.unh.edu (postal.iol.unh.edu. [132.177.123.84]) by smtp-relay.gmail.com with ESMTPS id d9443c01a7336-231d4e98030sm874295ad.88.2025.05.16.04.28.21 (version=TLS1_2 cipher=ECDHE-ECDSA-AES128-GCM-SHA256 bits=128/128); Fri, 16 May 2025 04:28:21 -0700 (PDT) X-Relaying-Domain: iol.unh.edu Date: Fri, 16 May 2025 04:28:21 -0700 (PDT) Message-ID: <68272155.170a0220.1bea50.489aSMTPIN_ADDED_MISSING@mx.google.com> Received: from [172.21.0.5] (unknown [172.18.0.240]) by postal.iol.unh.edu (Postfix) with ESMTP id C45556052471; Fri, 16 May 2025 07:28:20 -0400 (EDT) Subject: |SUCCESS| [GIT MASTER] 4c5634de9f933555bab9c64a533d3dca999071cd From: dpdklab@iol.unh.edu To: Test Report Cc: dpdk-test-reports@iol.unh.edu, Xueming Li , Christian Ehrhardt , Kevin Traynor , Luca Boccassi Content-Type: text/plain X-BeenThere: test-report@dpdk.org X-Mailman-Version: 2.1.29 Precedence: list List-Id: automatic DPDK test reports List-Unsubscribe: , List-Archive: List-Post: List-Help: List-Subscribe: , Errors-To: test-report-bounces@dpdk.org _Testing PASS_ Branch: tags/v24.11 4c5634de9f933555bab9c64a533d3dca999071cd --> testing pass Upstream job id: Generic-DPDK-Compile-Meson#388607 Test environment and result as below: +------------------------------------+--------------------+ | Environment | dpdk_meson_compile | +====================================+====================+ | RHEL9 (ARM) | PASS | +------------------------------------+--------------------+ | Ubuntu 20.04 ARM GCC Cross Compile | PASS | +------------------------------------+--------------------+ | Ubuntu 20.04 ARM SVE | PASS | +------------------------------------+--------------------+ | Debian 12 with MUSDK | PASS | +------------------------------------+--------------------+ | Fedora 41 (ARM) | PASS | +------------------------------------+--------------------+ | Fedora 40 (ARM Clang) | PASS | +------------------------------------+--------------------+ | Fedora 40 (ARM) | PASS | +------------------------------------+--------------------+ | Ubuntu 22.04 (ARM) | PASS | +------------------------------------+--------------------+ | Debian 12 (arm) | PASS | +------------------------------------+--------------------+ | CentOS Stream 10 (ARM) | PASS | +------------------------------------+--------------------+ | CentOS Stream 9 (ARM) | PASS | +------------------------------------+--------------------+ | Fedora 41 (ARM Clang) | PASS | +------------------------------------+--------------------+ | Ubuntu 24.04 (ARM) | PASS | +------------------------------------+--------------------+ | Ubuntu 20.04 (ARM) | PASS | +------------------------------------+--------------------+ RHEL9 (ARM) Kernel: Depends on container host Compiler: gcc 11.5.0 20240719 (Red Hat 11.5.0-2) Ubuntu 20.04 ARM GCC Cross Compile Kernel: Depends on container host Compiler: aarch64-linux-gnu-gcc (Ubuntu 9.4.0-1ubuntu1~20.04.2) 9.4.0 Ubuntu 20.04 ARM SVE Kernel: Depends on container host Compiler: gcc (Ubuntu 10.5.0-1ubuntu1~20.04) 10.5.0 Debian 12 with MUSDK Kernel: Depends on container host Compiler: gcc (Debian 12.2.0-14) 12.2.0 Fedora 41 (ARM) Kernel: Depends on container host Compiler: gcc 14.2.1 20240912 (Red Hat 14.2.1-3) Fedora 40 (ARM Clang) Kernel: Depends on container host Compiler: clang 18.1.8 (Fedora 18.1.8-1.fc40) Fedora 40 (ARM) Kernel: Depends on container host Compiler: gcc 14.2.1 20240912 (Red Hat 14.2.1-3) Ubuntu 22.04 (ARM) Kernel: Depends on container host Compiler: gcc (Ubuntu 11.4.0-1ubuntu1~22.04) 11.4.0 Debian 12 (arm) Kernel: Depends on container host Compiler: gcc (Debian 12.2.0-14) 12.2.0 CentOS Stream 10 (ARM) Kernel: Depends on container host Compiler: gcc 14.2.1 20241104 (Red Hat 14.2.1-6) CentOS Stream 9 (ARM) Kernel: Depends on container host Compiler: gcc 11.5.0 20240719 (Red Hat 11.5.0-2) Fedora 41 (ARM Clang) Kernel: Depends on container host Compiler: clang 19.1.5 (Fedora 19.1.5-1.fc41) Ubuntu 24.04 (ARM) Kernel: Depends on container host Compiler: gcc (Ubuntu 13.3.0-6ubuntu2~24.04) 13.3.0 Ubuntu 20.04 (ARM) Kernel: Depends on container host Compiler: gcc (Ubuntu 9.4.0-1ubuntu1~20.04.2) 9.4.0 To view detailed results, visit: https://lab.dpdk.org/results/dashboard/tarballs/33552/ UNH-IOL DPDK Community Lab To manage your email subscriptions, visit: https://lab.dpdk.org/results/dashboard/preferences/subscriptions/