From mboxrd@z Thu Jan 1 00:00:00 1970 Return-Path: Received: from mails.dpdk.org (mails.dpdk.org [217.70.189.124]) by inbox.dpdk.org (Postfix) with ESMTP id EBF3546763 for ; Fri, 16 May 2025 13:56:11 +0200 (CEST) Received: from mails.dpdk.org (localhost [127.0.0.1]) by mails.dpdk.org (Postfix) with ESMTP id CEE5B402B1; Fri, 16 May 2025 13:56:11 +0200 (CEST) Received: from mail-il1-f227.google.com (mail-il1-f227.google.com [209.85.166.227]) by mails.dpdk.org (Postfix) with ESMTP id 0B08540144 for ; Fri, 16 May 2025 13:56:11 +0200 (CEST) Received: by mail-il1-f227.google.com with SMTP id e9e14a558f8ab-3d93deba52fso6638545ab.0 for ; Fri, 16 May 2025 04:56:10 -0700 (PDT) DKIM-Signature: v=1; a=rsa-sha256; c=relaxed/relaxed; d=iol.unh.edu; s=unh-iol; t=1747396570; x=1748001370; darn=dpdk.org; h=references:in-reply-to:cc:to:from:subject:message-id:date:from:to :cc:subject:date:message-id:reply-to; bh=8dYF54Sp6XFfBvj9jyGKmcu9fi+hxW3khSF5/Vv3iws=; b=ayBAMWu5BdXNEJKLVtroxr0JjVt5wsivhbPx9rTCXoeyaHqn1q1Pq+kNNNwkbiOzgF ya/s9INpxNsm8tdPKP0NcpKfWMMdzrsmJs/VzoYVu+jXXKiWVgJBS/KsYNgO/OncKFAw fqhcVfe2er/Z+caRtinb5SqpJ+Tps1CCtzzns= X-Google-DKIM-Signature: v=1; a=rsa-sha256; c=relaxed/relaxed; d=1e100.net; s=20230601; t=1747396570; x=1748001370; h=references:in-reply-to:cc:to:from:subject:message-id:date :x-gm-message-state:from:to:cc:subject:date:message-id:reply-to; bh=8dYF54Sp6XFfBvj9jyGKmcu9fi+hxW3khSF5/Vv3iws=; b=anPBkQwkpyWhrB2fNwj367WMadAAiSD/WVv5Z8KiR95y1oIBYb6tDRW1U8I73W5u0c ZOlez6974inRwZaglU5ocbhMmELxiah560GDxWWrl4coL3duSheB25gFXfQh32Ri7HJK 7RqHslGfG2uf8YDF4Ss0HyPfTjPWh90yjcpZPujwgz7Sym6TZWNa7KhnzYB/py0KsOMr X/myhfMurJA40QJgx08Ku0hcV8Rt0svw7XJtkip1PcvYnQKS/EKHpqZ7nuGca4fV1u6g Et5JcALCdKgQdlzFYxXrSBQrUJrdZQQxP1jKADityfRs/Rpykm20Yy2XyBVFtJJop3dQ ruAw== X-Gm-Message-State: AOJu0Yx1JniGlLuV2GxEtWxlioXKZ/i5PE/znVRLUzWyAoOF0zbhnvbg HYTeVr9aIRj0tiv8ENEmNgav8QZu1n+wn7pv9/DS0lxtxEe1Mqc2YgzCAxo6ZeKhT8IUzlByfhJ C5MBaJVZAACy0+tqYGppXSzukFXa4A3eogL7n6N2doO0f X-Gm-Gg: ASbGncugBsI/z2wrgOSojH6CedGDWrbuPNvzE5/A2rpRCo7aKxwR8F4n2Ro5sogdFcz YouSAE2zDHhuUvjQOY1ySmS+1rpmhicUjCs1opGLIgc0JmGY4XZeCB5PgMuzcl7PLv5SQOkEVoe STclOCneNYT8xGIpZKDHCwESEPTaYAzR98F0nkITwIHVegaXu9yrw8gHcq/bV9rBGl5DDZDilii yXj3qfapMJxyP8SLEi4ZTL4mc5NUW2T+LUPvAlTDYYaxsO/2SPAEn7BZhahUPBqznUBh57c+Fom nE3MhA94nr14QWwQ118UYyYDj2gb5xdYM5jtfzCicFIDxHfrqO7G8Zc18Hs= X-Google-Smtp-Source: AGHT+IH9BMshSLVnbALibmYMyOLj7SUQmWiN8IXeYoXW7pyFtgeZYY6zWsf8wbUUtvgqUI+MhwIMSJKFUJB3 X-Received: by 2002:a05:6e02:9:b0:3d4:4134:521a with SMTP id e9e14a558f8ab-3db85749070mr23971545ab.12.1747396570207; Fri, 16 May 2025 04:56:10 -0700 (PDT) Received: from postal.iol.unh.edu (postal.iol.unh.edu. [132.177.123.84]) by smtp-relay.gmail.com with ESMTPS id 8926c6da1cb9f-4fbcc3c57a5sm80914173.31.2025.05.16.04.56.10 (version=TLS1_2 cipher=ECDHE-ECDSA-AES128-GCM-SHA256 bits=128/128); Fri, 16 May 2025 04:56:10 -0700 (PDT) X-Relaying-Domain: iol.unh.edu Date: Fri, 16 May 2025 04:56:10 -0700 (PDT) Message-ID: <682727da.050a0220.c1fe8.3dfcSMTPIN_ADDED_MISSING@mx.google.com> Received: from [172.21.0.6] (unknown [172.18.0.240]) by postal.iol.unh.edu (Postfix) with ESMTP id B82E96052471; Fri, 16 May 2025 07:56:09 -0400 (EDT) Subject: |SUCCESS| pw153469 [PATCH] net/mlx5: align PF and VF/SF MAC addresse From: dpdklab@iol.unh.edu To: Test Report Cc: dpdk-test-reports@iol.unh.edu In-Reply-To: <20250516071032.4357-1-gavinl@nvidia.com> References: <20250516071032.4357-1-gavinl@nvidia.com> Content-Type: text/plain X-BeenThere: test-report@dpdk.org X-Mailman-Version: 2.1.29 Precedence: list List-Id: automatic DPDK test reports List-Unsubscribe: , List-Archive: List-Post: List-Help: List-Subscribe: , Errors-To: test-report-bounces@dpdk.org Test-Label: iol-abi-testing Test-Status: SUCCESS http://dpdk.org/patch/153469 _Testing PASS_ Submitter: Gavin Li Date: Friday, May 16 2025 07:10:32 DPDK git baseline: Repo:dpdk Branch: master CommitID:093601d16e51b6d2c0898486cf823e7660fab92f 153469 --> testing pass Upstream job id: Generic-DPDK-Compile-ABI#126647 Test environment and result as below: +-------------------+----------+ | Environment | abi_test | +===================+==========+ | CentOS Stream 9 | PASS | +-------------------+----------+ | CentOS Stream 10 | PASS | +-------------------+----------+ | Debian 12 | PASS | +-------------------+----------+ | Fedora 41 (Clang) | PASS | +-------------------+----------+ | Fedora 40 (Clang) | PASS | +-------------------+----------+ | Fedora 40 | PASS | +-------------------+----------+ | Fedora 41 | PASS | +-------------------+----------+ | openSUSE Leap 15 | PASS | +-------------------+----------+ | RHEL8 | PASS | +-------------------+----------+ | RHEL9 | PASS | +-------------------+----------+ | Ubuntu 24.04 | PASS | +-------------------+----------+ | Ubuntu 22.04 | PASS | +-------------------+----------+ CentOS Stream 9 Kernel: Depends on container host Compiler: gcc 11.5.0 20240719 (Red Hat 11.5.0-2) CentOS Stream 10 Kernel: Depends on container host Compiler: gcc 14.2.1 20241104 (Red Hat 14.2.1-6) Debian 12 Kernel: Depends on container host Compiler: gcc (Debian 12.2.0-14) 12.2.0 Fedora 41 (Clang) Kernel: Depends on container host Compiler: clang 19.1.5 (Fedora 19.1.5-1.fc41) Fedora 40 (Clang) Kernel: Depends on container host Compiler: clang 18.1.8 (Fedora 18.1.8-1.fc40) Fedora 40 Kernel: Depends on container host Compiler: gcc 14.2.1 20240912 (Red Hat 14.2.1-3) Fedora 41 Kernel: Depends on container host Compiler: gcc 14.2.1 20240912 (Red Hat 14.2.1-3) openSUSE Leap 15 Kernel: Depends on container host Compiler: gcc (SUSE Linux) 7.5.0 RHEL8 Kernel: Depends on container host Compiler: gcc 8.5.0 20210514 (Red Hat 8.5.0-22) RHEL9 Kernel: Depends on container host Compiler: gcc 11.5.0 20240719 (Red Hat 11.5.0-2) Ubuntu 24.04 Kernel: Depends on container host Compiler: gcc (Ubuntu 13.3.0-6ubuntu2~24.04) 13.3.0 Ubuntu 22.04 Kernel: Depends on container host Compiler: gcc (Ubuntu 11.4.0-1ubuntu1~22.04) 11.4.0 To view detailed results, visit: https://lab.dpdk.org/results/dashboard/patchsets/33187/ UNH-IOL DPDK Community Lab To manage your email subscriptions, visit: https://lab.dpdk.org/results/dashboard/preferences/subscriptions/