From mboxrd@z Thu Jan 1 00:00:00 1970 Return-Path: Received: from mails.dpdk.org (mails.dpdk.org [217.70.189.124]) by inbox.dpdk.org (Postfix) with ESMTP id 4793846760 for ; Fri, 16 May 2025 13:58:35 +0200 (CEST) Received: from mails.dpdk.org (localhost [127.0.0.1]) by mails.dpdk.org (Postfix) with ESMTP id 2776C402B1; Fri, 16 May 2025 13:58:35 +0200 (CEST) Received: from mail-pl1-f225.google.com (mail-pl1-f225.google.com [209.85.214.225]) by mails.dpdk.org (Postfix) with ESMTP id B50F040144 for ; Fri, 16 May 2025 13:58:33 +0200 (CEST) Received: by mail-pl1-f225.google.com with SMTP id d9443c01a7336-22fa48f7cb2so20702185ad.1 for ; Fri, 16 May 2025 04:58:33 -0700 (PDT) DKIM-Signature: v=1; a=rsa-sha256; c=relaxed/relaxed; d=iol.unh.edu; s=unh-iol; t=1747396713; x=1748001513; darn=dpdk.org; h=references:in-reply-to:cc:to:from:subject:message-id:date:from:to :cc:subject:date:message-id:reply-to; bh=cnaJ+ndHjAuvAwRQhZpB5K41eEDketP1CrC1B/ZhkyU=; b=SLttJQy1FTy1tePM3ZCIMJpUij5p9S4XVtQ6MPmPh+MLQ9UR5qQy15OdKymBt8DcU0 K935astQaECt+sBJS0GkBsIeBQJXZB/CG0+hRew4TSsQXvcs9uMxs/UXUDYrk2puSsOP sB0f/djVybe/jWOJb5VCtSyM/4jKVm0hwPmw4= X-Google-DKIM-Signature: v=1; a=rsa-sha256; c=relaxed/relaxed; d=1e100.net; s=20230601; t=1747396713; x=1748001513; h=references:in-reply-to:cc:to:from:subject:message-id:date :x-gm-message-state:from:to:cc:subject:date:message-id:reply-to; bh=cnaJ+ndHjAuvAwRQhZpB5K41eEDketP1CrC1B/ZhkyU=; b=wMaDBeQqgFZnXxjDJJ5KNBRLv+oBh/RVMuY+E3fCiSAsuM4tcelqlTtEarg36Ynp5L RMKSygK8owq/NwgVsgK6Avu+QS62hCvTe9s+0GcYuVrRFIbrKo6hF6LZgI82gFxEOJBp E9k6Re9fnV7nrUafZ0zF9I1LOWCVvc5sKDsaiWl50G8qCtnPaQx9HOCBwZZE9vYrIY5m OCqabsEpegPkWI/sOyD0DrH28rwUWXGn59nJlZ7FqUD1cc6gZ+IC2jyqxq125+8bo5eS zRVnXRwdIBePF+paCmuYBSNNLnEcIZ1CLii7kz+b77OkPC6qGKT8+E1bLa72X0QwZY9x HFlA== X-Gm-Message-State: AOJu0Yw0E0PyDO8sK51IxacLhT3WDRh0K46+rXfMAAlnZ350Kqs6Cu9b 6rxYwGkNqAHY3ZP4KbW0AC50AEnjfuCw4SBjo8gjROCM4lWVv/PZ7VMxwQmXESZXjJ/Vr86RmDG ndiOtbeGpkYURyUitQ3GBGzWvqFYUjoLwT4U8fmlQPM0W X-Gm-Gg: ASbGnct9mW7sBlyr8k60+e9J39TvMgIoJg0SvMb9avlRRu2mkFpsw2HyuahXpce3GCI ky0C/jCnL4UOMIjsuV43IJh1f/42VxCnbbSwrk6k4vqRGyw8rOcx+jk/hxFNcN/Rmoix2UkGyHG wrxNiMKd1YP4lyP8mmYc74C6IcwLk+Gg6TccadGMbyFFY4Ev5WU6eGTVCiMgMYCkkELknwy7S+x +Qd9as085AmenonWqjJp0PebpaTLDhO5zN4KjLa657aNWZWxDWqttnwuDCU+0G/znIuyADTwpJn rWozfyzHM7IF4UA2Ra0uI4dLjyDTVAL+S2oIwIc+UTutp3zgTNDDAi2UqBE= X-Google-Smtp-Source: AGHT+IHqU4aIEi6akew0ECN47+6KZk5Rw2UBfqxGL3kKsFG7EOrmITB8pML2HB8gvEV6ImIniqlgerd3N7Ig X-Received: by 2002:a17:903:2301:b0:224:910:23f6 with SMTP id d9443c01a7336-231d454e9a5mr38169195ad.45.1747396712766; Fri, 16 May 2025 04:58:32 -0700 (PDT) Received: from postal.iol.unh.edu (postal.iol.unh.edu. [132.177.123.84]) by smtp-relay.gmail.com with ESMTPS id d9443c01a7336-231d4abec3fsm1021525ad.32.2025.05.16.04.58.32 (version=TLS1_2 cipher=ECDHE-ECDSA-AES128-GCM-SHA256 bits=128/128); Fri, 16 May 2025 04:58:32 -0700 (PDT) X-Relaying-Domain: iol.unh.edu Date: Fri, 16 May 2025 04:58:32 -0700 (PDT) Message-ID: <68272868.170a0220.1aea17.51faSMTPIN_ADDED_MISSING@mx.google.com> Received: from [172.21.0.7] (unknown [172.18.0.240]) by postal.iol.unh.edu (Postfix) with ESMTP id E2EB46052471; Fri, 16 May 2025 07:58:31 -0400 (EDT) Subject: |SUCCESS| pw153469 [PATCH] net/mlx5: align PF and VF/SF MAC addresse From: dpdklab@iol.unh.edu To: Test Report Cc: dpdk-test-reports@iol.unh.edu In-Reply-To: <20250516071032.4357-1-gavinl@nvidia.com> References: <20250516071032.4357-1-gavinl@nvidia.com> Content-Type: text/plain X-BeenThere: test-report@dpdk.org X-Mailman-Version: 2.1.29 Precedence: list List-Id: automatic DPDK test reports List-Unsubscribe: , List-Archive: List-Post: List-Help: List-Subscribe: , Errors-To: test-report-bounces@dpdk.org Test-Label: iol-abi-testing Test-Status: SUCCESS http://dpdk.org/patch/153469 _Testing PASS_ Submitter: Gavin Li Date: Friday, May 16 2025 07:10:32 DPDK git baseline: Repo:dpdk Branch: master CommitID:093601d16e51b6d2c0898486cf823e7660fab92f 153469 --> testing pass Upstream job id: Generic-DPDK-Compile-ABI#126651 Test environment and result as below: +-------------------+----------+ | Environment | abi_test | +===================+==========+ | CentOS Stream 9 | PASS | +-------------------+----------+ | CentOS Stream 10 | PASS | +-------------------+----------+ | Debian 12 | PASS | +-------------------+----------+ | Fedora 41 (Clang) | PASS | +-------------------+----------+ | Fedora 40 (Clang) | PASS | +-------------------+----------+ | Fedora 40 | PASS | +-------------------+----------+ | Fedora 41 | PASS | +-------------------+----------+ | openSUSE Leap 15 | PASS | +-------------------+----------+ | RHEL8 | PASS | +-------------------+----------+ | RHEL9 | PASS | +-------------------+----------+ | Ubuntu 24.04 | PASS | +-------------------+----------+ | Ubuntu 22.04 | PASS | +-------------------+----------+ CentOS Stream 9 Kernel: Depends on container host Compiler: gcc 11.5.0 20240719 (Red Hat 11.5.0-2) CentOS Stream 10 Kernel: Depends on container host Compiler: gcc 14.2.1 20241104 (Red Hat 14.2.1-6) Debian 12 Kernel: Depends on container host Compiler: gcc (Debian 12.2.0-14) 12.2.0 Fedora 41 (Clang) Kernel: Depends on container host Compiler: clang 19.1.5 (Fedora 19.1.5-1.fc41) Fedora 40 (Clang) Kernel: Depends on container host Compiler: clang 18.1.8 (Fedora 18.1.8-1.fc40) Fedora 40 Kernel: Depends on container host Compiler: gcc 14.2.1 20240912 (Red Hat 14.2.1-3) Fedora 41 Kernel: Depends on container host Compiler: gcc 14.2.1 20240912 (Red Hat 14.2.1-3) openSUSE Leap 15 Kernel: Depends on container host Compiler: gcc (SUSE Linux) 7.5.0 RHEL8 Kernel: Depends on container host Compiler: gcc 8.5.0 20210514 (Red Hat 8.5.0-22) RHEL9 Kernel: Depends on container host Compiler: gcc 11.5.0 20240719 (Red Hat 11.5.0-2) Ubuntu 24.04 Kernel: Depends on container host Compiler: gcc (Ubuntu 13.3.0-6ubuntu2~24.04) 13.3.0 Ubuntu 22.04 Kernel: Depends on container host Compiler: gcc (Ubuntu 11.4.0-1ubuntu1~22.04) 11.4.0 To view detailed results, visit: https://lab.dpdk.org/results/dashboard/patchsets/33187/ UNH-IOL DPDK Community Lab To manage your email subscriptions, visit: https://lab.dpdk.org/results/dashboard/preferences/subscriptions/