From mboxrd@z Thu Jan 1 00:00:00 1970 Return-Path: Received: from mails.dpdk.org (mails.dpdk.org [217.70.189.124]) by inbox.dpdk.org (Postfix) with ESMTP id 0985246762 for ; Fri, 16 May 2025 15:03:20 +0200 (CEST) Received: from mails.dpdk.org (localhost [127.0.0.1]) by mails.dpdk.org (Postfix) with ESMTP id DEDEA40292; Fri, 16 May 2025 15:03:19 +0200 (CEST) Received: from mail-yw1-f227.google.com (mail-yw1-f227.google.com [209.85.128.227]) by mails.dpdk.org (Postfix) with ESMTP id E95784028F for ; Fri, 16 May 2025 15:03:18 +0200 (CEST) Received: by mail-yw1-f227.google.com with SMTP id 00721157ae682-70825de932bso34430867b3.0 for ; Fri, 16 May 2025 06:03:18 -0700 (PDT) DKIM-Signature: v=1; a=rsa-sha256; c=relaxed/relaxed; d=iol.unh.edu; s=unh-iol; t=1747400598; x=1748005398; darn=dpdk.org; h=references:in-reply-to:cc:to:from:subject:message-id:date:from:to :cc:subject:date:message-id:reply-to; bh=QZvYDiCC01Yfq5eOZ7Jjd8BjYbOhAPbajCuab1+jqvc=; b=MQGftrQvU/7+b6sy/mHr0ulff9sPJHZJe2EvqkeHKTWBz0DMnP3Wsb30OaAJQzSCjl BxhTCm5/FAZN4McbD1moLJ98rKzRKExeOrJGlP1wYxUpksI08OBV1Q3GcUWEoZl4UiLL iGXSBezpf3WOkb2pW0zb4Am+VDQt8WPIBVjuE= X-Google-DKIM-Signature: v=1; a=rsa-sha256; c=relaxed/relaxed; d=1e100.net; s=20230601; t=1747400598; x=1748005398; h=references:in-reply-to:cc:to:from:subject:message-id:date :x-gm-message-state:from:to:cc:subject:date:message-id:reply-to; bh=QZvYDiCC01Yfq5eOZ7Jjd8BjYbOhAPbajCuab1+jqvc=; b=Iz3d5N3EC/RfzleXI88+ASdXvpehuVjlRpzYlnHf9T4x4Kkt2/ls9UbOIXNkcXuIC4 J2M8UJNZOQA6W2d+qU/fuw/elXt2NBTtBGFZ3Q1uHmQoEXYXvWDILhU66886+3S53WWE 4jZXkthiaqqbqmmlEjsfWNCMy3ETKy7EZGXhuN2V9KKz3MedOmF8BGUC3q5wu5CGfyzi JYneoSbK+WYZFhH5CLZykSYOY5lqN9YWqLMecldyQ1/6oueE4aBY5wTKyR6RnpFx4bvE JViclxH16UiYj7ne7ySJU3/wdLj2//e8d1isCVHDdTGCBcF2kbsNI1ekuUUEm6DeUY8m 7+lQ== X-Gm-Message-State: AOJu0YyCngKbMzowoClRMTs7avO5oEmTqfG/11f3NW0J94i0RPYvOgzm qCddS0GpD4JG424Hy3CId6DT2Q4KkKdXiNu1vE0wtTtE6KnDusNzAd7VEWoFmIgQeSkQFufzK+U 0KL3ZiuQtSi4+sM3k42DGusXOVt7RpHX5gx0N+Pxv/mxM X-Gm-Gg: ASbGncvZfyKITgZwvO4Aj98Q5RHLKFtvQNRy6DwHUuSAXedS8ZDMbCDYMpEU+J9MHB3 BV2NL/vTwxz00JF0FLWlQuCP7NxVDIduxxCBHiSU86IHQNmgoGWt6FHZYYOv7LOrPrFsY7sV05g dtCgLy3laUYsHA0g82Fq+eFTInOk6xovlLJYJZlX2IfqBWq7Y9vb/g/GWsk6wH/aLoucZ+0MKOu /u9nKINzVW8KooVZVnPHgu8LjxU0NRku7klyrGVMWpeQMo8vEsfRxUpnpQYQWoiBLLxAD1lHXk0 ezDnY9JKXscH3lDXnfssQonH1jskWHu0hH1risuitv1MUO/zxZaV5g2V2mw= X-Google-Smtp-Source: AGHT+IFJtp5sm9WY4RVFRdfrfe2iqyfwOrxCoYR2K7gsGgfUh5pnpDwQ9jx9JbIjS+SOO69o6JLOvO4z5JRj X-Received: by 2002:a05:690c:dd3:b0:6f9:b027:1bfc with SMTP id 00721157ae682-70c8fcf7e15mr105407267b3.3.1747400597944; Fri, 16 May 2025 06:03:17 -0700 (PDT) Received: from postal.iol.unh.edu (postal.iol.unh.edu. [132.177.123.84]) by smtp-relay.gmail.com with ESMTPS id 00721157ae682-70ca8324d1fsm547907b3.23.2025.05.16.06.03.17 (version=TLS1_2 cipher=ECDHE-ECDSA-AES128-GCM-SHA256 bits=128/128); Fri, 16 May 2025 06:03:17 -0700 (PDT) X-Relaying-Domain: iol.unh.edu Date: Fri, 16 May 2025 06:03:17 -0700 (PDT) Message-ID: <68273795.050a0220.2a995e.2ccdSMTPIN_ADDED_MISSING@mx.google.com> Received: from [172.21.0.5] (unknown [172.18.0.240]) by postal.iol.unh.edu (Postfix) with ESMTP id 8B7566052471; Fri, 16 May 2025 09:03:17 -0400 (EDT) Subject: |SUCCESS| pw153481-153484 [PATCH] [v3,4/4] app/testpmd: fix obtain i From: dpdklab@iol.unh.edu To: Test Report Cc: dpdk-test-reports@iol.unh.edu In-Reply-To: <20250516092840.2061252-5-huangdengdui@huawei.com> References: <20250516092840.2061252-5-huangdengdui@huawei.com> Content-Type: text/plain X-BeenThere: test-report@dpdk.org X-Mailman-Version: 2.1.29 Precedence: list List-Id: automatic DPDK test reports List-Unsubscribe: , List-Archive: List-Post: List-Help: List-Subscribe: , Errors-To: test-report-bounces@dpdk.org Test-Label: iol-unit-arm64-testing Test-Status: SUCCESS http://dpdk.org/patch/153484 _Testing PASS_ Submitter: Dengdui Huang Date: Friday, May 16 2025 09:28:40 DPDK git baseline: Repo:dpdk Branch: master CommitID:ff05ee3e3f8fb4ce958a2ce6461e8141aea959c6 153481-153484 --> testing pass Upstream job id: Generic-Unit-Test-DPDK#338441 Test environment and result as below: +-----------------------------+----------------+--------------+---------------------------+------------------------------+ | Environment | dpdk_unit_test | lpm_autotest | cryptodev_sw_zuc_autotest | cryptodev_sw_snow3g_autotest | +=============================+================+==============+===========================+==============================+ | Debian 12 (arm) | PASS | SKIPPED | PASS | PASS | +-----------------------------+----------------+--------------+---------------------------+------------------------------+ | CentOS Stream 10 (ARM) | PASS | SKIPPED | SKIPPED | SKIPPED | +-----------------------------+----------------+--------------+---------------------------+------------------------------+ | Fedora 40 (ARM) | PASS | SKIPPED | SKIPPED | SKIPPED | +-----------------------------+----------------+--------------+---------------------------+------------------------------+ | CentOS Stream 9 (ARM) | PASS | SKIPPED | SKIPPED | SKIPPED | +-----------------------------+----------------+--------------+---------------------------+------------------------------+ | Fedora 41 (ARM) | PASS | SKIPPED | SKIPPED | SKIPPED | +-----------------------------+----------------+--------------+---------------------------+------------------------------+ | Fedora 41 (ARM Clang) | PASS | SKIPPED | SKIPPED | SKIPPED | +-----------------------------+----------------+--------------+---------------------------+------------------------------+ | RHEL9 (ARM) | PASS | SKIPPED | SKIPPED | SKIPPED | +-----------------------------+----------------+--------------+---------------------------+------------------------------+ | Fedora 40 (ARM Clang) | PASS | SKIPPED | SKIPPED | SKIPPED | +-----------------------------+----------------+--------------+---------------------------+------------------------------+ | Ubuntu 22.04 (ARM) | PASS | SKIPPED | SKIPPED | SKIPPED | +-----------------------------+----------------+--------------+---------------------------+------------------------------+ | Ubuntu 24.04 (ARM) | PASS | SKIPPED | SKIPPED | SKIPPED | +-----------------------------+----------------+--------------+---------------------------+------------------------------+ | Ubuntu 20.04 (ARM) | PASS | SKIPPED | SKIPPED | SKIPPED | +-----------------------------+----------------+--------------+---------------------------+------------------------------+ | 32-bit Ubuntu 22.04.4 (ARM) | PASS | SKIPPED | SKIPPED | SKIPPED | +-----------------------------+----------------+--------------+---------------------------+------------------------------+ | Ubuntu 20.04 ARM SVE | SKIPPED | PASS | SKIPPED | SKIPPED | +-----------------------------+----------------+--------------+---------------------------+------------------------------+ Debian 12 (arm) Kernel: Depends on container host Compiler: gcc (Debian 12.2.0-14) 12.2.0 CentOS Stream 10 (ARM) Kernel: Depends on container host Compiler: gcc 14.2.1 20241104 (Red Hat 14.2.1-6) Fedora 40 (ARM) Kernel: Depends on container host Compiler: gcc 14.2.1 20240912 (Red Hat 14.2.1-3) CentOS Stream 9 (ARM) Kernel: Depends on container host Compiler: gcc 11.5.0 20240719 (Red Hat 11.5.0-2) Fedora 41 (ARM) Kernel: Depends on container host Compiler: gcc 14.2.1 20240912 (Red Hat 14.2.1-3) Fedora 41 (ARM Clang) Kernel: Depends on container host Compiler: clang 19.1.5 (Fedora 19.1.5-1.fc41) RHEL9 (ARM) Kernel: Depends on container host Compiler: gcc 11.5.0 20240719 (Red Hat 11.5.0-2) Fedora 40 (ARM Clang) Kernel: Depends on container host Compiler: clang 18.1.8 (Fedora 18.1.8-1.fc40) Ubuntu 22.04 (ARM) Kernel: Depends on container host Compiler: gcc (Ubuntu 11.4.0-1ubuntu1~22.04) 11.4.0 Ubuntu 24.04 (ARM) Kernel: Depends on container host Compiler: gcc (Ubuntu 13.3.0-6ubuntu2~24.04) 13.3.0 Ubuntu 20.04 (ARM) Kernel: Depends on container host Compiler: gcc (Ubuntu 9.4.0-1ubuntu1~20.04.2) 9.4.0 32-bit Ubuntu 22.04.4 (ARM) Kernel: 5.15.83+ aarch64 Compiler: gcc (Ubuntu 11.4.0-1ubuntu1~22.04) 11.4.0 Ubuntu 20.04 ARM SVE Kernel: Depends on container host Compiler: gcc (Ubuntu 10.5.0-1ubuntu1~20.04) 10.5.0 To view detailed results, visit: https://lab.dpdk.org/results/dashboard/patchsets/33190/ UNH-IOL DPDK Community Lab To manage your email subscriptions, visit: https://lab.dpdk.org/results/dashboard/preferences/subscriptions/