From mboxrd@z Thu Jan 1 00:00:00 1970 Return-Path: Received: from mails.dpdk.org (mails.dpdk.org [217.70.189.124]) by inbox.dpdk.org (Postfix) with ESMTP id ED04346762 for ; Fri, 16 May 2025 15:13:46 +0200 (CEST) Received: from mails.dpdk.org (localhost [127.0.0.1]) by mails.dpdk.org (Postfix) with ESMTP id E7C3E40292; Fri, 16 May 2025 15:13:46 +0200 (CEST) Received: from mail-pf1-f225.google.com (mail-pf1-f225.google.com [209.85.210.225]) by mails.dpdk.org (Postfix) with ESMTP id F04574028F for ; Fri, 16 May 2025 15:13:45 +0200 (CEST) Received: by mail-pf1-f225.google.com with SMTP id d2e1a72fcca58-74267c68c11so1982374b3a.0 for ; Fri, 16 May 2025 06:13:45 -0700 (PDT) DKIM-Signature: v=1; a=rsa-sha256; c=relaxed/relaxed; d=iol.unh.edu; s=unh-iol; t=1747401225; x=1748006025; darn=dpdk.org; h=references:in-reply-to:cc:to:from:subject:message-id:date:from:to :cc:subject:date:message-id:reply-to; bh=jncKG9AGLeqdM6gNwb7KZvSaE4NbGSHcY1FLDjL2x3g=; b=HYivFxjoNce9xUZqX5g4Tyc9tlOw81VbZ1v0fIr3ilwFqE+ocHPIpPHyX6O1I9oy1v Qs2b/nIMdDppEgGeZS/3950AGwbtaaNiGQD6pXqzn5yNRfy6epcdADLaRjSoEOb6qIG9 UCBG4KGSsImnumrkRgiESpAU3HupBF35dKrhM= X-Google-DKIM-Signature: v=1; a=rsa-sha256; c=relaxed/relaxed; d=1e100.net; s=20230601; t=1747401225; x=1748006025; h=references:in-reply-to:cc:to:from:subject:message-id:date :x-gm-message-state:from:to:cc:subject:date:message-id:reply-to; bh=jncKG9AGLeqdM6gNwb7KZvSaE4NbGSHcY1FLDjL2x3g=; b=ZtuKPQnLr9OS/dTOPK1hFrqXUQEHyk1j7MlQDbSse2heXk4R82Xca8HUyv6bpevnlW hFzSWQnORrkVuTXo22qlDQ7qmkgFxPwmJeG9xqrSSupHsijqovYuCeYmeqLbYkueY3AP qGUTKkKMpsrXtz7aikN1oLLUAAtb6vDKShPtrhFYGVtUKJ77M5ce0HE68KT+tQ4Z94VA qQMyecKHYOrZW6SrI/cuBuEsmI4akLiHuP0cf4katgFIqq6VRoyg8Fjhg7zjbyKRfNyw 0YFQLrwOgN3VdD10QRK+bc9oLkBCZ/fEym5EkpJyMqm0++bF+qYEnXI+TAOGTafeMsJ6 +Ifg== X-Gm-Message-State: AOJu0YxO17a6lkVrJb6MhKOvsr4SiZhJT2OHarCBe7Yj5u4h4gfXphTk zeCRSiUEZw5fVgpHljzIJQIErRp0wy91CIx/9rBSPj0qmZo5d28Nt1Rouj+hl5zFPIeRuiLYYyK w2BHse2oeND7qRHAUatDmafQFRt7YT03bV6gdG9dIC/L9 X-Gm-Gg: ASbGnctrPPlr3qvWDpo0QayTljTUz5jsKS7wp+kXKdErDU5rSYP15pG/fInG/TON0mE 1XjZcXA2wneOr14IEt9DYimHYgNKQs1iysaCaOeyt2w+7T2S8cMt89MlxT7/+PXWSl48VBtI0oS hTpDcfzpcDcvS7PwfyszFXx9Ca1mp8JqPP5tQ7MbGLaVcNx/6EifLHcCn5Ao1uY/PskoJ0xc8YJ 81ENtKNb8tbvh8T6uzMeQeWVDQdN/NrMEtz0AVRpZb9wtNmUvIQU5dkVHO+Essoj+yUvG0AAV2m 0RfwBaMa3BmpNYvOoPKDYlv9jQhQqBy92YL9y1NfuqIo4Ou2OesdyelOCeM= X-Google-Smtp-Source: AGHT+IF81GahrBwuAoEMwsf5JBi++V8tKCyeAm2WxKN7HWt2/0AQd3tufpKT4nZ5TpGjQZN+M6kScKhTZGcl X-Received: by 2002:a17:903:1c3:b0:224:1074:6393 with SMTP id d9443c01a7336-231de3b91d3mr35922195ad.43.1747401225005; Fri, 16 May 2025 06:13:45 -0700 (PDT) Received: from postal.iol.unh.edu (postal.iol.unh.edu. [132.177.123.84]) by smtp-relay.gmail.com with ESMTPS id d9443c01a7336-231d4eb9456sm1141435ad.96.2025.05.16.06.13.44 (version=TLS1_2 cipher=ECDHE-ECDSA-AES128-GCM-SHA256 bits=128/128); Fri, 16 May 2025 06:13:44 -0700 (PDT) X-Relaying-Domain: iol.unh.edu Date: Fri, 16 May 2025 06:13:44 -0700 (PDT) Message-ID: <68273a08.170a0220.2a53f.5b6fSMTPIN_ADDED_MISSING@mx.google.com> Received: from [172.21.0.6] (unknown [172.18.0.240]) by postal.iol.unh.edu (Postfix) with ESMTP id 367786052471; Fri, 16 May 2025 09:13:44 -0400 (EDT) Subject: |SUCCESS| pw153481-153484 [PATCH] [v3,4/4] app/testpmd: fix obtain i From: dpdklab@iol.unh.edu To: Test Report Cc: dpdk-test-reports@iol.unh.edu In-Reply-To: <20250516092840.2061252-5-huangdengdui@huawei.com> References: <20250516092840.2061252-5-huangdengdui@huawei.com> Content-Type: text/plain X-BeenThere: test-report@dpdk.org X-Mailman-Version: 2.1.29 Precedence: list List-Id: automatic DPDK test reports List-Unsubscribe: , List-Archive: List-Post: List-Help: List-Subscribe: , Errors-To: test-report-bounces@dpdk.org Test-Label: iol-unit-amd64-testing Test-Status: SUCCESS http://dpdk.org/patch/153484 _Testing PASS_ Submitter: Dengdui Huang Date: Friday, May 16 2025 09:28:40 DPDK git baseline: Repo:dpdk Branch: master CommitID:ff05ee3e3f8fb4ce958a2ce6461e8141aea959c6 153481-153484 --> testing pass Upstream job id: Generic-Unit-Test-DPDK#338439 Test environment and result as below: +---------------------+----------------+ | Environment | dpdk_unit_test | +=====================+================+ | CentOS Stream 9 | PASS | +---------------------+----------------+ | CentOS Stream 10 | PASS | +---------------------+----------------+ | Fedora 40 | PASS | +---------------------+----------------+ | Debian 12 | PASS | +---------------------+----------------+ | Fedora 40 (Clang) | PASS | +---------------------+----------------+ | Fedora 41 (Clang) | PASS | +---------------------+----------------+ | RHEL8 | PASS | +---------------------+----------------+ | RHEL9 | PASS | +---------------------+----------------+ | Ubuntu 22.04 | PASS | +---------------------+----------------+ | Ubuntu 20.04 | PASS | +---------------------+----------------+ | Fedora 41 | PASS | +---------------------+----------------+ | Ubuntu 24.04 | PASS | +---------------------+----------------+ | Windows Server 2022 | PASS | +---------------------+----------------+ CentOS Stream 9 Kernel: Depends on container host Compiler: gcc 11.5.0 20240719 (Red Hat 11.5.0-2) CentOS Stream 10 Kernel: Depends on container host Compiler: gcc 14.2.1 20241104 (Red Hat 14.2.1-6) Fedora 40 Kernel: Depends on container host Compiler: gcc 14.2.1 20240912 (Red Hat 14.2.1-3) Debian 12 Kernel: Depends on container host Compiler: gcc (Debian 12.2.0-14) 12.2.0 Fedora 40 (Clang) Kernel: Depends on container host Compiler: clang 18.1.8 (Fedora 18.1.8-1.fc40) Fedora 41 (Clang) Kernel: Depends on container host Compiler: clang 19.1.5 (Fedora 19.1.5-1.fc41) RHEL8 Kernel: Depends on container host Compiler: gcc 8.5.0 20210514 (Red Hat 8.5.0-22) RHEL9 Kernel: Depends on container host Compiler: gcc 11.5.0 20240719 (Red Hat 11.5.0-2) Ubuntu 22.04 Kernel: Depends on container host Compiler: gcc (Ubuntu 11.4.0-1ubuntu1~22.04) 11.4.0 Ubuntu 20.04 Kernel: Depends on container host Compiler: gcc (Ubuntu 9.4.0-1ubuntu1~20.04.2) 9.4.0 Fedora 41 Kernel: Depends on container host Compiler: gcc 14.2.1 20240912 (Red Hat 14.2.1-3) Ubuntu 24.04 Kernel: Depends on container host Compiler: gcc (Ubuntu 13.3.0-6ubuntu2~24.04) 13.3.0 Windows Server 2022 Kernel: 10.0.20348.2031 Compiler: clang 15.0.7, gcc 14.1.0 (MinGW), and MSVC VS 19.39.33521 To view detailed results, visit: https://lab.dpdk.org/results/dashboard/patchsets/33190/ UNH-IOL DPDK Community Lab To manage your email subscriptions, visit: https://lab.dpdk.org/results/dashboard/preferences/subscriptions/