From mboxrd@z Thu Jan 1 00:00:00 1970 Return-Path: Received: from mails.dpdk.org (mails.dpdk.org [217.70.189.124]) by inbox.dpdk.org (Postfix) with ESMTP id 627DB46762 for ; Fri, 16 May 2025 15:31:42 +0200 (CEST) Received: from mails.dpdk.org (localhost [127.0.0.1]) by mails.dpdk.org (Postfix) with ESMTP id 5D59140616; Fri, 16 May 2025 15:31:42 +0200 (CEST) Received: from mail-pf1-f228.google.com (mail-pf1-f228.google.com [209.85.210.228]) by mails.dpdk.org (Postfix) with ESMTP id 858844042C for ; Fri, 16 May 2025 15:31:40 +0200 (CEST) Received: by mail-pf1-f228.google.com with SMTP id d2e1a72fcca58-74237a74f15so2928827b3a.0 for ; Fri, 16 May 2025 06:31:40 -0700 (PDT) DKIM-Signature: v=1; a=rsa-sha256; c=relaxed/relaxed; d=iol.unh.edu; s=unh-iol; t=1747402300; x=1748007100; darn=dpdk.org; h=references:in-reply-to:cc:to:from:subject:message-id:date:from:to :cc:subject:date:message-id:reply-to; bh=18bEr2PzwpdS28/nfcw8zpy/WEAfm9MJ3WJnHsSe7MY=; b=TJfWv9efCR/rfnNRp7Fv4KNuSmF9nTtX4J3vuvq/U5fAXSnmg1v6/qtQJog4rFX/ag zZq3xKYjfC2cV1aeMxDP+PL3hO55gusm6z6NhJ/imUmHLVafIR8hMMgFTCBktZaBp+/m z8I3EnyTGwqeYcBY56bQ47p6d1pywoDPFuCAE= X-Google-DKIM-Signature: v=1; a=rsa-sha256; c=relaxed/relaxed; d=1e100.net; s=20230601; t=1747402300; x=1748007100; h=references:in-reply-to:cc:to:from:subject:message-id:date :x-gm-message-state:from:to:cc:subject:date:message-id:reply-to; bh=18bEr2PzwpdS28/nfcw8zpy/WEAfm9MJ3WJnHsSe7MY=; b=aCPHD5QIkaF0VBUFOMFy38VAm1tihhVlETYlEoVRrKmZaGnuG8Pzvx8GccOvOmoP1e Mc4CviG4RorokLv5Tt6gZB77zbTfOt3Y1LOXDWIt7+01Dic23JUUm+PZCzu5K1mdyGwF aCKLyeaAmXRsCytpglE2vce6w45pYYMipTudEn/nOitPbODUnnkzj0HwdpFZgsP0FNEX /l9r1v1fF8zGXvEo7elcyNsCJi0obi1cuSbIxlIXwnYbpCScdDqVN0Xza8nGUMDKbTH/ 6a1yTINFvpdpXCrmIqSkk3XI62yrlY5EEV44BtW9P7bRMUpeIJ++FMB3z2CLNAlguEfd GqiA== X-Gm-Message-State: AOJu0YwHoHRS6uphz+IRvWD2LMlD1kH/N+UywTR44KsOs3oqJn0lM2mC V94Zlk/trGn0myTEAhXO12vtQSK7YlebXfyjCZ3PyGOcuvF7bRgkdswv+vhQ7aLZB42Nkujj0CC +Tl5bfkrTT6o3q67wjsnIvGgEbsHyK/AoMzH1KFKEEA/C X-Gm-Gg: ASbGnct9pObkMDUbLr0F8vYwaR9pkWPZq8hFLVo8OlhqEb1T3NKLsMRpgTJiQukzKOg B9AhuqtK50YNQpIaLZFwM/2M9fshtVewDQ8UynUHp/bOezGnlwC0xhzKtmrrqELRtR5gKf7X9ky rega8skCd+5lRtvnLwmpYbkfug6nxTECOuqQTQdL0GUz2x6WJAzC00NubJqLW4ngbv0Bs1O/+Ys q/LzCeqzowUOPo/MU6NdkItWzdyAzmT9zwXay6uPAvF7pJpYmGhTL9gs1rFuD01yWHeYfxlCBQk KhBg9419SBY5sTMpoN4pc17J4hAlKkZR1bPkLks/hm44FAfoFRz/QciBUSY= X-Google-Smtp-Source: AGHT+IGSAYlURhZF/Tsc7XmLDnIFxF72ALWts+PRg4d28MPQLsSnro3mHCqAjLSfn9E5RWGWxkbEegIQiyXd X-Received: by 2002:a05:6a00:10c6:b0:740:a52f:9652 with SMTP id d2e1a72fcca58-742a97aa35emr4079888b3a.6.1747402299694; Fri, 16 May 2025 06:31:39 -0700 (PDT) Received: from postal.iol.unh.edu (postal.iol.unh.edu. [132.177.123.84]) by smtp-relay.gmail.com with ESMTPS id d2e1a72fcca58-742a973cd65sm106554b3a.7.2025.05.16.06.31.39 (version=TLS1_2 cipher=ECDHE-ECDSA-AES128-GCM-SHA256 bits=128/128); Fri, 16 May 2025 06:31:39 -0700 (PDT) X-Relaying-Domain: iol.unh.edu Date: Fri, 16 May 2025 06:31:39 -0700 (PDT) Message-ID: <68273e3b.050a0220.276baf.5baaSMTPIN_ADDED_MISSING@mx.google.com> Received: from [172.21.0.5] (unknown [172.18.0.240]) by postal.iol.unh.edu (Postfix) with ESMTP id 2A5C26052471; Fri, 16 May 2025 09:31:39 -0400 (EDT) Subject: |SUCCESS| pw153470-153471 [PATCH] [v5,2/2] net/hns3: fix Rx packet w From: dpdklab@iol.unh.edu To: Test Report Cc: dpdk-test-reports@iol.unh.edu In-Reply-To: <20250516071519.3190805-3-huangdengdui@huawei.com> References: <20250516071519.3190805-3-huangdengdui@huawei.com> Content-Type: text/plain X-BeenThere: test-report@dpdk.org X-Mailman-Version: 2.1.29 Precedence: list List-Id: automatic DPDK test reports List-Unsubscribe: , List-Archive: List-Post: List-Help: List-Subscribe: , Errors-To: test-report-bounces@dpdk.org Test-Label: iol-compile-arm64-testing Test-Status: SUCCESS http://dpdk.org/patch/153471 _Testing PASS_ Submitter: Dengdui Huang Date: Friday, May 16 2025 07:15:19 DPDK git baseline: Repo:dpdk Branch: master CommitID:ff05ee3e3f8fb4ce958a2ce6461e8141aea959c6 153470-153471 --> testing pass Upstream job id: Generic-DPDK-Compile-Meson#388632 Test environment and result as below: +----------------------------------------+--------------------+ | Environment | dpdk_meson_compile | +========================================+====================+ | RHEL9 (ARM) | PASS | +----------------------------------------+--------------------+ | Ubuntu 20.04 ARM GCC Cross Compile | PASS | +----------------------------------------+--------------------+ | Ubuntu 20.04 ARM SVE | PASS | +----------------------------------------+--------------------+ | Debian 12 with MUSDK | PASS | +----------------------------------------+--------------------+ | Fedora 40 (ARM) | PASS | +----------------------------------------+--------------------+ | Fedora 40 (ARM Clang) | PASS | +----------------------------------------+--------------------+ | Fedora 41 (ARM) | PASS | +----------------------------------------+--------------------+ | Fedora 41 (ARM Clang) | PASS | +----------------------------------------+--------------------+ | Ubuntu 20.04 (ARM) | PASS | +----------------------------------------+--------------------+ | Ubuntu 22.04 (ARM) | PASS | +----------------------------------------+--------------------+ | Ubuntu 24.04 (ARM) | PASS | +----------------------------------------+--------------------+ | CentOS Stream 9 (ARM) | PASS | +----------------------------------------+--------------------+ | CentOS Stream 10 (ARM) | PASS | +----------------------------------------+--------------------+ | Debian 12 (arm) | PASS | +----------------------------------------+--------------------+ | Ubuntu 20.04 ARM Clang Cross Compile | PASS | +----------------------------------------+--------------------+ | Ubuntu 20.04 aarch32 GCC Cross Compile | PASS | +----------------------------------------+--------------------+ RHEL9 (ARM) Kernel: Depends on container host Compiler: gcc 11.5.0 20240719 (Red Hat 11.5.0-2) Ubuntu 20.04 ARM GCC Cross Compile Kernel: Depends on container host Compiler: aarch64-linux-gnu-gcc (Ubuntu 9.4.0-1ubuntu1~20.04.2) 9.4.0 Ubuntu 20.04 ARM SVE Kernel: Depends on container host Compiler: gcc (Ubuntu 10.5.0-1ubuntu1~20.04) 10.5.0 Debian 12 with MUSDK Kernel: Depends on container host Compiler: gcc (Debian 12.2.0-14) 12.2.0 Fedora 40 (ARM) Kernel: Depends on container host Compiler: gcc 14.2.1 20240912 (Red Hat 14.2.1-3) Fedora 40 (ARM Clang) Kernel: Depends on container host Compiler: clang 18.1.8 (Fedora 18.1.8-1.fc40) Fedora 41 (ARM) Kernel: Depends on container host Compiler: gcc 14.2.1 20240912 (Red Hat 14.2.1-3) Fedora 41 (ARM Clang) Kernel: Depends on container host Compiler: clang 19.1.5 (Fedora 19.1.5-1.fc41) Ubuntu 20.04 (ARM) Kernel: Depends on container host Compiler: gcc (Ubuntu 9.4.0-1ubuntu1~20.04.2) 9.4.0 Ubuntu 22.04 (ARM) Kernel: Depends on container host Compiler: gcc (Ubuntu 11.4.0-1ubuntu1~22.04) 11.4.0 Ubuntu 24.04 (ARM) Kernel: Depends on container host Compiler: gcc (Ubuntu 13.3.0-6ubuntu2~24.04) 13.3.0 CentOS Stream 9 (ARM) Kernel: Depends on container host Compiler: gcc 11.5.0 20240719 (Red Hat 11.5.0-2) CentOS Stream 10 (ARM) Kernel: Depends on container host Compiler: gcc 14.2.1 20241104 (Red Hat 14.2.1-6) Debian 12 (arm) Kernel: Depends on container host Compiler: gcc (Debian 12.2.0-14) 12.2.0 Ubuntu 20.04 ARM Clang Cross Compile Kernel: Depends on container host Compiler: clang 10.0.0-4ubuntu1 Ubuntu 20.04 aarch32 GCC Cross Compile Kernel: Depends on container host Compiler: gcc 9.4.0 To view detailed results, visit: https://lab.dpdk.org/results/dashboard/patchsets/33188/ UNH-IOL DPDK Community Lab To manage your email subscriptions, visit: https://lab.dpdk.org/results/dashboard/preferences/subscriptions/