From mboxrd@z Thu Jan 1 00:00:00 1970 Return-Path: Received: from mails.dpdk.org (mails.dpdk.org [217.70.189.124]) by inbox.dpdk.org (Postfix) with ESMTP id 1BA1D46762 for ; Fri, 16 May 2025 15:37:43 +0200 (CEST) Received: from mails.dpdk.org (localhost [127.0.0.1]) by mails.dpdk.org (Postfix) with ESMTP id F162940292; Fri, 16 May 2025 15:37:42 +0200 (CEST) Received: from mail-vk1-f226.google.com (mail-vk1-f226.google.com [209.85.221.226]) by mails.dpdk.org (Postfix) with ESMTP id 8996E4028F for ; Fri, 16 May 2025 15:37:41 +0200 (CEST) Received: by mail-vk1-f226.google.com with SMTP id 71dfb90a1353d-52934f4fb23so1362656e0c.1 for ; Fri, 16 May 2025 06:37:41 -0700 (PDT) DKIM-Signature: v=1; a=rsa-sha256; c=relaxed/relaxed; d=iol.unh.edu; s=unh-iol; t=1747402661; x=1748007461; darn=dpdk.org; h=references:in-reply-to:cc:to:from:subject:message-id:date:from:to :cc:subject:date:message-id:reply-to; bh=wlSF+OeCTHyLHBA+B5mMeM+I6ftCrO/85VTepRWoBlY=; b=EjC30nAECMK4VFAfv5In6YvGWxTf42WHv5OMdiZjSGhM6bCFh1qv1YpWDiIMqAbkhF WU4S2Exp7Cf985EJKbgLfMfbFeeCugy4hSi3GhBJ2OXthvwRTwEl/hVNXZttNVwD05Zi AQDE1kBGCZnzjpr/zoISxDa/HONjM/VL5LFSc= X-Google-DKIM-Signature: v=1; a=rsa-sha256; c=relaxed/relaxed; d=1e100.net; s=20230601; t=1747402661; x=1748007461; h=references:in-reply-to:cc:to:from:subject:message-id:date :x-gm-message-state:from:to:cc:subject:date:message-id:reply-to; bh=wlSF+OeCTHyLHBA+B5mMeM+I6ftCrO/85VTepRWoBlY=; b=DB47Rq18tevM38ZYKNEzlYTo3e90LEbiIwJLN5N0Zb1MFIA7AtHetp7ewAlTRBaMAn 5XHjHVluKQklec4lAiUErlwVPsFvTKHJjo9obGcgW3Hbm+k3kn77swuOOt67v8M+tBSH ESjRKslDRQjsvbk5guVDWtBTb+asdNv06YeeKMgNf5c2GNKSGzNf0PuaiuhDyIdNC1HC CoAAJTJTrD2/bSeJCkcnJXdOIHF5yKncontuZXEHHrZFS8R3tTU4wGFNX/d+0+1jr4te 074+pYvcRhR6KUwoCJk3U/tDn4awV0DIi27dwvtMF8Rs3uLjMn42vd9eezo8Z9fHfm8h meMQ== X-Gm-Message-State: AOJu0Yx61fMvQLsfpYDyqJQZ+8HIbFi9BvFAbiKHjTPVifnnJBNB/43m d2oqavtDmWdtNZ/HRT52LBj4KzdOpjzrPTG6Eeyal0U+dSxiKjNcZFprrYS5usYN+MZndCJUJi6 /H/Md+9fcw2NpVdzEK1XmpNTx+Cdzs5RJ+x9CFrCf7IOD X-Gm-Gg: ASbGncstH3dUyA/ST/a2gTmUmS34CeYS4T2ScxRGiRiF6lmLSCm2EhAsLU0Fv5638bW aCAWRDGpj3NQWxaZBi1TTyRIMFWHEwUd/lFx0TS8mZRi/X795wQxtwAcwDokk4bfOlmKSf0QJfr Ll6HNymlDg0Han6afZTN96yRPEp75VEe7wTgDAUKfrtVgBRhcs6wRrt20ctryOR5vwcYjpQcwN/ FUTQ45Hm/L0/hPNZmB6KB08zqV/0oK10bsa6Yqom5boziq30oVYLV5D2e8wHfn9Afv30XhaGQu3 +Lw2HfSpseof0yN8BZhwfN2rTpnUo7eu3A6WcwqHflcM4wcXvbqXEGSeXyE= X-Google-Smtp-Source: AGHT+IFltoAZjkMSPL5iVK7z74JX/B8qEtctpcEAjf+i8qTH/2B7L8ljh9cCTWj3tGt++iXV6nvgK9jlnjKs X-Received: by 2002:a05:6122:88c:b0:52a:cdd8:fc33 with SMTP id 71dfb90a1353d-52dba614e02mr3929883e0c.0.1747402660781; Fri, 16 May 2025 06:37:40 -0700 (PDT) Received: from postal.iol.unh.edu (postal.iol.unh.edu. [132.177.123.84]) by smtp-relay.gmail.com with ESMTPS id 71dfb90a1353d-52dbaa439b0sm133834e0c.10.2025.05.16.06.37.40 (version=TLS1_2 cipher=ECDHE-ECDSA-AES128-GCM-SHA256 bits=128/128); Fri, 16 May 2025 06:37:40 -0700 (PDT) X-Relaying-Domain: iol.unh.edu Date: Fri, 16 May 2025 06:37:40 -0700 (PDT) Message-ID: <68273fa4.050a0220.1a0623.6da7SMTPIN_ADDED_MISSING@mx.google.com> Received: from [172.21.0.5] (unknown [172.18.0.240]) by postal.iol.unh.edu (Postfix) with ESMTP id 3513D6052471; Fri, 16 May 2025 09:37:40 -0400 (EDT) Subject: |SUCCESS| pw153476-153480 [PATCH] [v4,9/9] app/test: add zsda crypto From: dpdklab@iol.unh.edu To: Test Report Cc: dpdk-test-reports@iol.unh.edu In-Reply-To: <20250516072752.1971299-10-li.hanxiao@zte.com.cn> References: <20250516072752.1971299-10-li.hanxiao@zte.com.cn> Content-Type: text/plain X-BeenThere: test-report@dpdk.org X-Mailman-Version: 2.1.29 Precedence: list List-Id: automatic DPDK test reports List-Unsubscribe: , List-Archive: List-Post: List-Help: List-Subscribe: , Errors-To: test-report-bounces@dpdk.org Test-Label: iol-unit-arm64-testing Test-Status: SUCCESS http://dpdk.org/patch/153480 _Testing PASS_ Submitter: Hanxiao Li Date: Friday, May 16 2025 07:27:51 DPDK git baseline: Repo:dpdk Branch: master CommitID:dcf9f9363aa9b4163d241caf8b26a84ca0c0006b 153476-153480 --> testing pass Upstream job id: Generic-Unit-Test-DPDK#338444 Test environment and result as below: +-----------------------------+---------------------------+------------------------------+--------------+----------------+ | Environment | cryptodev_sw_zuc_autotest | cryptodev_sw_snow3g_autotest | lpm_autotest | dpdk_unit_test | +=============================+===========================+==============================+==============+================+ | Debian 12 (arm) | PASS | PASS | SKIPPED | PASS | +-----------------------------+---------------------------+------------------------------+--------------+----------------+ | Ubuntu 20.04 ARM SVE | SKIPPED | SKIPPED | PASS | SKIPPED | +-----------------------------+---------------------------+------------------------------+--------------+----------------+ | CentOS Stream 9 (ARM) | SKIPPED | SKIPPED | SKIPPED | PASS | +-----------------------------+---------------------------+------------------------------+--------------+----------------+ | CentOS Stream 10 (ARM) | SKIPPED | SKIPPED | SKIPPED | PASS | +-----------------------------+---------------------------+------------------------------+--------------+----------------+ | Fedora 40 (ARM) | SKIPPED | SKIPPED | SKIPPED | PASS | +-----------------------------+---------------------------+------------------------------+--------------+----------------+ | Fedora 40 (ARM Clang) | SKIPPED | SKIPPED | SKIPPED | PASS | +-----------------------------+---------------------------+------------------------------+--------------+----------------+ | Fedora 41 (ARM Clang) | SKIPPED | SKIPPED | SKIPPED | PASS | +-----------------------------+---------------------------+------------------------------+--------------+----------------+ | Ubuntu 20.04 (ARM) | SKIPPED | SKIPPED | SKIPPED | PASS | +-----------------------------+---------------------------+------------------------------+--------------+----------------+ | Fedora 41 (ARM) | SKIPPED | SKIPPED | SKIPPED | PASS | +-----------------------------+---------------------------+------------------------------+--------------+----------------+ | RHEL9 (ARM) | SKIPPED | SKIPPED | SKIPPED | PASS | +-----------------------------+---------------------------+------------------------------+--------------+----------------+ | Ubuntu 22.04 (ARM) | SKIPPED | SKIPPED | SKIPPED | PASS | +-----------------------------+---------------------------+------------------------------+--------------+----------------+ | Ubuntu 24.04 (ARM) | SKIPPED | SKIPPED | SKIPPED | PASS | +-----------------------------+---------------------------+------------------------------+--------------+----------------+ | 32-bit Ubuntu 22.04.4 (ARM) | SKIPPED | SKIPPED | SKIPPED | PASS | +-----------------------------+---------------------------+------------------------------+--------------+----------------+ Debian 12 (arm) Kernel: Depends on container host Compiler: gcc (Debian 12.2.0-14) 12.2.0 Ubuntu 20.04 ARM SVE Kernel: Depends on container host Compiler: gcc (Ubuntu 10.5.0-1ubuntu1~20.04) 10.5.0 CentOS Stream 9 (ARM) Kernel: Depends on container host Compiler: gcc 11.5.0 20240719 (Red Hat 11.5.0-2) CentOS Stream 10 (ARM) Kernel: Depends on container host Compiler: gcc 14.2.1 20241104 (Red Hat 14.2.1-6) Fedora 40 (ARM) Kernel: Depends on container host Compiler: gcc 14.2.1 20240912 (Red Hat 14.2.1-3) Fedora 40 (ARM Clang) Kernel: Depends on container host Compiler: clang 18.1.8 (Fedora 18.1.8-1.fc40) Fedora 41 (ARM Clang) Kernel: Depends on container host Compiler: clang 19.1.5 (Fedora 19.1.5-1.fc41) Ubuntu 20.04 (ARM) Kernel: Depends on container host Compiler: gcc (Ubuntu 9.4.0-1ubuntu1~20.04.2) 9.4.0 Fedora 41 (ARM) Kernel: Depends on container host Compiler: gcc 14.2.1 20240912 (Red Hat 14.2.1-3) RHEL9 (ARM) Kernel: Depends on container host Compiler: gcc 11.5.0 20240719 (Red Hat 11.5.0-2) Ubuntu 22.04 (ARM) Kernel: Depends on container host Compiler: gcc (Ubuntu 11.4.0-1ubuntu1~22.04) 11.4.0 Ubuntu 24.04 (ARM) Kernel: Depends on container host Compiler: gcc (Ubuntu 13.3.0-6ubuntu2~24.04) 13.3.0 32-bit Ubuntu 22.04.4 (ARM) Kernel: 5.15.83+ aarch64 Compiler: gcc (Ubuntu 11.4.0-1ubuntu1~22.04) 11.4.0 To view detailed results, visit: https://lab.dpdk.org/results/dashboard/patchsets/33189/ UNH-IOL DPDK Community Lab To manage your email subscriptions, visit: https://lab.dpdk.org/results/dashboard/preferences/subscriptions/