From: dpdklab@iol.unh.edu
To: Test Report <test-report@dpdk.org>
Cc: dpdk-test-reports@iol.unh.edu,
Bruce Richardson <bruce.richardson@intel.com>
Subject: |SUCCESS| [GIT MASTER] 51e889518fc861f1af5acbbc133a75203225655c
Date: Fri, 16 May 2025 06:49:50 -0700 (PDT) [thread overview]
Message-ID: <6827427e.050a0220.2655ea.595bSMTPIN_ADDED_MISSING@mx.google.com> (raw)
_Testing PASS_
Branch: dpdk-next-net-intel
51e889518fc861f1af5acbbc133a75203225655c --> testing pass
Upstream job id: Windows-Compile-DPDK-VS#5741
Test environment and result as below:
+---------------------+--------------------+-------------------+
| Environment | dpdk_meson_compile | dpdk_msvc_compile |
+=====================+====================+===================+
| Ubuntu 20.04 | PASS | SKIPPED |
+---------------------+--------------------+-------------------+
| FreeBSD 13.5 | PASS | SKIPPED |
+---------------------+--------------------+-------------------+
| FreeBSD 14.2 | PASS | SKIPPED |
+---------------------+--------------------+-------------------+
| Windows Server 2022 | SKIPPED | PASS |
+---------------------+--------------------+-------------------+
Ubuntu 20.04
Kernel: 4.19.325-0419325-generic
Compiler: gcc (Ubuntu 9.4.0-1ubuntu1~20.04.2) 9.4.0
FreeBSD 13.5
Kernel: 13.5-RELEASE
Compiler: clang 19.1.7
FreeBSD 14.2
Kernel: 14.2-RELEASE
Compiler: clang 18.1.6
Windows Server 2022
Kernel: 10.0.20348.2031
Compiler: clang 15.0.7, gcc 14.1.0 (MinGW), and MSVC VS 19.39.33521
To view detailed results, visit:
https://lab.dpdk.org/results/dashboard/tarballs/33557/
UNH-IOL DPDK Community Lab
To manage your email subscriptions, visit:
https://lab.dpdk.org/results/dashboard/preferences/subscriptions/
next reply other threads:[~2025-05-16 13:50 UTC|newest]
Thread overview: 17+ messages / expand[flat|nested] mbox.gz Atom feed top
2025-05-16 13:49 dpdklab [this message]
-- strict thread matches above, loose matches on Subject: below --
2025-05-16 22:21 dpdklab
2025-05-16 17:37 dpdklab
2025-05-16 16:19 dpdklab
2025-05-16 16:04 dpdklab
2025-05-16 16:04 dpdklab
2025-05-16 15:21 dpdklab
2025-05-16 14:41 dpdklab
2025-05-16 12:44 dpdklab
2025-05-16 12:30 dpdklab
2025-05-16 12:26 dpdklab
2025-05-16 12:18 dpdklab
2025-05-16 12:09 dpdklab
2025-05-16 12:08 dpdklab
2025-05-16 12:03 dpdklab
2025-05-16 12:00 dpdklab
2025-05-16 11:52 dpdklab
Reply instructions:
You may reply publicly to this message via plain-text email
using any one of the following methods:
* Save the following mbox file, import it into your mail client,
and reply-to-all from there: mbox
Avoid top-posting and favor interleaved quoting:
https://en.wikipedia.org/wiki/Posting_style#Interleaved_style
* Reply using the --to, --cc, and --in-reply-to
switches of git-send-email(1):
git send-email \
--in-reply-to=6827427e.050a0220.2655ea.595bSMTPIN_ADDED_MISSING@mx.google.com \
--to=dpdklab@iol.unh.edu \
--cc=bruce.richardson@intel.com \
--cc=dpdk-test-reports@iol.unh.edu \
--cc=test-report@dpdk.org \
/path/to/YOUR_REPLY
https://kernel.org/pub/software/scm/git/docs/git-send-email.html
* If your mail client supports setting the In-Reply-To header
via mailto: links, try the mailto: link
Be sure your reply has a Subject: header at the top and a blank line
before the message body.
This is a public inbox, see mirroring instructions
for how to clone and mirror all data and code used for this inbox;
as well as URLs for NNTP newsgroup(s).