From mboxrd@z Thu Jan 1 00:00:00 1970 Return-Path: Received: from mails.dpdk.org (mails.dpdk.org [217.70.189.124]) by inbox.dpdk.org (Postfix) with ESMTP id 381F14674B for ; Fri, 16 May 2025 15:50:03 +0200 (CEST) Received: from mails.dpdk.org (localhost [127.0.0.1]) by mails.dpdk.org (Postfix) with ESMTP id 1A085402E0; Fri, 16 May 2025 15:50:03 +0200 (CEST) Received: from mail-io1-f99.google.com (mail-io1-f99.google.com [209.85.166.99]) by mails.dpdk.org (Postfix) with ESMTP id 75BF840292 for ; Fri, 16 May 2025 15:50:02 +0200 (CEST) Received: by mail-io1-f99.google.com with SMTP id ca18e2360f4ac-86135ae2a29so184081539f.2 for ; Fri, 16 May 2025 06:50:02 -0700 (PDT) DKIM-Signature: v=1; a=rsa-sha256; c=relaxed/relaxed; d=iol.unh.edu; s=unh-iol; t=1747403401; x=1748008201; darn=dpdk.org; h=cc:to:from:subject:message-id:date:from:to:cc:subject:date :message-id:reply-to; bh=iT6TLNzWMYejY+Ln1aN1feY1qNwvbOTqBOtcAXYCohY=; b=WDk78K92USGJpenB18esiMv6OO45dAW+2g/jg//uTuL/MsyMJz5YT+LzO7fvFDfwsa 0DZGxUU8Xou4Bq860ovgKhUgN7WN1oglWVTmmyaoRH4lg8IegZoXv710AMp/CaahzpTL bK21Ys++e5XoYKLerF+NdL46KWMCerT8VXD2Y= X-Google-DKIM-Signature: v=1; a=rsa-sha256; c=relaxed/relaxed; d=1e100.net; s=20230601; t=1747403401; x=1748008201; h=cc:to:from:subject:message-id:date:x-gm-message-state:from:to:cc :subject:date:message-id:reply-to; bh=iT6TLNzWMYejY+Ln1aN1feY1qNwvbOTqBOtcAXYCohY=; b=OCxXueRFBHK0AoONq3F4tJSOfliQXyIv9vEKVkkjZBZ26RQH0+Azh+wQMCKsCpvjQW J4jXHehJD1a8a4e0CUDLtoNyWSw2+AzRLL3k5rUM3ik85s7v4TyQfPmyUlDIiYlJIo+t WhqOfvthEnFayDQskiP5zqQGcVQaNiawwTO1Q4t8wM4JK2JydyZKNJEOOsjc0JQmfpFN 2cuMaGJeSKNc1kUAg6LHzeW24Ipw5mdsE6pzUTgQQTGRZmVxVXnhtg8jpvkJJ1IQAe2Y SCUiGhaa7ZtuWsup9irmfCt5FxxH7Q1PJdIDcMihHiZm5m4AEYPo+7b1y1TdKVDGwrU5 jSsQ== X-Gm-Message-State: AOJu0YznjTueLfUDk0j9vVAGrbBVjNs5FiwGvOuzFVbBZp1WpzFOQpFF beVGL6SdkatatYCfAsZLSSowyML4EVHYcPaGryULaHGN7Zm9vO7YzY6w2z7hm2MCXIGcQSODXW8 SynCks8V7H2Bd0nRG6+CUFtTv0rDWPmZSQUrjcMzPhmDw X-Gm-Gg: ASbGncup8ACNr5J6epoN/ly3tO6/IRz4CnYWyBIJsizHKWGPUcfqaZfU7i5qZitk8h3 kqZxbBVi8wj8T/0zL5ycKA7Wv7nu9FkYjI4tL2w1OPlDHxyPhi963tbRrRHEGLKdCr7NWs5NgN6 16XcWN+gD14ogePJlI1HFmqh+zOX3GaSMd4bxvSi71fo+os46Vp+2TF0QnOWYzbczVrrvVLztoU 3A6Vop/8uyl2DSzUJz8qQa8i6gmJhyOLKxdQ5mlykKSfI4u6bbDYDYdb0FSwBf6iNgpri0mOFB4 TXkgcbGdRJxYX+YOQuG0ScTtX738BAIV7NLefPtz5VnMMyMhCoK6yhEUzw0= X-Google-Smtp-Source: AGHT+IG8ROzFVDJjoxnVBRVCuRAOjbIRDLKAHFRDYueYpQO+fOc6/t7a6WhOnKRsvg10QAuiOrVLanEG/Pgf X-Received: by 2002:a05:6871:a50f:b0:2d6:241:aed5 with SMTP id 586e51a60fabf-2e3c854bafamr1566896fac.26.1747403390743; Fri, 16 May 2025 06:49:50 -0700 (PDT) Received: from postal.iol.unh.edu (postal.iol.unh.edu. [132.177.123.84]) by smtp-relay.gmail.com with ESMTPS id 586e51a60fabf-2e3c060425csm114312fac.6.2025.05.16.06.49.50 (version=TLS1_2 cipher=ECDHE-ECDSA-AES128-GCM-SHA256 bits=128/128); Fri, 16 May 2025 06:49:50 -0700 (PDT) X-Relaying-Domain: iol.unh.edu Date: Fri, 16 May 2025 06:49:50 -0700 (PDT) Message-ID: <6827427e.050a0220.2655ea.595bSMTPIN_ADDED_MISSING@mx.google.com> Received: from [172.21.0.5] (unknown [172.18.0.240]) by postal.iol.unh.edu (Postfix) with ESMTP id 2E1F76052471; Fri, 16 May 2025 09:49:50 -0400 (EDT) Subject: |SUCCESS| [GIT MASTER] 51e889518fc861f1af5acbbc133a75203225655c From: dpdklab@iol.unh.edu To: Test Report Cc: dpdk-test-reports@iol.unh.edu, Bruce Richardson Content-Type: text/plain X-BeenThere: test-report@dpdk.org X-Mailman-Version: 2.1.29 Precedence: list List-Id: automatic DPDK test reports List-Unsubscribe: , List-Archive: List-Post: List-Help: List-Subscribe: , Errors-To: test-report-bounces@dpdk.org _Testing PASS_ Branch: dpdk-next-net-intel 51e889518fc861f1af5acbbc133a75203225655c --> testing pass Upstream job id: Windows-Compile-DPDK-VS#5741 Test environment and result as below: +---------------------+--------------------+-------------------+ | Environment | dpdk_meson_compile | dpdk_msvc_compile | +=====================+====================+===================+ | Ubuntu 20.04 | PASS | SKIPPED | +---------------------+--------------------+-------------------+ | FreeBSD 13.5 | PASS | SKIPPED | +---------------------+--------------------+-------------------+ | FreeBSD 14.2 | PASS | SKIPPED | +---------------------+--------------------+-------------------+ | Windows Server 2022 | SKIPPED | PASS | +---------------------+--------------------+-------------------+ Ubuntu 20.04 Kernel: 4.19.325-0419325-generic Compiler: gcc (Ubuntu 9.4.0-1ubuntu1~20.04.2) 9.4.0 FreeBSD 13.5 Kernel: 13.5-RELEASE Compiler: clang 19.1.7 FreeBSD 14.2 Kernel: 14.2-RELEASE Compiler: clang 18.1.6 Windows Server 2022 Kernel: 10.0.20348.2031 Compiler: clang 15.0.7, gcc 14.1.0 (MinGW), and MSVC VS 19.39.33521 To view detailed results, visit: https://lab.dpdk.org/results/dashboard/tarballs/33557/ UNH-IOL DPDK Community Lab To manage your email subscriptions, visit: https://lab.dpdk.org/results/dashboard/preferences/subscriptions/