From mboxrd@z Thu Jan 1 00:00:00 1970 Return-Path: Received: from mails.dpdk.org (mails.dpdk.org [217.70.189.124]) by inbox.dpdk.org (Postfix) with ESMTP id 7DC3946763 for ; Fri, 16 May 2025 16:03:31 +0200 (CEST) Received: from mails.dpdk.org (localhost [127.0.0.1]) by mails.dpdk.org (Postfix) with ESMTP id 6035B402CD; Fri, 16 May 2025 16:03:31 +0200 (CEST) Received: from mail-pl1-f228.google.com (mail-pl1-f228.google.com [209.85.214.228]) by mails.dpdk.org (Postfix) with ESMTP id EBABC40292 for ; Fri, 16 May 2025 16:03:29 +0200 (CEST) Received: by mail-pl1-f228.google.com with SMTP id d9443c01a7336-231c86bffc1so17819475ad.0 for ; Fri, 16 May 2025 07:03:29 -0700 (PDT) DKIM-Signature: v=1; a=rsa-sha256; c=relaxed/relaxed; d=iol.unh.edu; s=unh-iol; t=1747404209; x=1748009009; darn=dpdk.org; h=references:in-reply-to:cc:to:from:subject:message-id:date:from:to :cc:subject:date:message-id:reply-to; bh=EwaoxHSwSDqEBNgm6H3xEJCJgoXqORN/5DFaJg60wJM=; b=hH+eclH26oDtfjd6bPlJalfsCO8VD7z/VjwfjIPN2RMW/8Ivqs5IlCTqb94iWb3byb A8qDwypEERWSDYduAB7Jz6eImDpDLpRL6CMQWOBBvaRLxlxYKzVsz49zXTjXwsbXfrwv PPmCZrOZsjWU0VjYmMpnNjpBXUKEynuoLb8tc= X-Google-DKIM-Signature: v=1; a=rsa-sha256; c=relaxed/relaxed; d=1e100.net; s=20230601; t=1747404209; x=1748009009; h=references:in-reply-to:cc:to:from:subject:message-id:date :x-gm-message-state:from:to:cc:subject:date:message-id:reply-to; bh=EwaoxHSwSDqEBNgm6H3xEJCJgoXqORN/5DFaJg60wJM=; b=eZXqnWJZ5dqPxIJUyXVyo9u11TMigI2LARsAikUbcUaKCMV+x8UDh7w4B09uxn+Jos /G4WCfQwX9/4iDfKOwTF2Zvp+K6ztB25a9xZVRDLj/hhlQEAM0S3/ox+jYSTZ75+zhxq 4xeb4cwBGOf+A2phFxCav+Kf7amXadK3HZRkQx2cIsQTrW0VAIYjsZ88YlvPk8M2QEGF BhyW5YogJt7shfyKOUcubZvcOlkftvUKfW8/9SiA+TcrkYnjvzLZeBFksA9tuqWbLOf4 YifmoXY0xRygI47G2Fm2obX9AL/+AdkpKcQ6stbaraaS4HQ/NVNtDV5x2JcTkfZnXF0v kOew== X-Gm-Message-State: AOJu0YzTARYVo7X5EMLvsAB2xBfeQMoIB8jIuHxlz5pvo6rP/eFBKdXO uwa9PpKr10ZCYHs+u5k5oD7oVUpCt0YLfrqKQTfVO3jcVqXly1diITjdUWuUzGbADcwSbZnYIee oLIxubfEsNJc2svSV/8UcpRGxTNyqJN+NrICXoSVgDi9g8NXa+KEo0yK1Qve9 X-Gm-Gg: ASbGncs6zyX8ivOTHgC1PGlyF/A6/nqSZGSTwSbwoNuoztc53XlmGmLY03PiGzS0jEL KcgVbqapnuJKU0tjfvSS20/EifMIyhnhMSOQ+5PqnKhQOVn1C3gULG6BmqAxlhKMP/TzZctDcHC 0P2mvvPPTXK23UgDsURYBAGcp5/2AQWd76ohG3XZDqILxnjSmj09VJJu7iz2D3eU/l2FaDr0pK+ FTFqQC12D/YwusqNPdDy5L2WiZggpId7L74xujS4u/YNB5A0gLkzMVFUIArbK/LIMYeD4HdlZFN s3lGKjaYutZF2CkMFK/kgDtIZsKKuyDSMvwK X-Google-Smtp-Source: AGHT+IHcmV/Aem+pYSGpCuZaGr7Hiq9IZpSU7oKnFZ7OVPnaNt25hVc0WvpTITKlI1fb45dETglVv2BS2ath X-Received: by 2002:a17:902:e801:b0:231:7f29:bda0 with SMTP id d9443c01a7336-231de5b0ba7mr33832745ad.52.1747404208671; Fri, 16 May 2025 07:03:28 -0700 (PDT) Received: from postal.iol.unh.edu (postal.iol.unh.edu. [2606:4100:3880:1234::84]) by smtp-relay.gmail.com with ESMTPS id d9443c01a7336-231d4eb9d98sm1030245ad.99.2025.05.16.07.03.28 (version=TLS1_2 cipher=ECDHE-ECDSA-AES128-GCM-SHA256 bits=128/128); Fri, 16 May 2025 07:03:28 -0700 (PDT) X-Relaying-Domain: iol.unh.edu Date: Fri, 16 May 2025 07:03:28 -0700 (PDT) Message-ID: <682745b0.170a0220.18488f.55a2SMTPIN_ADDED_MISSING@mx.google.com> Received: from [172.21.0.6] (unknown [172.18.0.240]) by postal.iol.unh.edu (Postfix) with ESMTP id CBD4E6052471; Fri, 16 May 2025 10:03:27 -0400 (EDT) Subject: |SUCCESS| pw153476-153480 [PATCH] [v4,9/9] app/test: add zsda crypto From: dpdklab@iol.unh.edu To: Test Report Cc: dpdk-test-reports@iol.unh.edu In-Reply-To: <20250516072752.1971299-10-li.hanxiao@zte.com.cn> References: <20250516072752.1971299-10-li.hanxiao@zte.com.cn> Content-Type: text/plain X-BeenThere: test-report@dpdk.org X-Mailman-Version: 2.1.29 Precedence: list List-Id: automatic DPDK test reports List-Unsubscribe: , List-Archive: List-Post: List-Help: List-Subscribe: , Errors-To: test-report-bounces@dpdk.org Test-Label: iol-abi-testing Test-Status: SUCCESS http://dpdk.org/patch/153480 _Testing PASS_ Submitter: Hanxiao Li Date: Friday, May 16 2025 07:27:51 DPDK git baseline: Repo:dpdk Branch: master CommitID:dcf9f9363aa9b4163d241caf8b26a84ca0c0006b 153476-153480 --> testing pass Upstream job id: Generic-DPDK-Compile-ABI#126676 Test environment and result as below: +-------------------+----------+ | Environment | abi_test | +===================+==========+ | CentOS Stream 9 | PASS | +-------------------+----------+ | CentOS Stream 10 | PASS | +-------------------+----------+ | Fedora 41 | PASS | +-------------------+----------+ | Fedora 40 (Clang) | PASS | +-------------------+----------+ | Fedora 40 | PASS | +-------------------+----------+ | Debian 12 | PASS | +-------------------+----------+ | Fedora 41 (Clang) | PASS | +-------------------+----------+ | openSUSE Leap 15 | PASS | +-------------------+----------+ | Ubuntu 22.04 | PASS | +-------------------+----------+ | RHEL9 | PASS | +-------------------+----------+ | RHEL8 | PASS | +-------------------+----------+ | Ubuntu 24.04 | PASS | +-------------------+----------+ CentOS Stream 9 Kernel: Depends on container host Compiler: gcc 11.5.0 20240719 (Red Hat 11.5.0-2) CentOS Stream 10 Kernel: Depends on container host Compiler: gcc 14.2.1 20241104 (Red Hat 14.2.1-6) Fedora 41 Kernel: Depends on container host Compiler: gcc 14.2.1 20240912 (Red Hat 14.2.1-3) Fedora 40 (Clang) Kernel: Depends on container host Compiler: clang 18.1.8 (Fedora 18.1.8-1.fc40) Fedora 40 Kernel: Depends on container host Compiler: gcc 14.2.1 20240912 (Red Hat 14.2.1-3) Debian 12 Kernel: Depends on container host Compiler: gcc (Debian 12.2.0-14) 12.2.0 Fedora 41 (Clang) Kernel: Depends on container host Compiler: clang 19.1.5 (Fedora 19.1.5-1.fc41) openSUSE Leap 15 Kernel: Depends on container host Compiler: gcc (SUSE Linux) 7.5.0 Ubuntu 22.04 Kernel: Depends on container host Compiler: gcc (Ubuntu 11.4.0-1ubuntu1~22.04) 11.4.0 RHEL9 Kernel: Depends on container host Compiler: gcc 11.5.0 20240719 (Red Hat 11.5.0-2) RHEL8 Kernel: Depends on container host Compiler: gcc 8.5.0 20210514 (Red Hat 8.5.0-22) Ubuntu 24.04 Kernel: Depends on container host Compiler: gcc (Ubuntu 13.3.0-6ubuntu2~24.04) 13.3.0 To view detailed results, visit: https://lab.dpdk.org/results/dashboard/patchsets/33189/ UNH-IOL DPDK Community Lab To manage your email subscriptions, visit: https://lab.dpdk.org/results/dashboard/preferences/subscriptions/