From mboxrd@z Thu Jan 1 00:00:00 1970 Return-Path: Received: from mails.dpdk.org (mails.dpdk.org [217.70.189.124]) by inbox.dpdk.org (Postfix) with ESMTP id F178D46763 for ; Fri, 16 May 2025 16:13:24 +0200 (CEST) Received: from mails.dpdk.org (localhost [127.0.0.1]) by mails.dpdk.org (Postfix) with ESMTP id ED77B40651; Fri, 16 May 2025 16:13:24 +0200 (CEST) Received: from mail-qv1-f99.google.com (mail-qv1-f99.google.com [209.85.219.99]) by mails.dpdk.org (Postfix) with ESMTP id 0988240292 for ; Fri, 16 May 2025 16:13:23 +0200 (CEST) Received: by mail-qv1-f99.google.com with SMTP id 6a1803df08f44-6f54e4f2989so46031566d6.1 for ; Fri, 16 May 2025 07:13:22 -0700 (PDT) DKIM-Signature: v=1; a=rsa-sha256; c=relaxed/relaxed; d=iol.unh.edu; s=unh-iol; t=1747404802; x=1748009602; darn=dpdk.org; h=references:in-reply-to:cc:to:from:subject:message-id:date:from:to :cc:subject:date:message-id:reply-to; bh=JiowkkQbURgA3M+TbXQNLdLRBzODshnFJHJIjvL5QZY=; b=K90rXmQioMKvMeF+X+YGMRl4PfzDyR8JjuX4QbcjoNUn++NbxYWqfZyMmXBpiUtQHn pFJB8h3ttybIwrhOrwuteHa2NDxdeUqP+EAw+2oBmDOHfzUo0WsKAHM/oFrAHEhvjkZR jGK4gTz3I8wWwKVZxSlNI4SDYt9rJ3lwQ2N8Y= X-Google-DKIM-Signature: v=1; a=rsa-sha256; c=relaxed/relaxed; d=1e100.net; s=20230601; t=1747404802; x=1748009602; h=references:in-reply-to:cc:to:from:subject:message-id:date :x-gm-message-state:from:to:cc:subject:date:message-id:reply-to; bh=JiowkkQbURgA3M+TbXQNLdLRBzODshnFJHJIjvL5QZY=; b=iMsJnCqiZpJYSmLQe2vqlFEVs3JZfS09YQaUTIa6ioGwqiO+a7OV3qQYMp9Ez60J8a iOPeyu6+0hF7b+LXK2zSIQpLwlrLI/9TZ/m44/sAuJCatg8/NsN1Ip/UJWUNpXEXnd0i cHne7viJlXltoCq/VKKYaPWaMJ69JqBWghzlbo7/7PmWmBwtm6sb6WdQbtFpQRsK9Eyi V54Cq196gGeGEjGeiSAIZ1lGxguJMPu3zzs546eD1Qdw1f7z+HatI/CAZ9o7YmmHXbFf 8DPoYmtHkHG83qqGfcZiie138SwNJuPKRvdbKtIxwHpEZasOmif/FJqYmfS26hb3oBjl 6TVg== X-Gm-Message-State: AOJu0Ywd8r7+J3VupvfGoGBoUW7uaXDghZXy5bLT1Lxaxmp1sqYLBqTj dWw59cOaabi6dpFseKqA3Y+rYXKmhUrKWeGb/5PQVjgoTrxYwfMbsmGtC9Bk1wTMZNtfS4L9knl xtHqYq+iFSOFAMz3cG9DimR4zeqhB4+oAFMfq3Toji6wkaPi4064VLZsXAZXu X-Gm-Gg: ASbGncszh93Bs2QP6izOGi12UIfTPdwY3SSBfzKBUAY3rFE9rVrRQX9KtG6cgWNY9q+ bQ3oiAUJdSJdeFQxph6yt8Ff7wvl6+ORbwJKUutx2nqVcjNPulsPEAuB9PWl38em3Sfins3x2ek i4LiVjtp6klLm4tdtGfS7FmUdnww/CfG/aArjoEzvl5ifi6mT62LhZ3Xs1OIHNw1gIxesC6fTqZ TJvPlOqFiqdSaRPDtBB5bftp7kQoFjX3TvYSuJYgIM+8oBBndNee0jwtOec5bq+e4lhud205ou8 w2mvDBxOYD3qiQBg9HtbPng2VVONCClaiep5 X-Google-Smtp-Source: AGHT+IExcT3nZU2yW6mV8suTzgMuSsoRBFLDahQPi1v3kEqtnZd6TVYMJCsgRaTOopTT6tRzYRT/4LtIsaIF X-Received: by 2002:ad4:5aa3:0:b0:6f5:38a2:52dd with SMTP id 6a1803df08f44-6f8b2d12d21mr47503846d6.31.1747404802257; Fri, 16 May 2025 07:13:22 -0700 (PDT) Received: from postal.iol.unh.edu (postal.iol.unh.edu. [2606:4100:3880:1234::84]) by smtp-relay.gmail.com with ESMTPS id 6a1803df08f44-6f8b09a5230sm713646d6.50.2025.05.16.07.13.22 (version=TLS1_2 cipher=ECDHE-ECDSA-AES128-GCM-SHA256 bits=128/128); Fri, 16 May 2025 07:13:22 -0700 (PDT) X-Relaying-Domain: iol.unh.edu Date: Fri, 16 May 2025 07:13:22 -0700 (PDT) Message-ID: <68274802.d40a0220.3c86fd.3993SMTPIN_ADDED_MISSING@mx.google.com> Received: from [172.21.0.5] (unknown [172.18.0.240]) by postal.iol.unh.edu (Postfix) with ESMTP id EDC026052471; Fri, 16 May 2025 10:13:21 -0400 (EDT) Subject: |SUCCESS| pw153481-153484 [PATCH] [v3,4/4] app/testpmd: fix obtain i From: dpdklab@iol.unh.edu To: Test Report Cc: dpdk-test-reports@iol.unh.edu In-Reply-To: <20250516092840.2061252-5-huangdengdui@huawei.com> References: <20250516092840.2061252-5-huangdengdui@huawei.com> Content-Type: text/plain X-BeenThere: test-report@dpdk.org X-Mailman-Version: 2.1.29 Precedence: list List-Id: automatic DPDK test reports List-Unsubscribe: , List-Archive: List-Post: List-Help: List-Subscribe: , Errors-To: test-report-bounces@dpdk.org Test-Label: iol-compile-amd64-testing Test-Status: SUCCESS http://dpdk.org/patch/153484 _Testing PASS_ Submitter: Dengdui Huang Date: Friday, May 16 2025 09:28:40 DPDK git baseline: Repo:dpdk Branch: master CommitID:ff05ee3e3f8fb4ce958a2ce6461e8141aea959c6 153481-153484 --> testing pass Upstream job id: Generic-DPDK-Compile-Meson#388651 Test environment and result as below: +-----------------------------------+--------------------+-------------------+------------------+-------------------------+-------------------+----------------------+ | Environment | dpdk_meson_compile | dpdk_compile_spdk | dpdk_compile_ovs | dpdk_llvm_clang_compile | dpdk_msvc_compile | dpdk_mingw64_compile | +===================================+====================+===================+==================+=========================+===================+======================+ | CentOS Stream 9 | PASS | PASS | SKIPPED | SKIPPED | SKIPPED | SKIPPED | +-----------------------------------+--------------------+-------------------+------------------+-------------------------+-------------------+----------------------+ | Fedora 40 (Clang) | PASS | PASS | SKIPPED | SKIPPED | SKIPPED | SKIPPED | +-----------------------------------+--------------------+-------------------+------------------+-------------------------+-------------------+----------------------+ | Fedora 40 | PASS | PASS | SKIPPED | SKIPPED | SKIPPED | SKIPPED | +-----------------------------------+--------------------+-------------------+------------------+-------------------------+-------------------+----------------------+ | Debian 12 | PASS | PASS | SKIPPED | SKIPPED | SKIPPED | SKIPPED | +-----------------------------------+--------------------+-------------------+------------------+-------------------------+-------------------+----------------------+ | openSUSE Leap 15 | PASS | SKIPPED | SKIPPED | SKIPPED | SKIPPED | SKIPPED | +-----------------------------------+--------------------+-------------------+------------------+-------------------------+-------------------+----------------------+ | Fedora 41 (Clang) | PASS | PASS | PASS | SKIPPED | SKIPPED | SKIPPED | +-----------------------------------+--------------------+-------------------+------------------+-------------------------+-------------------+----------------------+ | RHEL8 | PASS | SKIPPED | SKIPPED | SKIPPED | SKIPPED | SKIPPED | +-----------------------------------+--------------------+-------------------+------------------+-------------------------+-------------------+----------------------+ | Fedora 41 | PASS | PASS | PASS | SKIPPED | SKIPPED | SKIPPED | +-----------------------------------+--------------------+-------------------+------------------+-------------------------+-------------------+----------------------+ | RHEL9 | PASS | SKIPPED | SKIPPED | SKIPPED | SKIPPED | SKIPPED | +-----------------------------------+--------------------+-------------------+------------------+-------------------------+-------------------+----------------------+ | Ubuntu 20.04 | PASS | SKIPPED | SKIPPED | SKIPPED | SKIPPED | SKIPPED | +-----------------------------------+--------------------+-------------------+------------------+-------------------------+-------------------+----------------------+ | Ubuntu 22.04 | PASS | PASS | SKIPPED | SKIPPED | SKIPPED | SKIPPED | +-----------------------------------+--------------------+-------------------+------------------+-------------------------+-------------------+----------------------+ | Ubuntu 24.04 | PASS | PASS | PASS | SKIPPED | SKIPPED | SKIPPED | +-----------------------------------+--------------------+-------------------+------------------+-------------------------+-------------------+----------------------+ | Alpine | PASS | SKIPPED | SKIPPED | SKIPPED | SKIPPED | SKIPPED | +-----------------------------------+--------------------+-------------------+------------------+-------------------------+-------------------+----------------------+ | FreeBSD 13.5 | PASS | SKIPPED | SKIPPED | SKIPPED | SKIPPED | SKIPPED | +-----------------------------------+--------------------+-------------------+------------------+-------------------------+-------------------+----------------------+ | FreeBSD 14.2 | PASS | SKIPPED | SKIPPED | SKIPPED | SKIPPED | SKIPPED | +-----------------------------------+--------------------+-------------------+------------------+-------------------------+-------------------+----------------------+ | CentOS Stream 10 | PASS | SKIPPED | SKIPPED | SKIPPED | SKIPPED | SKIPPED | +-----------------------------------+--------------------+-------------------+------------------+-------------------------+-------------------+----------------------+ | Ubuntu 24.04 32 Bit Cross Compile | PASS | SKIPPED | SKIPPED | SKIPPED | SKIPPED | SKIPPED | +-----------------------------------+--------------------+-------------------+------------------+-------------------------+-------------------+----------------------+ | Windows Server 2022 | SKIPPED | SKIPPED | SKIPPED | PASS | PASS | PASS | +-----------------------------------+--------------------+-------------------+------------------+-------------------------+-------------------+----------------------+ CentOS Stream 9 Kernel: Depends on container host Compiler: gcc 11.5.0 20240719 (Red Hat 11.5.0-2) Fedora 40 (Clang) Kernel: Depends on container host Compiler: clang 18.1.8 (Fedora 18.1.8-1.fc40) Fedora 40 Kernel: Depends on container host Compiler: gcc 14.2.1 20240912 (Red Hat 14.2.1-3) Debian 12 Kernel: Depends on container host Compiler: gcc (Debian 12.2.0-14) 12.2.0 openSUSE Leap 15 Kernel: Depends on container host Compiler: gcc (SUSE Linux) 7.5.0 Fedora 41 (Clang) Kernel: Depends on container host Compiler: clang 19.1.5 (Fedora 19.1.5-1.fc41) RHEL8 Kernel: Depends on container host Compiler: gcc 8.5.0 20210514 (Red Hat 8.5.0-22) Fedora 41 Kernel: Depends on container host Compiler: gcc 14.2.1 20240912 (Red Hat 14.2.1-3) RHEL9 Kernel: Depends on container host Compiler: gcc 11.5.0 20240719 (Red Hat 11.5.0-2) Ubuntu 20.04 Kernel: Depends on container host Compiler: gcc (Ubuntu 9.4.0-1ubuntu1~20.04.2) 9.4.0 Ubuntu 22.04 Kernel: Depends on container host Compiler: gcc (Ubuntu 11.4.0-1ubuntu1~22.04) 11.4.0 Ubuntu 24.04 Kernel: Depends on container host Compiler: gcc (Ubuntu 13.3.0-6ubuntu2~24.04) 13.3.0 Alpine Kernel: Depends on container host Compiler: gcc (Alpine 14.2.0) 14.2.0 FreeBSD 13.5 Kernel: 13.5-RELEASE Compiler: clang 19.1.7 FreeBSD 14.2 Kernel: 14.2-RELEASE Compiler: clang 18.1.6 CentOS Stream 10 Kernel: Depends on container host Compiler: gcc 14.2.1 20241104 (Red Hat 14.2.1-6) Ubuntu 24.04 32 Bit Cross Compile Kernel: Depends on container host Compiler: gcc (Ubuntu 13.3.0-6ubuntu2~24.04) 13.3.0 Windows Server 2022 Kernel: 10.0.20348.2031 Compiler: clang 15.0.7, gcc 14.1.0 (MinGW), and MSVC VS 19.39.33521 To view detailed results, visit: https://lab.dpdk.org/results/dashboard/patchsets/33190/ UNH-IOL DPDK Community Lab To manage your email subscriptions, visit: https://lab.dpdk.org/results/dashboard/preferences/subscriptions/