From mboxrd@z Thu Jan 1 00:00:00 1970 Return-Path: Received: from mails.dpdk.org (mails.dpdk.org [217.70.189.124]) by inbox.dpdk.org (Postfix) with ESMTP id 81C6A46763 for ; Fri, 16 May 2025 16:25:16 +0200 (CEST) Received: from mails.dpdk.org (localhost [127.0.0.1]) by mails.dpdk.org (Postfix) with ESMTP id 7E1D0402CD; Fri, 16 May 2025 16:25:16 +0200 (CEST) Received: from mail-oa1-f97.google.com (mail-oa1-f97.google.com [209.85.160.97]) by mails.dpdk.org (Postfix) with ESMTP id DB35F40292 for ; Fri, 16 May 2025 16:25:15 +0200 (CEST) Received: by mail-oa1-f97.google.com with SMTP id 586e51a60fabf-2d4f8c42f49so377778fac.1 for ; Fri, 16 May 2025 07:25:15 -0700 (PDT) DKIM-Signature: v=1; a=rsa-sha256; c=relaxed/relaxed; d=iol.unh.edu; s=unh-iol; t=1747405515; x=1748010315; darn=dpdk.org; h=references:in-reply-to:cc:to:from:subject:message-id:date:from:to :cc:subject:date:message-id:reply-to; bh=juox/iBs9yZLTLbITSdGRE8LibGPnfFjgDzmYDgfYRE=; b=MDOyZigiTdSCTyugjtReCCbttqYfhVEDRmhL4c1ncUN5soaBR4WYICADn0oakNlg1+ kDGJralIxl2qUSXZNWVsQGwm+8fGVbqJCaLzUu81+U4VaSO4Tob/dmAul+Ntr4kZ7FZO yYLcmiVRbxxy7CujB+tRYBh3BAryVtYUjolgA= X-Google-DKIM-Signature: v=1; a=rsa-sha256; c=relaxed/relaxed; d=1e100.net; s=20230601; t=1747405515; x=1748010315; h=references:in-reply-to:cc:to:from:subject:message-id:date :x-gm-message-state:from:to:cc:subject:date:message-id:reply-to; bh=juox/iBs9yZLTLbITSdGRE8LibGPnfFjgDzmYDgfYRE=; b=OZSbWGmhAmTk5Yh2MuYlV13+BXd/RtZY+OFA2jO+W3PGdnr4JZlpyCgzclfx9/uEeW 9CWXljz1u9gm618NoHXMI3dowTznxRQ51BAytntHlFg8FNc2P2ktZfCo9HnSHliQJQke N5E8bvHqH1xwRZkmW4B7Wd5S5qaWgneOK1AO3x6U9n2AyCC40Mebc49ZbXRX6P1RTa1W D2LzBU1r9NkPYgtT4Zba9jGCfmppsP4iC65ZEHraDplfHozOUnjpRDHZOCD1niB0kmNG O8pxxoeEMy2yfQ3bWYuzglefhK9IouqeeKP9AO/+bD5iBXdvF8V35PztXJ2JmbPGaUuC 1S6A== X-Gm-Message-State: AOJu0YxY0bLme3FDQOO6sQsjXTOBh05NdQNz4oBKpah6PYi3abOP+phq YNLCBcGP6U5gJoQ9jCs6kHWAezSgwH/nDYNpun+aHP/gXxd94sFjT6osZun/6sgkManFc3m9+sR GPSzmsWFNQT6qKZILJxSM2YL4Mp4z9T4XU1uN+3ucmiBy8yxqrUiWtGh6Ui+o X-Gm-Gg: ASbGncv3xr9rjUURReSDz91b8csxoniYW1ScOD+I4uJRRV6vXS63NO5oN9NEMHem4Vd B4L8m582CmfVxzsF4xjacIDXcxMMDBplxfOd1NPtuMhIMgBUNg7nGg6peWMQdje1JAy5C9VT8dy sDpT0tQ8OtQAeXl+5jABVhz7F5qGKzWflZbKv15VW+5BoQo8y+jBkW1C7TAb+BzvxKHGFw28Ejb VmJEupE/P5N5JCprMrH7RPx7Ihtbs9KqmEziY7KBr+zxOycn9Jiu5yyO/pMgcT0+c1SF0/cG7R6 NUJZim0fk22tQ4Z6NlJ0Xe8Fvsxpxt5sraSr X-Google-Smtp-Source: AGHT+IF+CtsJKsr7JH8ftId97vQ9EbtKHFabQ/CaP4Kk7bfVFX3gbTsq1JrlhyGIb0HI9FD5gbs0MezrEpvX X-Received: by 2002:a05:6870:e391:b0:2d5:cae:5426 with SMTP id 586e51a60fabf-2e3c2744a03mr2034190fac.3.1747405514810; Fri, 16 May 2025 07:25:14 -0700 (PDT) Received: from postal.iol.unh.edu (postal.iol.unh.edu. [2606:4100:3880:1234::84]) by smtp-relay.gmail.com with ESMTPS id 586e51a60fabf-2e3c06bb0a5sm119040fac.12.2025.05.16.07.25.14 (version=TLS1_2 cipher=ECDHE-ECDSA-AES128-GCM-SHA256 bits=128/128); Fri, 16 May 2025 07:25:14 -0700 (PDT) X-Relaying-Domain: iol.unh.edu Date: Fri, 16 May 2025 07:25:14 -0700 (PDT) Message-ID: <68274aca.050a0220.12ca66.651bSMTPIN_ADDED_MISSING@mx.google.com> Received: from [172.21.0.6] (unknown [172.18.0.240]) by postal.iol.unh.edu (Postfix) with ESMTP id 4AD586052471; Fri, 16 May 2025 10:25:14 -0400 (EDT) Subject: |SUCCESS| pw153476-153480 [PATCH] [v4,9/9] app/test: add zsda crypto From: dpdklab@iol.unh.edu To: Test Report Cc: dpdk-test-reports@iol.unh.edu In-Reply-To: <20250516072752.1971299-10-li.hanxiao@zte.com.cn> References: <20250516072752.1971299-10-li.hanxiao@zte.com.cn> Content-Type: text/plain X-BeenThere: test-report@dpdk.org X-Mailman-Version: 2.1.29 Precedence: list List-Id: automatic DPDK test reports List-Unsubscribe: , List-Archive: List-Post: List-Help: List-Subscribe: , Errors-To: test-report-bounces@dpdk.org Test-Label: iol-unit-amd64-testing Test-Status: SUCCESS http://dpdk.org/patch/153480 _Testing PASS_ Submitter: Hanxiao Li Date: Friday, May 16 2025 07:27:51 DPDK git baseline: Repo:dpdk Branch: master CommitID:dcf9f9363aa9b4163d241caf8b26a84ca0c0006b 153476-153480 --> testing pass Upstream job id: Generic-Unit-Test-DPDK#338464 Test environment and result as below: +---------------------+----------------+ | Environment | dpdk_unit_test | +=====================+================+ | CentOS Stream 9 | PASS | +---------------------+----------------+ | CentOS Stream 10 | PASS | +---------------------+----------------+ | Fedora 40 (Clang) | PASS | +---------------------+----------------+ | Debian 12 | PASS | +---------------------+----------------+ | Fedora 41 (Clang) | PASS | +---------------------+----------------+ | Fedora 40 | PASS | +---------------------+----------------+ | Ubuntu 22.04 | PASS | +---------------------+----------------+ | Ubuntu 24.04 | PASS | +---------------------+----------------+ | RHEL8 | PASS | +---------------------+----------------+ | Ubuntu 20.04 | PASS | +---------------------+----------------+ | RHEL9 | PASS | +---------------------+----------------+ | Fedora 41 | PASS | +---------------------+----------------+ | Windows Server 2022 | PASS | +---------------------+----------------+ CentOS Stream 9 Kernel: Depends on container host Compiler: gcc 11.5.0 20240719 (Red Hat 11.5.0-2) CentOS Stream 10 Kernel: Depends on container host Compiler: gcc 14.2.1 20241104 (Red Hat 14.2.1-6) Fedora 40 (Clang) Kernel: Depends on container host Compiler: clang 18.1.8 (Fedora 18.1.8-1.fc40) Debian 12 Kernel: Depends on container host Compiler: gcc (Debian 12.2.0-14) 12.2.0 Fedora 41 (Clang) Kernel: Depends on container host Compiler: clang 19.1.5 (Fedora 19.1.5-1.fc41) Fedora 40 Kernel: Depends on container host Compiler: gcc 14.2.1 20240912 (Red Hat 14.2.1-3) Ubuntu 22.04 Kernel: Depends on container host Compiler: gcc (Ubuntu 11.4.0-1ubuntu1~22.04) 11.4.0 Ubuntu 24.04 Kernel: Depends on container host Compiler: gcc (Ubuntu 13.3.0-6ubuntu2~24.04) 13.3.0 RHEL8 Kernel: Depends on container host Compiler: gcc 8.5.0 20210514 (Red Hat 8.5.0-22) Ubuntu 20.04 Kernel: Depends on container host Compiler: gcc (Ubuntu 9.4.0-1ubuntu1~20.04.2) 9.4.0 RHEL9 Kernel: Depends on container host Compiler: gcc 11.5.0 20240719 (Red Hat 11.5.0-2) Fedora 41 Kernel: Depends on container host Compiler: gcc 14.2.1 20240912 (Red Hat 14.2.1-3) Windows Server 2022 Kernel: 10.0.20348.2031 Compiler: clang 15.0.7, gcc 14.1.0 (MinGW), and MSVC VS 19.39.33521 To view detailed results, visit: https://lab.dpdk.org/results/dashboard/patchsets/33189/ UNH-IOL DPDK Community Lab To manage your email subscriptions, visit: https://lab.dpdk.org/results/dashboard/preferences/subscriptions/