From mboxrd@z Thu Jan 1 00:00:00 1970 Return-Path: Received: from mails.dpdk.org (mails.dpdk.org [217.70.189.124]) by inbox.dpdk.org (Postfix) with ESMTP id 57D9D46763 for ; Fri, 16 May 2025 16:42:01 +0200 (CEST) Received: from mails.dpdk.org (localhost [127.0.0.1]) by mails.dpdk.org (Postfix) with ESMTP id 53DA4402F1; Fri, 16 May 2025 16:42:01 +0200 (CEST) Received: from mail-qt1-f227.google.com (mail-qt1-f227.google.com [209.85.160.227]) by mails.dpdk.org (Postfix) with ESMTP id B7DF0402CD for ; Fri, 16 May 2025 16:41:59 +0200 (CEST) Received: by mail-qt1-f227.google.com with SMTP id d75a77b69052e-4769aef457bso27362361cf.2 for ; Fri, 16 May 2025 07:41:59 -0700 (PDT) DKIM-Signature: v=1; a=rsa-sha256; c=relaxed/relaxed; d=iol.unh.edu; s=unh-iol; t=1747406519; x=1748011319; darn=dpdk.org; h=cc:to:from:subject:message-id:date:from:to:cc:subject:date :message-id:reply-to; bh=qMDG1K+Lf4KqKAmK1dOzbRXGX3QfwQzF5FOhcOeT1Z0=; b=Ed6RzHhByfozuoFcn3UDFgZwW3uMCD553xWrZitaxAQoFBRbiUA09yG8kVhOQvPRLf hgTMZUPI099alMv2yBotXNfzlxZC99gxM+xz1jSqtm1Wmoyt6ON6oHSekiHMTOnMvgyu iFO/a+MpUbrEG8wiZv283sKvm14jqWQKM2ZEw= X-Google-DKIM-Signature: v=1; a=rsa-sha256; c=relaxed/relaxed; d=1e100.net; s=20230601; t=1747406519; x=1748011319; h=cc:to:from:subject:message-id:date:x-gm-message-state:from:to:cc :subject:date:message-id:reply-to; bh=qMDG1K+Lf4KqKAmK1dOzbRXGX3QfwQzF5FOhcOeT1Z0=; b=QJbfxQt6oI/MP9kHHWkpgIAfse+vdu+3NcXVjvJ7SYqd45j7ac4UhckpH8yX79bGt1 q2tbyWIrH6tPdbLPa4Ym3x2k5bmeHi6io0SmMI0xsebMPdgVixhPtPKPPn3Oj+FYdx30 sgaNIUekdvJuRjP2GLGjK2H9CMagMXeNNAMNBiRHzAHUh28S0aHEsBEpH8gDXoCRRR1T DlgLrc14FRo/BB3Val8yp0QlNuyMCTBiJKLUe1BslG0/5Fi6P4YIEwEEEQEfavAwRetS 7BudVMWSMC1byGm6HWHiuWEkVnzslfWkGe871lAnXFVBqe6D5C//AY9o/aJw8xB5HR5T EGvw== X-Gm-Message-State: AOJu0YxKWsMzz+ZRtVX4VTMAxu1MhhToTVAtIf/SygTvVNqBn7fjiqIc PhKU1SaRM3c0rQRp102mAFP7yMtmx2hylevxjNUbw+HaOAdKTC2RZolOHl1TgGgY8268Wg7TBgR j0AjN615jO4YHGMEgQuRf/sY53TuDucPgk6Ow1lK5DjPh X-Gm-Gg: ASbGncsoBmREFt048ussLpliDEeXo2VQUrgmyGRYuBXqefddWm8M9Yqaw3w0l1P+LCj iZljL7XrtZn9zlbd7VFcCjmwWpJCStBQGG0Ox4msbuQelpJly6vLWrpC7duQGrLuTBxuZG8s6D4 B3wo44idv0FoUaT5dLa3H4iijZ7mhTtEKUwYX8ltMtA5NZE3jTBvriG7NE3GDFxcyGYHhc2NP0B RaEM5X9I69cxjcMg7LMx3vi8ilK15WAqFtmRj1fO+VtIadmYPx/MudiJkCCboItCAkcbIkkuDFu WqlclqWeRWh0PLGdoNcfdb6HOiDPqSUlpfs5Mxg3mO4fd072vVsGvfleoco= X-Google-Smtp-Source: AGHT+IHAuPEEugb+y+mLQAXkOK+4yFmvc6grcJtSvGS/GzO+6884hQHlNXocUkreDl26FVjodsLvvL3/TiV3 X-Received: by 2002:a05:622a:2605:b0:494:9fc0:de3 with SMTP id d75a77b69052e-494ae4662cemr69959261cf.32.1747406518990; Fri, 16 May 2025 07:41:58 -0700 (PDT) Received: from postal.iol.unh.edu (postal.iol.unh.edu. [132.177.123.84]) by smtp-relay.gmail.com with ESMTPS id d75a77b69052e-494ae42bec8sm895731cf.14.2025.05.16.07.41.58 (version=TLS1_2 cipher=ECDHE-ECDSA-AES128-GCM-SHA256 bits=128/128); Fri, 16 May 2025 07:41:58 -0700 (PDT) X-Relaying-Domain: iol.unh.edu Date: Fri, 16 May 2025 07:41:58 -0700 (PDT) Message-ID: <68274eb6.c80a0220.23f29e.4649SMTPIN_ADDED_MISSING@mx.google.com> Received: from [172.21.0.7] (unknown [172.18.0.240]) by postal.iol.unh.edu (Postfix) with ESMTP id A89176052471; Fri, 16 May 2025 10:41:58 -0400 (EDT) Subject: |SUCCESS| [GIT MASTER] 51e889518fc861f1af5acbbc133a75203225655c From: dpdklab@iol.unh.edu To: Test Report Cc: dpdk-test-reports@iol.unh.edu, Bruce Richardson Content-Type: text/plain X-BeenThere: test-report@dpdk.org X-Mailman-Version: 2.1.29 Precedence: list List-Id: automatic DPDK test reports List-Unsubscribe: , List-Archive: List-Post: List-Help: List-Subscribe: , Errors-To: test-report-bounces@dpdk.org _Testing PASS_ Branch: dpdk-next-net-intel 51e889518fc861f1af5acbbc133a75203225655c --> testing pass Upstream job id: Generic-Unit-Test-DPDK#338470 Test environment and result as below: +-----------------------------+---------------------------+------------------------------+--------------+----------------+ | Environment | cryptodev_sw_zuc_autotest | cryptodev_sw_snow3g_autotest | lpm_autotest | dpdk_unit_test | +=============================+===========================+==============================+==============+================+ | Debian 12 (arm) | PASS | PASS | SKIPPED | PASS | +-----------------------------+---------------------------+------------------------------+--------------+----------------+ | Ubuntu 20.04 ARM SVE | SKIPPED | SKIPPED | PASS | SKIPPED | +-----------------------------+---------------------------+------------------------------+--------------+----------------+ | CentOS Stream 9 (ARM) | SKIPPED | SKIPPED | SKIPPED | PASS | +-----------------------------+---------------------------+------------------------------+--------------+----------------+ | CentOS Stream 10 (ARM) | SKIPPED | SKIPPED | SKIPPED | PASS | +-----------------------------+---------------------------+------------------------------+--------------+----------------+ | Fedora 41 (ARM Clang) | SKIPPED | SKIPPED | SKIPPED | PASS | +-----------------------------+---------------------------+------------------------------+--------------+----------------+ | Fedora 40 (ARM) | SKIPPED | SKIPPED | SKIPPED | PASS | +-----------------------------+---------------------------+------------------------------+--------------+----------------+ | Ubuntu 20.04 (ARM) | SKIPPED | SKIPPED | SKIPPED | PASS | +-----------------------------+---------------------------+------------------------------+--------------+----------------+ | Fedora 40 (ARM Clang) | SKIPPED | SKIPPED | SKIPPED | PASS | +-----------------------------+---------------------------+------------------------------+--------------+----------------+ | Fedora 41 (ARM) | SKIPPED | SKIPPED | SKIPPED | PASS | +-----------------------------+---------------------------+------------------------------+--------------+----------------+ | RHEL9 (ARM) | SKIPPED | SKIPPED | SKIPPED | PASS | +-----------------------------+---------------------------+------------------------------+--------------+----------------+ | Ubuntu 24.04 (ARM) | SKIPPED | SKIPPED | SKIPPED | PASS | +-----------------------------+---------------------------+------------------------------+--------------+----------------+ | Ubuntu 22.04 (ARM) | SKIPPED | SKIPPED | SKIPPED | PASS | +-----------------------------+---------------------------+------------------------------+--------------+----------------+ | 32-bit Ubuntu 22.04.4 (ARM) | SKIPPED | SKIPPED | SKIPPED | PASS | +-----------------------------+---------------------------+------------------------------+--------------+----------------+ Debian 12 (arm) Kernel: Depends on container host Compiler: gcc (Debian 12.2.0-14) 12.2.0 Ubuntu 20.04 ARM SVE Kernel: Depends on container host Compiler: gcc (Ubuntu 10.5.0-1ubuntu1~20.04) 10.5.0 CentOS Stream 9 (ARM) Kernel: Depends on container host Compiler: gcc 11.5.0 20240719 (Red Hat 11.5.0-2) CentOS Stream 10 (ARM) Kernel: Depends on container host Compiler: gcc 14.2.1 20241104 (Red Hat 14.2.1-6) Fedora 41 (ARM Clang) Kernel: Depends on container host Compiler: clang 19.1.5 (Fedora 19.1.5-1.fc41) Fedora 40 (ARM) Kernel: Depends on container host Compiler: gcc 14.2.1 20240912 (Red Hat 14.2.1-3) Ubuntu 20.04 (ARM) Kernel: Depends on container host Compiler: gcc (Ubuntu 9.4.0-1ubuntu1~20.04.2) 9.4.0 Fedora 40 (ARM Clang) Kernel: Depends on container host Compiler: clang 18.1.8 (Fedora 18.1.8-1.fc40) Fedora 41 (ARM) Kernel: Depends on container host Compiler: gcc 14.2.1 20240912 (Red Hat 14.2.1-3) RHEL9 (ARM) Kernel: Depends on container host Compiler: gcc 11.5.0 20240719 (Red Hat 11.5.0-2) Ubuntu 24.04 (ARM) Kernel: Depends on container host Compiler: gcc (Ubuntu 13.3.0-6ubuntu2~24.04) 13.3.0 Ubuntu 22.04 (ARM) Kernel: Depends on container host Compiler: gcc (Ubuntu 11.4.0-1ubuntu1~22.04) 11.4.0 32-bit Ubuntu 22.04.4 (ARM) Kernel: 5.15.83+ aarch64 Compiler: gcc (Ubuntu 11.4.0-1ubuntu1~22.04) 11.4.0 To view detailed results, visit: https://lab.dpdk.org/results/dashboard/tarballs/33557/ UNH-IOL DPDK Community Lab To manage your email subscriptions, visit: https://lab.dpdk.org/results/dashboard/preferences/subscriptions/