From mboxrd@z Thu Jan 1 00:00:00 1970 Return-Path: Received: from mails.dpdk.org (mails.dpdk.org [217.70.189.124]) by inbox.dpdk.org (Postfix) with ESMTP id 3FED44674B for ; Fri, 16 May 2025 16:59:40 +0200 (CEST) Received: from mails.dpdk.org (localhost [127.0.0.1]) by mails.dpdk.org (Postfix) with ESMTP id 1BDEC402F1; Fri, 16 May 2025 16:59:40 +0200 (CEST) Received: from mail-il1-f227.google.com (mail-il1-f227.google.com [209.85.166.227]) by mails.dpdk.org (Postfix) with ESMTP id 00F43402CD for ; Fri, 16 May 2025 16:59:38 +0200 (CEST) Received: by mail-il1-f227.google.com with SMTP id e9e14a558f8ab-3db7b3de375so13453545ab.1 for ; Fri, 16 May 2025 07:59:38 -0700 (PDT) DKIM-Signature: v=1; a=rsa-sha256; c=relaxed/relaxed; d=iol.unh.edu; s=unh-iol; t=1747407578; x=1748012378; darn=dpdk.org; h=references:in-reply-to:cc:to:from:subject:message-id:date:from:to :cc:subject:date:message-id:reply-to; bh=CaDodz3yR2J702dA+rpNqDTJpBSHJeR5ZrSsapYnEVk=; b=CaAwD40T9MVMMIqImtVr4eOgWGQvqR5nLXR97gc4EoO62kAiHJEGkjpyPs+5RLcNiS fzUwQQiWpzuFrlFfaU5NGomXWZK1DG5HdrohqZZXuNSMzeZjc20JAwz5PwNspDlAseBw KiK05iLBSGXM1aJRowy2/brtlggBOX9yGVzzU= X-Google-DKIM-Signature: v=1; a=rsa-sha256; c=relaxed/relaxed; d=1e100.net; s=20230601; t=1747407578; x=1748012378; h=references:in-reply-to:cc:to:from:subject:message-id:date :x-gm-message-state:from:to:cc:subject:date:message-id:reply-to; bh=CaDodz3yR2J702dA+rpNqDTJpBSHJeR5ZrSsapYnEVk=; b=qha51XfadnNCn8PJezj9rsmGEHicWAuhGDx8d6cv3Lh7USLDdQtyb/C/bAe/LX3Rb6 JgX1Il/8uqe4chtYc0ptc0lZh+JhG3HinkaTLJRYdXxvNBPDfAkpFeKyENIMXAxDV2Wn Hb/brCuGWT92GSkcouc40BXksqqX8iPvQquBHDZMwD22nx75Oq+gm+Svz56kIitke2wr uahhczLH5z74dool2Yu0mxOamdFp4TW3yn1dXgh32rvdTmi2nn+OIoiU2D8UI2Dy+dJm UD+5GKe8SW9nD6zfwXCacpIA/q7h2g0eouefVGB1xMhOLMJgGoVv++eHqdJddNOvNYtx TBzA== X-Gm-Message-State: AOJu0YxotmhwZLhzaqg2wBRsuqXioGpKp2Ge451rkqyuua4SMv8fi8s+ eMPa48Z1wuiciEZowWQVSZ54+P46tjKKxTdSjWlTunj6AlmNLWwc9fUTJcqNwjzJAUcmuomeD5A MEdvwqoiC2/Ix+6xwXxB9I3Dfm0VQ32QHnkBgjnccbPwpQ3XStudYNzGGfc9D X-Gm-Gg: ASbGncsNF27GMiqXqpaxcNqHPlQxKQ4wN+teLIW6b4IztMg9kbJWHnNQ/ig24i4x9lS 1qdDjwCN26pKGL4KJLPRlCpzEKrDAoTsiCzubsjlkIy5tRWFekJ1G5zEZP/bRCG4ZbVJbJAPa2Z nhhYhUNdz//BcqYl5fNCzfembLNT6fmZ5A1o+9nHMjJ3JmMnKNSFUsJ6yfrMrzBlxeo8UuaBtwe wuX1dAlBkvdmbQBkE5dr5naO3NSnAiCzwumNYWSwGipNVIkWgmYnYrZBsTLD171u0yTXbUMdkGe UHZR9bycbtGMVPRy8IeAW5wm75sywzROsJCX X-Google-Smtp-Source: AGHT+IGNuf7TupA1FqdLxLXg/xTzLCfb2m1QVB+yu98RIW/pkEj4sCRT2kJ2glgjG3h9s3JE8mo+CECMoOol X-Received: by 2002:a92:cd8b:0:b0:3d5:deaf:b443 with SMTP id e9e14a558f8ab-3db8572814amr28521775ab.3.1747407578085; Fri, 16 May 2025 07:59:38 -0700 (PDT) Received: from postal.iol.unh.edu (postal.iol.unh.edu. [2606:4100:3880:1234::84]) by smtp-relay.gmail.com with ESMTPS id 8926c6da1cb9f-4fbcc49fbf8sm99265173.61.2025.05.16.07.59.37 (version=TLS1_2 cipher=ECDHE-ECDSA-AES128-GCM-SHA256 bits=128/128); Fri, 16 May 2025 07:59:38 -0700 (PDT) X-Relaying-Domain: iol.unh.edu Date: Fri, 16 May 2025 07:59:38 -0700 (PDT) Message-ID: <682752da.050a0220.315adc.53a3SMTPIN_ADDED_MISSING@mx.google.com> Received: from [172.21.0.6] (unknown [172.18.0.240]) by postal.iol.unh.edu (Postfix) with ESMTP id 63D986052471; Fri, 16 May 2025 10:59:37 -0400 (EDT) Subject: |SUCCESS| pw153476-153480 [PATCH] [v4,9/9] app/test: add zsda crypto From: dpdklab@iol.unh.edu To: Test Report Cc: dpdk-test-reports@iol.unh.edu In-Reply-To: <20250516072752.1971299-10-li.hanxiao@zte.com.cn> References: <20250516072752.1971299-10-li.hanxiao@zte.com.cn> Content-Type: text/plain X-BeenThere: test-report@dpdk.org X-Mailman-Version: 2.1.29 Precedence: list List-Id: automatic DPDK test reports List-Unsubscribe: , List-Archive: List-Post: List-Help: List-Subscribe: , Errors-To: test-report-bounces@dpdk.org Test-Label: iol-compile-amd64-testing Test-Status: SUCCESS http://dpdk.org/patch/153480 _Testing PASS_ Submitter: Hanxiao Li Date: Friday, May 16 2025 07:27:51 DPDK git baseline: Repo:dpdk Branch: master CommitID:dcf9f9363aa9b4163d241caf8b26a84ca0c0006b 153476-153480 --> testing pass Upstream job id: Generic-DPDK-Compile-Meson#388689 Test environment and result as below: +-----------------------------------+--------------------+-------------------+------------------+-------------------------+----------------------+ | Environment | dpdk_meson_compile | dpdk_compile_spdk | dpdk_compile_ovs | dpdk_llvm_clang_compile | dpdk_mingw64_compile | +===================================+====================+===================+==================+=========================+======================+ | CentOS Stream 9 | PASS | PASS | SKIPPED | SKIPPED | SKIPPED | +-----------------------------------+--------------------+-------------------+------------------+-------------------------+----------------------+ | Debian 12 | PASS | PASS | SKIPPED | SKIPPED | SKIPPED | +-----------------------------------+--------------------+-------------------+------------------+-------------------------+----------------------+ | CentOS Stream 10 | PASS | SKIPPED | SKIPPED | SKIPPED | SKIPPED | +-----------------------------------+--------------------+-------------------+------------------+-------------------------+----------------------+ | Fedora 40 (Clang) | PASS | PASS | SKIPPED | SKIPPED | SKIPPED | +-----------------------------------+--------------------+-------------------+------------------+-------------------------+----------------------+ | Fedora 41 | PASS | PASS | PASS | SKIPPED | SKIPPED | +-----------------------------------+--------------------+-------------------+------------------+-------------------------+----------------------+ | openSUSE Leap 15 | PASS | SKIPPED | SKIPPED | SKIPPED | SKIPPED | +-----------------------------------+--------------------+-------------------+------------------+-------------------------+----------------------+ | RHEL8 | PASS | SKIPPED | SKIPPED | SKIPPED | SKIPPED | +-----------------------------------+--------------------+-------------------+------------------+-------------------------+----------------------+ | Fedora 41 (Clang) | PASS | PASS | PASS | SKIPPED | SKIPPED | +-----------------------------------+--------------------+-------------------+------------------+-------------------------+----------------------+ | Fedora 40 | PASS | PASS | SKIPPED | SKIPPED | SKIPPED | +-----------------------------------+--------------------+-------------------+------------------+-------------------------+----------------------+ | Ubuntu 22.04 | PASS | PASS | SKIPPED | SKIPPED | SKIPPED | +-----------------------------------+--------------------+-------------------+------------------+-------------------------+----------------------+ | RHEL9 | PASS | SKIPPED | SKIPPED | SKIPPED | SKIPPED | +-----------------------------------+--------------------+-------------------+------------------+-------------------------+----------------------+ | Alpine | PASS | SKIPPED | SKIPPED | SKIPPED | SKIPPED | +-----------------------------------+--------------------+-------------------+------------------+-------------------------+----------------------+ | Ubuntu 20.04 | PASS | SKIPPED | SKIPPED | SKIPPED | SKIPPED | +-----------------------------------+--------------------+-------------------+------------------+-------------------------+----------------------+ | Ubuntu 24.04 | PASS | PASS | PASS | SKIPPED | SKIPPED | +-----------------------------------+--------------------+-------------------+------------------+-------------------------+----------------------+ | Ubuntu 24.04 32 Bit Cross Compile | PASS | SKIPPED | SKIPPED | SKIPPED | SKIPPED | +-----------------------------------+--------------------+-------------------+------------------+-------------------------+----------------------+ | FreeBSD 13.5 | PASS | SKIPPED | SKIPPED | SKIPPED | SKIPPED | +-----------------------------------+--------------------+-------------------+------------------+-------------------------+----------------------+ | FreeBSD 14.2 | PASS | SKIPPED | SKIPPED | SKIPPED | SKIPPED | +-----------------------------------+--------------------+-------------------+------------------+-------------------------+----------------------+ | Windows Server 2022 | SKIPPED | SKIPPED | SKIPPED | PASS | PASS | +-----------------------------------+--------------------+-------------------+------------------+-------------------------+----------------------+ CentOS Stream 9 Kernel: Depends on container host Compiler: gcc 11.5.0 20240719 (Red Hat 11.5.0-2) Debian 12 Kernel: Depends on container host Compiler: gcc (Debian 12.2.0-14) 12.2.0 CentOS Stream 10 Kernel: Depends on container host Compiler: gcc 14.2.1 20241104 (Red Hat 14.2.1-6) Fedora 40 (Clang) Kernel: Depends on container host Compiler: clang 18.1.8 (Fedora 18.1.8-1.fc40) Fedora 41 Kernel: Depends on container host Compiler: gcc 14.2.1 20240912 (Red Hat 14.2.1-3) openSUSE Leap 15 Kernel: Depends on container host Compiler: gcc (SUSE Linux) 7.5.0 RHEL8 Kernel: Depends on container host Compiler: gcc 8.5.0 20210514 (Red Hat 8.5.0-22) Fedora 41 (Clang) Kernel: Depends on container host Compiler: clang 19.1.5 (Fedora 19.1.5-1.fc41) Fedora 40 Kernel: Depends on container host Compiler: gcc 14.2.1 20240912 (Red Hat 14.2.1-3) Ubuntu 22.04 Kernel: Depends on container host Compiler: gcc (Ubuntu 11.4.0-1ubuntu1~22.04) 11.4.0 RHEL9 Kernel: Depends on container host Compiler: gcc 11.5.0 20240719 (Red Hat 11.5.0-2) Alpine Kernel: Depends on container host Compiler: gcc (Alpine 14.2.0) 14.2.0 Ubuntu 20.04 Kernel: Depends on container host Compiler: gcc (Ubuntu 9.4.0-1ubuntu1~20.04.2) 9.4.0 Ubuntu 24.04 Kernel: Depends on container host Compiler: gcc (Ubuntu 13.3.0-6ubuntu2~24.04) 13.3.0 Ubuntu 24.04 32 Bit Cross Compile Kernel: Depends on container host Compiler: gcc (Ubuntu 13.3.0-6ubuntu2~24.04) 13.3.0 FreeBSD 13.5 Kernel: 13.5-RELEASE Compiler: clang 19.1.7 FreeBSD 14.2 Kernel: 14.2-RELEASE Compiler: clang 18.1.6 Windows Server 2022 Kernel: 10.0.20348.2031 Compiler: clang 15.0.7, gcc 14.1.0 (MinGW), and MSVC VS 19.39.33521 To view detailed results, visit: https://lab.dpdk.org/results/dashboard/patchsets/33189/ UNH-IOL DPDK Community Lab To manage your email subscriptions, visit: https://lab.dpdk.org/results/dashboard/preferences/subscriptions/